BEGIN:VCALENDAR
VERSION:2.0
PRODID:-//Ville de Yutz - ECPv6.15.16//NONSGML v1.0//EN
CALSCALE:GREGORIAN
METHOD:PUBLISH
X-ORIGINAL-URL:https://www.ville-yutz.fr
X-WR-CALDESC:Évènements pour Ville de Yutz
REFRESH-INTERVAL;VALUE=DURATION:PT1H
X-Robots-Tag:noindex
X-PUBLISHED-TTL:PT1H
BEGIN:VTIMEZONE
TZID:Europe/Paris
BEGIN:DAYLIGHT
TZOFFSETFROM:+0100
TZOFFSETTO:+0200
TZNAME:CEST
DTSTART:20200329T010000
END:DAYLIGHT
BEGIN:STANDARD
TZOFFSETFROM:+0200
TZOFFSETTO:+0100
TZNAME:CET
DTSTART:20201025T010000
END:STANDARD
BEGIN:DAYLIGHT
TZOFFSETFROM:+0100
TZOFFSETTO:+0200
TZNAME:CEST
DTSTART:20210328T010000
END:DAYLIGHT
BEGIN:STANDARD
TZOFFSETFROM:+0200
TZOFFSETTO:+0100
TZNAME:CET
DTSTART:20211031T010000
END:STANDARD
BEGIN:DAYLIGHT
TZOFFSETFROM:+0100
TZOFFSETTO:+0200
TZNAME:CEST
DTSTART:20220327T010000
END:DAYLIGHT
BEGIN:STANDARD
TZOFFSETFROM:+0200
TZOFFSETTO:+0100
TZNAME:CET
DTSTART:20221030T010000
END:STANDARD
END:VTIMEZONE
BEGIN:VEVENT
DTSTART;TZID=Europe/Paris:20211121T130000
DTEND;TZID=Europe/Paris:20211121T130000
DTSTAMP:20260423T074535
CREATED:20211119T162508Z
LAST-MODIFIED:20211119T162508Z
UID:8483-1637499600-1637499600@www.ville-yutz.fr
SUMMARY:Rugby Séniors Masculin Equipe B - TYGRE / REIMS
DESCRIPTION:
URL:https://www.ville-yutz.fr/event/rugby-seniors-masculin-equipe-b-tygre-reims/
LOCATION:Stade Bernard Vasquez\, Rue de la Moselle\, YUTZ\, 57970\, France
CATEGORIES:Sports
END:VEVENT
BEGIN:VEVENT
DTSTART;TZID=Europe/Paris:20211121T143000
DTEND;TZID=Europe/Paris:20211121T143000
DTSTAMP:20260423T074535
CREATED:20211119T162629Z
LAST-MODIFIED:20211119T162629Z
UID:8485-1637505000-1637505000@www.ville-yutz.fr
SUMMARY:Foot : Seniors D3 US YUTZ 2/Fontoy US 2
DESCRIPTION:
URL:https://www.ville-yutz.fr/event/foot-seniors-d3-us-yutz-2-fontoy-us-2/
LOCATION:Stade de la Forêt\, rue du Stade\, Yutz\, 57970
CATEGORIES:Sports
END:VEVENT
BEGIN:VEVENT
DTSTART;TZID=Europe/Paris:20211121T150000
DTEND;TZID=Europe/Paris:20211121T150000
DTSTAMP:20260423T074535
CREATED:20211119T162739Z
LAST-MODIFIED:20211119T162739Z
UID:8487-1637506800-1637506800@www.ville-yutz.fr
SUMMARY:Rugby Seniors Masculin Equipe A - TYGRE / REIMS
DESCRIPTION:
URL:https://www.ville-yutz.fr/event/rugby-seniors-masculin-equipe-a-tygre-reims/
LOCATION:Stade Bernard Vasquez\, Rue de la Moselle\, YUTZ\, 57970\, France
CATEGORIES:Sports
END:VEVENT
END:VCALENDAR