BEGIN:VCALENDAR
VERSION:2.0
PRODID:-//Ville de Yutz - ECPv6.15.16//NONSGML v1.0//EN
CALSCALE:GREGORIAN
METHOD:PUBLISH
X-WR-CALNAME:Ville de Yutz
X-ORIGINAL-URL:https://www.ville-yutz.fr
X-WR-CALDESC:Évènements pour Ville de Yutz
REFRESH-INTERVAL;VALUE=DURATION:PT1H
X-Robots-Tag:noindex
X-PUBLISHED-TTL:PT1H
BEGIN:VTIMEZONE
TZID:Europe/Paris
BEGIN:DAYLIGHT
TZOFFSETFROM:+0100
TZOFFSETTO:+0200
TZNAME:CEST
DTSTART:20200329T010000
END:DAYLIGHT
BEGIN:STANDARD
TZOFFSETFROM:+0200
TZOFFSETTO:+0100
TZNAME:CET
DTSTART:20201025T010000
END:STANDARD
BEGIN:DAYLIGHT
TZOFFSETFROM:+0100
TZOFFSETTO:+0200
TZNAME:CEST
DTSTART:20210328T010000
END:DAYLIGHT
BEGIN:STANDARD
TZOFFSETFROM:+0200
TZOFFSETTO:+0100
TZNAME:CET
DTSTART:20211031T010000
END:STANDARD
BEGIN:DAYLIGHT
TZOFFSETFROM:+0100
TZOFFSETTO:+0200
TZNAME:CEST
DTSTART:20220327T010000
END:DAYLIGHT
BEGIN:STANDARD
TZOFFSETFROM:+0200
TZOFFSETTO:+0100
TZNAME:CET
DTSTART:20221030T010000
END:STANDARD
END:VTIMEZONE
BEGIN:VEVENT
DTSTART;TZID=Europe/Paris:20211107T100000
DTEND;TZID=Europe/Paris:20211107T100000
DTSTAMP:20260423T074911
CREATED:20211029T161047Z
LAST-MODIFIED:20211029T161653Z
UID:8118-1636279200-1636279200@www.ville-yutz.fr
SUMMARY:Foot : Vétérans loisirs US YUTZ /VEYMERANGE
DESCRIPTION:
URL:https://www.ville-yutz.fr/event/foot-veterans-loisirs-us-yutz-veymerange/
LOCATION:Stade de la Forêt\, rue du Stade\, Yutz\, 57970
CATEGORIES:Sports
END:VEVENT
BEGIN:VEVENT
DTSTART;TZID=Europe/Paris:20211107T130000
DTEND;TZID=Europe/Paris:20211107T130000
DTSTAMP:20260423T074911
CREATED:20211029T161213Z
LAST-MODIFIED:20211029T161213Z
UID:8120-1636290000-1636290000@www.ville-yutz.fr
SUMMARY:Rugby  : Seniors Masculin Equipe B - TYGRE / Pont-à-Mousson
DESCRIPTION:
URL:https://www.ville-yutz.fr/event/rugby-seniors-masculin-equipe-b-tygre-pont-a-mousson/
LOCATION:Stade Bernard Vasquez\, Rue de la Moselle\, YUTZ\, 57970\, France
CATEGORIES:Sports
END:VEVENT
BEGIN:VEVENT
DTSTART;TZID=Europe/Paris:20211107T143000
DTEND;TZID=Europe/Paris:20211107T143000
DTSTAMP:20260423T074911
CREATED:20211029T161330Z
LAST-MODIFIED:20211029T161523Z
UID:8122-1636295400-1636295400@www.ville-yutz.fr
SUMMARY:Foot : Seniors D3 US Yutz 2/Russange US
DESCRIPTION:
URL:https://www.ville-yutz.fr/event/foot-seniors-d3-us-yutz-2-russange-us/
LOCATION:Stade de la Forêt\, rue du Stade\, Yutz\, 57970
CATEGORIES:Sports
END:VEVENT
BEGIN:VEVENT
DTSTART;TZID=Europe/Paris:20211107T150000
DTEND;TZID=Europe/Paris:20211107T150000
DTSTAMP:20260423T074911
CREATED:20211029T161444Z
LAST-MODIFIED:20211029T161623Z
UID:8124-1636297200-1636297200@www.ville-yutz.fr
SUMMARY:Rugby : Seniors Masculin Equipe A - TYGRE / Pont-à-Mousson
DESCRIPTION:
URL:https://www.ville-yutz.fr/event/rugby-seniors-masculin-equipe-a-tygre-pont-a-mousson/
LOCATION:Stade Bernard Vasquez\, Rue de la Moselle\, YUTZ\, 57970\, France
CATEGORIES:Sports
END:VEVENT
END:VCALENDAR