BEGIN:VCALENDAR
VERSION:2.0
PRODID:-//Ville de Yutz - ECPv6.15.16//NONSGML v1.0//EN
CALSCALE:GREGORIAN
METHOD:PUBLISH
X-WR-CALNAME:Ville de Yutz
X-ORIGINAL-URL:https://www.ville-yutz.fr
X-WR-CALDESC:Évènements pour Ville de Yutz
REFRESH-INTERVAL;VALUE=DURATION:PT1H
X-Robots-Tag:noindex
X-PUBLISHED-TTL:PT1H
BEGIN:VTIMEZONE
TZID:Europe/Paris
BEGIN:DAYLIGHT
TZOFFSETFROM:+0100
TZOFFSETTO:+0200
TZNAME:CEST
DTSTART:20200329T010000
END:DAYLIGHT
BEGIN:STANDARD
TZOFFSETFROM:+0200
TZOFFSETTO:+0100
TZNAME:CET
DTSTART:20201025T010000
END:STANDARD
BEGIN:DAYLIGHT
TZOFFSETFROM:+0100
TZOFFSETTO:+0200
TZNAME:CEST
DTSTART:20210328T010000
END:DAYLIGHT
BEGIN:STANDARD
TZOFFSETFROM:+0200
TZOFFSETTO:+0100
TZNAME:CET
DTSTART:20211031T010000
END:STANDARD
BEGIN:DAYLIGHT
TZOFFSETFROM:+0100
TZOFFSETTO:+0200
TZNAME:CEST
DTSTART:20220327T010000
END:DAYLIGHT
BEGIN:STANDARD
TZOFFSETFROM:+0200
TZOFFSETTO:+0100
TZNAME:CET
DTSTART:20221030T010000
END:STANDARD
END:VTIMEZONE
BEGIN:VEVENT
DTSTART;TZID=Europe/Paris:20210926T080000
DTEND;TZID=Europe/Paris:20210926T180000
DTSTAMP:20260423T105025
CREATED:20210813T095216Z
LAST-MODIFIED:20210823T160928Z
UID:7394-1632643200-1632679200@www.ville-yutz.fr
SUMMARY:La Yussoise
DESCRIPTION:
URL:https://www.ville-yutz.fr/event/la-yussoise/
LOCATION:Aéroparc
CATEGORIES:Solidarité,Sports
ATTACH;FMTTYPE=image/jpeg:https://www.ville-yutz.fr/wp-content/uploads/2021/08/2021-09-26-la-yussoise-scaled.jpg
ORGANIZER;CN="Poussi%C3%A8res d'%C3%A9toiles":MAILTO:associationpoussieresdetoiles@gmail.com
END:VEVENT
BEGIN:VEVENT
DTSTART;TZID=Europe/Paris:20210926T100000
DTEND;TZID=Europe/Paris:20210926T100000
DTSTAMP:20260423T105025
CREATED:20210924T151930Z
LAST-MODIFIED:20210924T151930Z
UID:7737-1632650400-1632650400@www.ville-yutz.fr
SUMMARY:FOOT : Championnat Sénior - Yutz Cité 2 / Bertrange 3
DESCRIPTION:
URL:https://www.ville-yutz.fr/event/foot-championnat-senior-yutz-cite-2-bertrange-3/
LOCATION:Stade Denis Muller\, Rue Victor Hugo\, YUTZ\, 57970
CATEGORIES:Sports
END:VEVENT
BEGIN:VEVENT
DTSTART;TZID=Europe/Paris:20210926T100000
DTEND;TZID=Europe/Paris:20210926T170000
DTSTAMP:20260423T105026
CREATED:20210924T152400Z
LAST-MODIFIED:20210924T152400Z
UID:7739-1632650400-1632675600@www.ville-yutz.fr
SUMMARY:Journée Portes ouvertes au centre équestre
DESCRIPTION:
URL:https://www.ville-yutz.fr/event/journee-portes-ouvertes-au-centre-equestre/
LOCATION:Centre équestre\, rue de Poitiers\, YUTZ\, 57970\, France
CATEGORIES:Sports
ATTACH;FMTTYPE=image/png:https://www.ville-yutz.fr/wp-content/uploads/2021/09/2021.09.26-journee-portes-ouvertes-centre-equestre.png
END:VEVENT
BEGIN:VEVENT
DTSTART;TZID=Europe/Paris:20210926T150000
DTEND;TZID=Europe/Paris:20210926T150000
DTSTAMP:20260423T105026
CREATED:20210924T152758Z
LAST-MODIFIED:20210924T152758Z
UID:7742-1632668400-1632668400@www.ville-yutz.fr
SUMMARY:FOOT : Championnat Sénior A - YUTZ / VEYMERANGE
DESCRIPTION:
URL:https://www.ville-yutz.fr/event/foot-championnat-senior-a-yutz-veymerange/
LOCATION:Stade Mermoz
CATEGORIES:Sports
ORGANIZER;CN="FC Yutz":MAILTO:utz.fc@moselle.lgef.fr
END:VEVENT
BEGIN:VEVENT
DTSTART;TZID=Europe/Paris:20210926T150000
DTEND;TZID=Europe/Paris:20210926T150000
DTSTAMP:20260423T105026
CREATED:20210924T152922Z
LAST-MODIFIED:20210924T152922Z
UID:7744-1632668400-1632668400@www.ville-yutz.fr
SUMMARY:FOOT : Championnat Sénior - Yutz Cité / Illange 2
DESCRIPTION:
URL:https://www.ville-yutz.fr/event/foot-championnat-senior-yutz-cite-illange-2/
LOCATION:Stade Denis Muller\, Rue Victor Hugo\, YUTZ\, 57970
CATEGORIES:Sports
END:VEVENT
END:VCALENDAR