BEGIN:VCALENDAR
VERSION:2.0
PRODID:-//Ville de Yutz - ECPv6.15.16//NONSGML v1.0//EN
CALSCALE:GREGORIAN
METHOD:PUBLISH
X-WR-CALNAME:Ville de Yutz
X-ORIGINAL-URL:https://www.ville-yutz.fr
X-WR-CALDESC:Évènements pour Ville de Yutz
REFRESH-INTERVAL;VALUE=DURATION:PT1H
X-Robots-Tag:noindex
X-PUBLISHED-TTL:PT1H
BEGIN:VTIMEZONE
TZID:Europe/Paris
BEGIN:DAYLIGHT
TZOFFSETFROM:+0100
TZOFFSETTO:+0200
TZNAME:CEST
DTSTART:20200329T010000
END:DAYLIGHT
BEGIN:STANDARD
TZOFFSETFROM:+0200
TZOFFSETTO:+0100
TZNAME:CET
DTSTART:20201025T010000
END:STANDARD
BEGIN:DAYLIGHT
TZOFFSETFROM:+0100
TZOFFSETTO:+0200
TZNAME:CEST
DTSTART:20210328T010000
END:DAYLIGHT
BEGIN:STANDARD
TZOFFSETFROM:+0200
TZOFFSETTO:+0100
TZNAME:CET
DTSTART:20211031T010000
END:STANDARD
BEGIN:DAYLIGHT
TZOFFSETFROM:+0100
TZOFFSETTO:+0200
TZNAME:CEST
DTSTART:20220327T010000
END:DAYLIGHT
BEGIN:STANDARD
TZOFFSETFROM:+0200
TZOFFSETTO:+0100
TZNAME:CET
DTSTART:20221030T010000
END:STANDARD
END:VTIMEZONE
BEGIN:VEVENT
DTSTART;TZID=Europe/Paris:20210917T100000
DTEND;TZID=Europe/Paris:20210918T180000
DTSTAMP:20260423T105004
CREATED:20210917T121508Z
LAST-MODIFIED:20210917T121508Z
UID:7683-1631872800-1631988000@www.ville-yutz.fr
SUMMARY:Portes ouvertes du Tygre
DESCRIPTION:
URL:https://www.ville-yutz.fr/event/portes-ouvertes-du-tygre/
LOCATION:Stade Bernard Vasquez\, Rue de la Moselle\, YUTZ\, 57970\, France
CATEGORIES:Sports
ATTACH;FMTTYPE=image/png:https://www.ville-yutz.fr/wp-content/uploads/2021/09/Capture-décran-2021-09-17-à-14.14.48.png
END:VEVENT
BEGIN:VEVENT
DTSTART;TZID=Europe/Paris:20210918T090000
DTEND;TZID=Europe/Paris:20210918T130000
DTSTAMP:20260423T105004
CREATED:20210730T152230Z
LAST-MODIFIED:20210730T152230Z
UID:7021-1631955600-1631970000@www.ville-yutz.fr
SUMMARY:MARCHE NORDIQUE - Journée portes ouvertes
DESCRIPTION:Séances de découverte de la marche nordique. \nDéparts toutes les 15 minutes.
URL:https://www.ville-yutz.fr/event/marche-nordique-journee-portes-ouvertes/
LOCATION:Aéroparc
CATEGORIES:Sports
ORGANIZER;CN="ESTY":MAILTO:esty.athletisme@live.fr
END:VEVENT
BEGIN:VEVENT
DTSTART;TZID=Europe/Paris:20210918T100000
DTEND;TZID=Europe/Paris:20210918T230000
DTSTAMP:20260423T105004
CREATED:20210813T085902Z
LAST-MODIFIED:20210826T152644Z
UID:7359-1631959200-1632006000@www.ville-yutz.fr
SUMMARY:La YETI
DESCRIPTION:11:00 – 13:00\nDépart « Yeti Kids »\n\n\n\n\n\n13:05\nArrivée « Yeti Kids »\n\n\n\n\n\n13:30 – 14:00\nRemise des prix « Yeti Kids »\n\n\n\n\n\n15:00 – 21:00\nDépart « La Yeti »\n\n\n\n\n\n19:00 – 19:45\nConcert rock\n\n\n\n\n\n20:20 – 21:15\nConcert rock alternatif\n\n\n\n\n\n21:45\nDernière arrivée « La Yeti »\n\n\n\n\n\n22:00 – 23:00\nRemise des prix « La Yeti »\n\n\n\nTéléchargez l’arrêté de circulation : https://www.ville-yutz.fr/wp-content/uploads/2021/08/Arrete-temporaire-Yeti-du-18-septembre-2021.pdf
URL:https://www.ville-yutz.fr/event/la-yeti/
LOCATION:Parcours de santé\, Rue de la Forêt\, Yutz\, 57970
CATEGORIES:Sports
ATTACH;FMTTYPE=image/jpeg:https://www.ville-yutz.fr/wp-content/uploads/2021/08/La-Yeti-18-septembre.jpg
ORGANIZER;CN="Club Sportif Cycliste de Yutz":MAILTO:cscyutz@gmail.com
END:VEVENT
END:VCALENDAR