BEGIN:VCALENDAR
VERSION:2.0
PRODID:-//Ville de Yutz - ECPv6.15.16//NONSGML v1.0//EN
CALSCALE:GREGORIAN
METHOD:PUBLISH
X-ORIGINAL-URL:https://www.ville-yutz.fr
X-WR-CALDESC:Évènements pour Ville de Yutz
REFRESH-INTERVAL;VALUE=DURATION:PT1H
X-Robots-Tag:noindex
X-PUBLISHED-TTL:PT1H
BEGIN:VTIMEZONE
TZID:Europe/Paris
BEGIN:DAYLIGHT
TZOFFSETFROM:+0100
TZOFFSETTO:+0200
TZNAME:CEST
DTSTART:20200329T010000
END:DAYLIGHT
BEGIN:STANDARD
TZOFFSETFROM:+0200
TZOFFSETTO:+0100
TZNAME:CET
DTSTART:20201025T010000
END:STANDARD
BEGIN:DAYLIGHT
TZOFFSETFROM:+0100
TZOFFSETTO:+0200
TZNAME:CEST
DTSTART:20210328T010000
END:DAYLIGHT
BEGIN:STANDARD
TZOFFSETFROM:+0200
TZOFFSETTO:+0100
TZNAME:CET
DTSTART:20211031T010000
END:STANDARD
BEGIN:DAYLIGHT
TZOFFSETFROM:+0100
TZOFFSETTO:+0200
TZNAME:CEST
DTSTART:20220327T010000
END:DAYLIGHT
BEGIN:STANDARD
TZOFFSETFROM:+0200
TZOFFSETTO:+0100
TZNAME:CET
DTSTART:20221030T010000
END:STANDARD
END:VTIMEZONE
BEGIN:VEVENT
DTSTART;TZID=Europe/Paris:20210911T090000
DTEND;TZID=Europe/Paris:20210911T110000
DTSTAMP:20260423T121144
CREATED:20210813T082411Z
LAST-MODIFIED:20210813T082411Z
UID:7333-1631350800-1631358000@www.ville-yutz.fr
SUMMARY:Passage du 35e Tour de Moselle
DESCRIPTION:Départ avenue Gabriel Lippmann ; arrivée à hauteur du parking de l’amphY
URL:https://www.ville-yutz.fr/event/passage-du-35e-tour-de-moselle/
LOCATION:L’amphY\, 126 rue de la République\, YUTZ\, 57970\, France
CATEGORIES:Sports
END:VEVENT
BEGIN:VEVENT
DTSTART;TZID=Europe/Paris:20210911T100000
DTEND;TZID=Europe/Paris:20210911T180000
DTSTAMP:20260423T121144
CREATED:20210813T083108Z
LAST-MODIFIED:20210813T083522Z
UID:7335-1631354400-1631383200@www.ville-yutz.fr
SUMMARY:Décathlon - Vital sport
DESCRIPTION:Découverte et initiation gratuite à 35 sports différents. \nAccessible à tous\, non sportifs\, débutants ou sportifs confirmés. \nPass sanitaire et port du masque obligatoire. \n  \n 
URL:https://www.ville-yutz.fr/event/decathlon-vital-sport/
LOCATION:Décathlon Village\, Zac Meilbourg\, Route d'Illange\, Yutz\, 57970
CATEGORIES:Sports
ATTACH;FMTTYPE=image/png:https://www.ville-yutz.fr/wp-content/uploads/2021/08/vital-sport.png
END:VEVENT
END:VCALENDAR