BEGIN:VCALENDAR
VERSION:2.0
PRODID:-//Ville de Yutz - ECPv6.15.16//NONSGML v1.0//EN
CALSCALE:GREGORIAN
METHOD:PUBLISH
X-WR-CALNAME:Ville de Yutz
X-ORIGINAL-URL:https://www.ville-yutz.fr
X-WR-CALDESC:Évènements pour Ville de Yutz
REFRESH-INTERVAL;VALUE=DURATION:PT1H
X-Robots-Tag:noindex
X-PUBLISHED-TTL:PT1H
BEGIN:VTIMEZONE
TZID:Europe/Paris
BEGIN:DAYLIGHT
TZOFFSETFROM:+0100
TZOFFSETTO:+0200
TZNAME:CEST
DTSTART:20200329T010000
END:DAYLIGHT
BEGIN:STANDARD
TZOFFSETFROM:+0200
TZOFFSETTO:+0100
TZNAME:CET
DTSTART:20201025T010000
END:STANDARD
BEGIN:DAYLIGHT
TZOFFSETFROM:+0100
TZOFFSETTO:+0200
TZNAME:CEST
DTSTART:20210328T010000
END:DAYLIGHT
BEGIN:STANDARD
TZOFFSETFROM:+0200
TZOFFSETTO:+0100
TZNAME:CET
DTSTART:20211031T010000
END:STANDARD
BEGIN:DAYLIGHT
TZOFFSETFROM:+0100
TZOFFSETTO:+0200
TZNAME:CEST
DTSTART:20220327T010000
END:DAYLIGHT
BEGIN:STANDARD
TZOFFSETFROM:+0200
TZOFFSETTO:+0100
TZNAME:CET
DTSTART:20221030T010000
END:STANDARD
END:VTIMEZONE
BEGIN:VEVENT
DTSTART;VALUE=DATE:20210802
DTEND;VALUE=DATE:20210809
DTSTAMP:20260423T132006
CREATED:20210730T202751Z
LAST-MODIFIED:20210730T212321Z
UID:7035-1627862400-1628467199@www.ville-yutz.fr
SUMMARY:Yutz plage - programme du 2 au 8 août 2021
DESCRIPTION:
URL:https://www.ville-yutz.fr/event/yutz-plage-programme-du-2-au-8-aout-2021/
LOCATION:Berges de la Moselle Yutz
CATEGORIES:Culture,Jeunesse,Sports
ATTACH;FMTTYPE=image/jpeg:https://www.ville-yutz.fr/wp-content/uploads/2021/07/prog-2-au-8-aout.jpg
ORGANIZER;CN="Ville de Yutz":MAILTO:yutz@mairie-yutz.fr
END:VEVENT
END:VCALENDAR