BEGIN:VCALENDAR
VERSION:2.0
PRODID:-//Ville de Yutz - ECPv6.15.16//NONSGML v1.0//EN
CALSCALE:GREGORIAN
METHOD:PUBLISH
X-ORIGINAL-URL:https://www.ville-yutz.fr
X-WR-CALDESC:Évènements pour Ville de Yutz
REFRESH-INTERVAL;VALUE=DURATION:PT1H
X-Robots-Tag:noindex
X-PUBLISHED-TTL:PT1H
BEGIN:VTIMEZONE
TZID:Europe/Paris
BEGIN:DAYLIGHT
TZOFFSETFROM:+0100
TZOFFSETTO:+0200
TZNAME:CEST
DTSTART:20250330T010000
END:DAYLIGHT
BEGIN:STANDARD
TZOFFSETFROM:+0200
TZOFFSETTO:+0100
TZNAME:CET
DTSTART:20251026T010000
END:STANDARD
BEGIN:DAYLIGHT
TZOFFSETFROM:+0100
TZOFFSETTO:+0200
TZNAME:CEST
DTSTART:20260329T010000
END:DAYLIGHT
BEGIN:STANDARD
TZOFFSETFROM:+0200
TZOFFSETTO:+0100
TZNAME:CET
DTSTART:20261025T010000
END:STANDARD
BEGIN:DAYLIGHT
TZOFFSETFROM:+0100
TZOFFSETTO:+0200
TZNAME:CEST
DTSTART:20270328T010000
END:DAYLIGHT
BEGIN:STANDARD
TZOFFSETFROM:+0200
TZOFFSETTO:+0100
TZNAME:CET
DTSTART:20271031T010000
END:STANDARD
END:VTIMEZONE
BEGIN:VEVENT
DTSTART;VALUE=DATE:20260501
DTEND;VALUE=DATE:20260502
DTSTAMP:20260419T172709
CREATED:20260416T162332Z
LAST-MODIFIED:20260416T162332Z
UID:49061-1777593600-1777679999@www.ville-yutz.fr
SUMMARY:CSC Yutz : Judicium Gravel
DESCRIPTION:Judicium Gravel (5ᵉ édition) – Randonnée vélo tout-terrain avec 5 parcours au choix. \nRavitaillements sur les circuits et restauration à l’arrivée. \nInscriptions : 15 € en pré-inscription\, 18 € sur place. \nAmbiance conviviale et produits locaux.
URL:https://www.ville-yutz.fr/event/csc-yutz-judicium-gravel/
LOCATION:Aéroparc
CATEGORIES:Sports
ATTACH;FMTTYPE=image/jpeg:https://www.ville-yutz.fr/wp-content/uploads/2026/04/2026-05-01-judicium-gravel.jpg
ORGANIZER;CN="Club Sportif Cycliste de Yutz":MAILTO:cscyutz@gmail.com
END:VEVENT
BEGIN:VEVENT
DTSTART;TZID=Europe/Paris:20260514T080000
DTEND;TZID=Europe/Paris:20260514T130000
DTSTAMP:20260419T172709
CREATED:20260319T160608Z
LAST-MODIFIED:20260319T160608Z
UID:47977-1778745600-1778763600@www.ville-yutz.fr
SUMMARY:Marche des Trois Clériaux
DESCRIPTION:
URL:https://www.ville-yutz.fr/event/marche-des-trois-cleriaux-3/
LOCATION:Val Joyeux
CATEGORIES:Solidarité,Sports
ATTACH;FMTTYPE=image/jpeg:https://www.ville-yutz.fr/wp-content/uploads/2026/03/2026-05-14-marche-des-3-cleriaux-scaled.jpg
END:VEVENT
END:VCALENDAR