BEGIN:VCALENDAR
VERSION:2.0
PRODID:-//Ville de Yutz - ECPv6.15.16//NONSGML v1.0//EN
CALSCALE:GREGORIAN
METHOD:PUBLISH
X-ORIGINAL-URL:https://www.ville-yutz.fr
X-WR-CALDESC:Évènements pour Ville de Yutz
REFRESH-INTERVAL;VALUE=DURATION:PT1H
X-Robots-Tag:noindex
X-PUBLISHED-TTL:PT1H
BEGIN:VTIMEZONE
TZID:Europe/Paris
BEGIN:DAYLIGHT
TZOFFSETFROM:+0100
TZOFFSETTO:+0200
TZNAME:CEST
DTSTART:20250330T010000
END:DAYLIGHT
BEGIN:STANDARD
TZOFFSETFROM:+0200
TZOFFSETTO:+0100
TZNAME:CET
DTSTART:20251026T010000
END:STANDARD
BEGIN:DAYLIGHT
TZOFFSETFROM:+0100
TZOFFSETTO:+0200
TZNAME:CEST
DTSTART:20260329T010000
END:DAYLIGHT
BEGIN:STANDARD
TZOFFSETFROM:+0200
TZOFFSETTO:+0100
TZNAME:CET
DTSTART:20261025T010000
END:STANDARD
BEGIN:DAYLIGHT
TZOFFSETFROM:+0100
TZOFFSETTO:+0200
TZNAME:CEST
DTSTART:20270328T010000
END:DAYLIGHT
BEGIN:STANDARD
TZOFFSETFROM:+0200
TZOFFSETTO:+0100
TZNAME:CET
DTSTART:20271031T010000
END:STANDARD
END:VTIMEZONE
BEGIN:VEVENT
DTSTART;TZID=Europe/Paris:20260201T083000
DTEND;TZID=Europe/Paris:20260201T130000
DTSTAMP:20260421T203049
CREATED:20260122T164916Z
LAST-MODIFIED:20260122T164916Z
UID:46642-1769934600-1769950800@www.ville-yutz.fr
SUMMARY:ASVB : plateau M11
DESCRIPTION:
URL:https://www.ville-yutz.fr/event/asvb-plateau-m11/
LOCATION:Gymnase Mermoz\, Place de l'Arc-en-Ciel\, YUTZ\, 57970
CATEGORIES:Sports
END:VEVENT
BEGIN:VEVENT
DTSTART;TZID=Europe/Paris:20260207T143000
DTEND;TZID=Europe/Paris:20260207T163000
DTSTAMP:20260421T203049
CREATED:20260203T163618Z
LAST-MODIFIED:20260203T163618Z
UID:46899-1770474600-1770481800@www.ville-yutz.fr
SUMMARY:FC Yutz : U14 / Merlebach
DESCRIPTION:
URL:https://www.ville-yutz.fr/event/fc-yutz-u14-merlebach/
LOCATION:Stade Mermoz
CATEGORIES:Sports
ORGANIZER;CN="FC Yutz":MAILTO:utz.fc@moselle.lgef.fr
END:VEVENT
BEGIN:VEVENT
DTSTART;TZID=Europe/Paris:20260216T080000
DTEND;TZID=Europe/Paris:20260227T170000
DTSTAMP:20260421T203049
CREATED:20260216T151036Z
LAST-MODIFIED:20260216T151036Z
UID:47233-1771228800-1772211600@www.ville-yutz.fr
SUMMARY:Moselle Jeunesse
DESCRIPTION:
URL:https://www.ville-yutz.fr/event/moselle-jeunesse-10/
CATEGORIES:Jeunesse,Sports
ATTACH;FMTTYPE=image/png:https://www.ville-yutz.fr/wp-content/uploads/2026/02/A3-inscriptions-moselle-jeunesse.png
END:VEVENT
BEGIN:VEVENT
DTSTART;TZID=Europe/Paris:20260221T103000
DTEND;TZID=Europe/Paris:20260221T123000
DTSTAMP:20260421T203049
CREATED:20260216T150448Z
LAST-MODIFIED:20260216T150448Z
UID:47225-1771669800-1771677000@www.ville-yutz.fr
SUMMARY:FC Yutz : U10-U11 / Ars sur Moselle
DESCRIPTION:
URL:https://www.ville-yutz.fr/event/fc-yutz-u10-u11-ars-sur-moselle/
LOCATION:Stade Mermoz
CATEGORIES:Sports
ORGANIZER;CN="FC Yutz":MAILTO:utz.fc@moselle.lgef.fr
END:VEVENT
BEGIN:VEVENT
DTSTART;TZID=Europe/Paris:20260221T203000
DTEND;TZID=Europe/Paris:20260221T223000
DTSTAMP:20260421T203049
CREATED:20260216T150611Z
LAST-MODIFIED:20260216T150611Z
UID:47228-1771705800-1771713000@www.ville-yutz.fr
SUMMARY:Yutz Handball N1 / Strasbourg ASPTT
DESCRIPTION:
URL:https://www.ville-yutz.fr/event/yutz-handball-n1-strasbourg-asptt/
LOCATION:Gymnase Saint-Exupéry\, 1 rue du Gymnase\, YUTZ\, 57970\, France
CATEGORIES:Sports
ORGANIZER;CN="Yutz Handball":MAILTO:5657005@ffhandball.net
END:VEVENT
BEGIN:VEVENT
DTSTART;TZID=Europe/Paris:20260222T160000
DTEND;TZID=Europe/Paris:20260222T170000
DTSTAMP:20260421T203049
CREATED:20260216T150804Z
LAST-MODIFIED:20260216T150804Z
UID:47230-1771776000-1771779600@www.ville-yutz.fr
SUMMARY:ASVB : Match NM3 / VBC Kingersheim
DESCRIPTION:
URL:https://www.ville-yutz.fr/event/asvb-match-nm3-vbc-kingersheim/
LOCATION:Gymnase Mermoz\, Place de l'Arc-en-Ciel\, YUTZ\, 57970
CATEGORIES:Sports
END:VEVENT
END:VCALENDAR