BEGIN:VCALENDAR
VERSION:2.0
PRODID:-//Ville de Yutz - ECPv6.15.16//NONSGML v1.0//EN
CALSCALE:GREGORIAN
METHOD:PUBLISH
X-WR-CALNAME:Ville de Yutz
X-ORIGINAL-URL:https://www.ville-yutz.fr
X-WR-CALDESC:Évènements pour Ville de Yutz
REFRESH-INTERVAL;VALUE=DURATION:PT1H
X-Robots-Tag:noindex
X-PUBLISHED-TTL:PT1H
BEGIN:VTIMEZONE
TZID:Europe/Paris
BEGIN:DAYLIGHT
TZOFFSETFROM:+0100
TZOFFSETTO:+0200
TZNAME:CEST
DTSTART:20230326T010000
END:DAYLIGHT
BEGIN:STANDARD
TZOFFSETFROM:+0200
TZOFFSETTO:+0100
TZNAME:CET
DTSTART:20231029T010000
END:STANDARD
BEGIN:DAYLIGHT
TZOFFSETFROM:+0100
TZOFFSETTO:+0200
TZNAME:CEST
DTSTART:20240331T010000
END:DAYLIGHT
BEGIN:STANDARD
TZOFFSETFROM:+0200
TZOFFSETTO:+0100
TZNAME:CET
DTSTART:20241027T010000
END:STANDARD
BEGIN:DAYLIGHT
TZOFFSETFROM:+0100
TZOFFSETTO:+0200
TZNAME:CEST
DTSTART:20250330T010000
END:DAYLIGHT
BEGIN:STANDARD
TZOFFSETFROM:+0200
TZOFFSETTO:+0100
TZNAME:CET
DTSTART:20251026T010000
END:STANDARD
END:VTIMEZONE
BEGIN:VEVENT
DTSTART;TZID=Europe/Paris:20240406T100000
DTEND;TZID=Europe/Paris:20240406T120000
DTSTAMP:20260421T105013
CREATED:20240404T144412Z
LAST-MODIFIED:20240404T144412Z
UID:26807-1712397600-1712404800@www.ville-yutz.fr
SUMMARY:Foot : FC Yutz U11-U10 plateau
DESCRIPTION:
URL:https://www.ville-yutz.fr/event/foot-fc-yutz-u11-u10-plateau/
LOCATION:Stade Mermoz
CATEGORIES:Sports
ORGANIZER;CN="FC Yutz":MAILTO:utz.fc@moselle.lgef.fr
END:VEVENT
BEGIN:VEVENT
DTSTART;TZID=Europe/Paris:20240406T150000
DTEND;TZID=Europe/Paris:20240406T170000
DTSTAMP:20260421T105013
CREATED:20240404T144330Z
LAST-MODIFIED:20240404T144330Z
UID:26805-1712415600-1712422800@www.ville-yutz.fr
SUMMARY:Foot : FC Yutz U15/ Jarville
DESCRIPTION:
URL:https://www.ville-yutz.fr/event/foot-fc-yutz-u15-jarville/
LOCATION:Stade Mermoz
CATEGORIES:Sports
ORGANIZER;CN="FC Yutz":MAILTO:utz.fc@moselle.lgef.fr
END:VEVENT
BEGIN:VEVENT
DTSTART;TZID=Europe/Paris:20240406T170000
DTEND;TZID=Europe/Paris:20240406T190000
DTSTAMP:20260421T105013
CREATED:20240404T144249Z
LAST-MODIFIED:20240404T144249Z
UID:26803-1712422800-1712430000@www.ville-yutz.fr
SUMMARY:Foot : FC Yutz vétérans / Uckange
DESCRIPTION:
URL:https://www.ville-yutz.fr/event/foot-fc-yutz-veterans-uckange/
LOCATION:Stade Mermoz
CATEGORIES:Sports
ORGANIZER;CN="FC Yutz":MAILTO:utz.fc@moselle.lgef.fr
END:VEVENT
BEGIN:VEVENT
DTSTART;TZID=Europe/Paris:20240406T183000
DTEND;TZID=Europe/Paris:20240406T220000
DTSTAMP:20260421T105013
CREATED:20240404T144159Z
LAST-MODIFIED:20240404T144159Z
UID:26801-1712428200-1712440800@www.ville-yutz.fr
SUMMARY:Volley : ASVB Régional F/ Terville Florange
DESCRIPTION:
URL:https://www.ville-yutz.fr/event/volley-asvb-regional-f-terville-florange/
LOCATION:Gymnase Jean Mermoz\, Place de l'Arc-en-ciel\, Yutz\, 57970\, France
CATEGORIES:Sports
END:VEVENT
BEGIN:VEVENT
DTSTART;TZID=Europe/Paris:20240407T140000
DTEND;TZID=Europe/Paris:20240407T180000
DTSTAMP:20260421T105013
CREATED:20240327T114511Z
LAST-MODIFIED:20240327T114511Z
UID:26607-1712498400-1712512800@www.ville-yutz.fr
SUMMARY:Stage Energie Shiatsu
DESCRIPTION:Stage ouvert à tous. Se munir d’une serviette de bains et d’une tenue souple.Tarif 30€Le thème abordé sera l’importance du foie ainsi qu’un atelier d’étirements\, de Makko-Ho et de do in. Cet atelier va permettre de mettre le corps en mouvement et en réceptivité. \n​Ces atelier se feront en deux parties\, composées de la théorie et d’une partie pratique. Le DO IN sera également abordé afin de mettre en pratique des techniques d’auto traitement.
URL:https://www.ville-yutz.fr/event/stage-energie-shiatsu/
LOCATION:Dojo Schuman\, impasse Selver\, Yutz\, 57970
CATEGORIES:Général,Sports
ORGANIZER;CN="Energie Shiatsu":MAILTO:energieshiatsu@hotmail.fr
END:VEVENT
BEGIN:VEVENT
DTSTART;TZID=Europe/Paris:20240413T093000
DTEND;TZID=Europe/Paris:20240413T120000
DTSTAMP:20260421T105013
CREATED:20240410T105908Z
LAST-MODIFIED:20240410T105908Z
UID:27037-1713000600-1713009600@www.ville-yutz.fr
SUMMARY:FC Yutz plateau U8/U9
DESCRIPTION:
URL:https://www.ville-yutz.fr/event/fc-yutz-plateau-u8-u9-4/
LOCATION:Stade Mermoz
CATEGORIES:Sports
ORGANIZER;CN="FC Yutz":MAILTO:utz.fc@moselle.lgef.fr
END:VEVENT
BEGIN:VEVENT
DTSTART;TZID=Europe/Paris:20240413T130000
DTEND;TZID=Europe/Paris:20240413T150000
DTSTAMP:20260421T105013
CREATED:20240410T105651Z
LAST-MODIFIED:20240410T105651Z
UID:27033-1713013200-1713020400@www.ville-yutz.fr
SUMMARY:FC Yutz U13 / Devant les Ponts
DESCRIPTION:
URL:https://www.ville-yutz.fr/event/fc-yutz-u13-devant-les-ponts/
LOCATION:Stade Mermoz
CATEGORIES:Sports
END:VEVENT
BEGIN:VEVENT
DTSTART;TZID=Europe/Paris:20240413T130000
DTEND;TZID=Europe/Paris:20240413T150000
DTSTAMP:20260421T105013
CREATED:20240410T105738Z
LAST-MODIFIED:20240410T105738Z
UID:27035-1713013200-1713020400@www.ville-yutz.fr
SUMMARY:FC Yutz U12 / Guénange
DESCRIPTION:
URL:https://www.ville-yutz.fr/event/fc-yutz-u12-guenange/
LOCATION:Stade Mermoz
CATEGORIES:Sports
ORGANIZER;CN="FC Yutz":MAILTO:utz.fc@moselle.lgef.fr
END:VEVENT
BEGIN:VEVENT
DTSTART;TZID=Europe/Paris:20240413T150000
DTEND;TZID=Europe/Paris:20240413T170000
DTSTAMP:20260421T105013
CREATED:20240410T105309Z
LAST-MODIFIED:20240410T105309Z
UID:27027-1713020400-1713027600@www.ville-yutz.fr
SUMMARY:TYGRE: M16 1/2 finale Grand Est
DESCRIPTION:
URL:https://www.ville-yutz.fr/event/tygre-m16-1-2-finale-grand-est/
LOCATION:Stade Bernard Vasquez\, Rue de la Moselle\, YUTZ\, 57970\, France
CATEGORIES:Sports
END:VEVENT
BEGIN:VEVENT
DTSTART;TZID=Europe/Paris:20240413T150000
DTEND;TZID=Europe/Paris:20240413T170000
DTSTAMP:20260421T105013
CREATED:20240410T105414Z
LAST-MODIFIED:20240410T105414Z
UID:27029-1713020400-1713027600@www.ville-yutz.fr
SUMMARY:FC Yutz U14 / Marange
DESCRIPTION:
URL:https://www.ville-yutz.fr/event/fc-yutz-u14-marange/
LOCATION:Stade Mermoz
CATEGORIES:Sports
ORGANIZER;CN="FC Yutz":MAILTO:utz.fc@moselle.lgef.fr
END:VEVENT
BEGIN:VEVENT
DTSTART;TZID=Europe/Paris:20240413T160000
DTEND;TZID=Europe/Paris:20240413T180000
DTSTAMP:20260421T105013
CREATED:20240410T105503Z
LAST-MODIFIED:20240410T105503Z
UID:27031-1713024000-1713031200@www.ville-yutz.fr
SUMMARY:FC Yutz - Championnat U18 / Amnéville CSO
DESCRIPTION:
URL:https://www.ville-yutz.fr/event/fc-yutz-championnat-u18-amneville-cso/
LOCATION:Stade Mermoz
CATEGORIES:Sports
ORGANIZER;CN="FC Yutz":MAILTO:utz.fc@moselle.lgef.fr
END:VEVENT
BEGIN:VEVENT
DTSTART;TZID=Europe/Paris:20240414T100000
DTEND;TZID=Europe/Paris:20240414T120000
DTSTAMP:20260421T105013
CREATED:20240410T110017Z
LAST-MODIFIED:20240410T110017Z
UID:27039-1713088800-1713096000@www.ville-yutz.fr
SUMMARY:US Yutz - Championnat séniors D3 / Remeling
DESCRIPTION:
URL:https://www.ville-yutz.fr/event/us-yutz-championnat-seniors-d3-remeling/
LOCATION:Stade de la Forêt\, rue du Stade\, Yutz\, 57970
CATEGORIES:Sports
END:VEVENT
BEGIN:VEVENT
DTSTART;TZID=Europe/Paris:20240414T150000
DTEND;TZID=Europe/Paris:20240414T170000
DTSTAMP:20260421T105013
CREATED:20240410T110107Z
LAST-MODIFIED:20240410T110107Z
UID:27041-1713106800-1713114000@www.ville-yutz.fr
SUMMARY:US Yutz - Championnat /St Avold EN
DESCRIPTION:
URL:https://www.ville-yutz.fr/event/us-yutz-championnat-st-avold-en/
LOCATION:Stade de la Forêt\, rue du Stade\, Yutz\, 57970
CATEGORIES:Sports
END:VEVENT
BEGIN:VEVENT
DTSTART;TZID=Europe/Paris:20240414T150000
DTEND;TZID=Europe/Paris:20240414T170000
DTSTAMP:20260421T105013
CREATED:20240410T110149Z
LAST-MODIFIED:20240410T110149Z
UID:27043-1713106800-1713114000@www.ville-yutz.fr
SUMMARY:FC Yutz - Championnat /Hettange Grande FC
DESCRIPTION:
URL:https://www.ville-yutz.fr/event/fc-yutz-championnat-hettange-grande-fc/
LOCATION:Stade Mermoz
CATEGORIES:Sports
ORGANIZER;CN="FC Yutz":MAILTO:utz.fc@moselle.lgef.fr
END:VEVENT
BEGIN:VEVENT
DTSTART;TZID=Europe/Paris:20240414T150000
DTEND;TZID=Europe/Paris:20240414T170000
DTSTAMP:20260421T105013
CREATED:20240410T110458Z
LAST-MODIFIED:20240410T110458Z
UID:27047-1713106800-1713114000@www.ville-yutz.fr
SUMMARY:TYGRE : challenge de France Yutz/Mulhouse
DESCRIPTION:
URL:https://www.ville-yutz.fr/event/tygre-challenge-de-france-yutz-mulhouse/
LOCATION:Stade Bernard Vasquez\, Rue de la Moselle\, YUTZ\, 57970\, France
CATEGORIES:Sports
END:VEVENT
BEGIN:VEVENT
DTSTART;TZID=Europe/Paris:20240414T153000
DTEND;TZID=Europe/Paris:20240414T170000
DTSTAMP:20260421T105013
CREATED:20240410T110246Z
LAST-MODIFIED:20240410T110246Z
UID:27045-1713108600-1713114000@www.ville-yutz.fr
SUMMARY:JSA Yutz Cité - Championnat séniors D3 / Hagondange
DESCRIPTION:
URL:https://www.ville-yutz.fr/event/jsa-yutz-cite-championnat-seniors-d3-hagondange/
LOCATION:Stade de la Forêt\, rue du Stade\, Yutz\, 57970
CATEGORIES:Sports
END:VEVENT
BEGIN:VEVENT
DTSTART;TZID=Europe/Paris:20240420T100000
DTEND;TZID=Europe/Paris:20240420T120000
DTSTAMP:20260421T105013
CREATED:20240419T120030Z
LAST-MODIFIED:20240419T120030Z
UID:27779-1713607200-1713614400@www.ville-yutz.fr
SUMMARY:FC Yutz U11-U10 plateau
DESCRIPTION:
URL:https://www.ville-yutz.fr/event/fc-yutz-u11-u10-plateau/
LOCATION:Stade Mermoz
CATEGORIES:Sports
ORGANIZER;CN="FC Yutz":MAILTO:utz.fc@moselle.lgef.fr
END:VEVENT
BEGIN:VEVENT
DTSTART;TZID=Europe/Paris:20240420T130000
DTEND;TZID=Europe/Paris:20240420T150000
DTSTAMP:20260421T105013
CREATED:20240419T120108Z
LAST-MODIFIED:20240419T120108Z
UID:27781-1713618000-1713625200@www.ville-yutz.fr
SUMMARY:FC Yutz U13-U12 / Rosselange
DESCRIPTION:
URL:https://www.ville-yutz.fr/event/fc-yutz-u13-u12-rosselange/
LOCATION:Stade Mermoz
CATEGORIES:Sports
ORGANIZER;CN="FC Yutz":MAILTO:utz.fc@moselle.lgef.fr
END:VEVENT
BEGIN:VEVENT
DTSTART;TZID=Europe/Paris:20240420T130000
DTEND;TZID=Europe/Paris:20240420T150000
DTSTAMP:20260421T105013
CREATED:20240419T120943Z
LAST-MODIFIED:20240419T120943Z
UID:27783-1713618000-1713625200@www.ville-yutz.fr
SUMMARY:FC Yutz U13F / Woippy
DESCRIPTION:
URL:https://www.ville-yutz.fr/event/fc-yutz-u13f-woippy/
LOCATION:Stade Mermoz
CATEGORIES:Sports
ORGANIZER;CN="FC Yutz":MAILTO:utz.fc@moselle.lgef.fr
END:VEVENT
BEGIN:VEVENT
DTSTART;TZID=Europe/Paris:20240420T150000
DTEND;TZID=Europe/Paris:20240420T170000
DTSTAMP:20260421T105013
CREATED:20240419T121301Z
LAST-MODIFIED:20240419T121301Z
UID:27788-1713625200-1713632400@www.ville-yutz.fr
SUMMARY:FC Yutz U15 / Amneville
DESCRIPTION:
URL:https://www.ville-yutz.fr/event/fc-yutz-u15-amneville/
LOCATION:Stade Mermoz
CATEGORIES:Sports
ORGANIZER;CN="FC Yutz":MAILTO:utz.fc@moselle.lgef.fr
END:VEVENT
BEGIN:VEVENT
DTSTART;TZID=Europe/Paris:20240420T190000
DTEND;TZID=Europe/Paris:20240421T000000
DTSTAMP:20260421T105013
CREATED:20240305T102549Z
LAST-MODIFIED:20240305T102549Z
UID:25941-1713639600-1713657600@www.ville-yutz.fr
SUMMARY:BATTLE MIX - compétition internationale de danses urbaines
DESCRIPTION:
URL:https://www.ville-yutz.fr/event/battle-mix-competition-internationale-de-danses-urbaines/
LOCATION:Gymnase Jean Mermoz\, Place de l'Arc-en-ciel\, Yutz\, 57970\, France
CATEGORIES:Culture,Sports
ATTACH;FMTTYPE=image/jpeg:https://www.ville-yutz.fr/wp-content/uploads/2024/03/2024-04-20-Affiche-Battle-Mix-scaled.jpg
END:VEVENT
BEGIN:VEVENT
DTSTART;TZID=Europe/Paris:20240420T203000
DTEND;TZID=Europe/Paris:20240420T203000
DTSTAMP:20260421T105013
CREATED:20240419T121343Z
LAST-MODIFIED:20240419T121343Z
UID:27790-1713645000-1713645000@www.ville-yutz.fr
SUMMARY:Yutz Handball  - Match N1 F/Besançon
DESCRIPTION:
URL:https://www.ville-yutz.fr/event/yutz-handball-match-n1-f-besancon/
LOCATION:Gymnase Saint-Exupéry\, 1 rue du Gymnase\, YUTZ\, 57970\, France
CATEGORIES:Sports
ORGANIZER;CN="Yutz Handball":MAILTO:5657005@ffhandball.net
END:VEVENT
BEGIN:VEVENT
DTSTART;TZID=Europe/Paris:20240421T150000
DTEND;TZID=Europe/Paris:20240421T170000
DTSTAMP:20260421T105013
CREATED:20240419T121451Z
LAST-MODIFIED:20240419T121451Z
UID:27792-1713711600-1713718800@www.ville-yutz.fr
SUMMARY:US Yutz - Championnat séniors D1 / Basse Ham
DESCRIPTION:
URL:https://www.ville-yutz.fr/event/us-yutz-championnat-seniors-d1-basse-ham/
LOCATION:Stade de la Forêt\, rue du Stade\, Yutz\, 57970
CATEGORIES:Sports
END:VEVENT
BEGIN:VEVENT
DTSTART;TZID=Europe/Paris:20240421T150000
DTEND;TZID=Europe/Paris:20240421T170000
DTSTAMP:20260421T105013
CREATED:20240419T121529Z
LAST-MODIFIED:20240419T121529Z
UID:27794-1713711600-1713718800@www.ville-yutz.fr
SUMMARY:US Yutz - Championnat séniors D2 / Richemont
DESCRIPTION:
URL:https://www.ville-yutz.fr/event/us-yutz-championnat-seniors-d2-richemont/
LOCATION:Stade de la Forêt\, rue du Stade\, Yutz\, 57970
CATEGORIES:Sports
END:VEVENT
BEGIN:VEVENT
DTSTART;TZID=Europe/Paris:20240421T150000
DTEND;TZID=Europe/Paris:20240421T170000
DTSTAMP:20260421T105013
CREATED:20240419T121603Z
LAST-MODIFIED:20240419T121603Z
UID:27796-1713711600-1713718800@www.ville-yutz.fr
SUMMARY:FC Yutz - Championnat Seniors D2 / Cattenom US
DESCRIPTION:
URL:https://www.ville-yutz.fr/event/fc-yutz-championnat-seniors-d2-cattenom-us/
LOCATION:Stade Mermoz
CATEGORIES:Sports
ORGANIZER;CN="FC Yutz":MAILTO:utz.fc@moselle.lgef.fr
END:VEVENT
BEGIN:VEVENT
DTSTART;TZID=Europe/Paris:20240421T150000
DTEND;TZID=Europe/Paris:20240421T170000
DTSTAMP:20260421T105013
CREATED:20240419T121640Z
LAST-MODIFIED:20240419T121640Z
UID:27798-1713711600-1713718800@www.ville-yutz.fr
SUMMARY:FC Yutz U21 / Cattenom
DESCRIPTION:
URL:https://www.ville-yutz.fr/event/fc-yutz-u21-cattenom/
LOCATION:Stade Mermoz
CATEGORIES:Sports
ORGANIZER;CN="FC Yutz":MAILTO:utz.fc@moselle.lgef.fr
END:VEVENT
BEGIN:VEVENT
DTSTART;VALUE=DATE:20240422
DTEND;VALUE=DATE:20240504
DTSTAMP:20260421T105013
CREATED:20240419T122150Z
LAST-MODIFIED:20240419T122150Z
UID:27800-1713744000-1714780799@www.ville-yutz.fr
SUMMARY:Moselle Jeunesse
DESCRIPTION:Moselle jeunesse avril programme \nMoselle jeunesse avril autorisation parentale \nMoselle jeunesse avril inscription aux activités \nMoselle jeunesse avril règlement
URL:https://www.ville-yutz.fr/event/moselle-jeunesse-7/
LOCATION:YUTZ
CATEGORIES:Culture,Jeunesse,Sports
ATTACH;FMTTYPE=image/jpeg:https://www.ville-yutz.fr/wp-content/uploads/2024/04/Moselle-jeunesse-avril-programme-scaled.jpg
END:VEVENT
BEGIN:VEVENT
DTSTART;TZID=Europe/Paris:20240427T110000
DTEND;TZID=Europe/Paris:20240427T180000
DTSTAMP:20260421T105013
CREATED:20240419T153344Z
LAST-MODIFIED:20240419T153344Z
UID:27822-1714215600-1714240800@www.ville-yutz.fr
SUMMARY:ESTY - Meeting Inter Frontières Yutz
DESCRIPTION:
URL:https://www.ville-yutz.fr/event/esty-meeting-inter-frontieres-yutz/
LOCATION:Stade Mermoz
CATEGORIES:Sports
ATTACH;FMTTYPE=image/jpeg:https://www.ville-yutz.fr/wp-content/uploads/2024/04/2024-04-27-meeting-interfrontieres-scaled.jpg
ORGANIZER;CN="ESTY":MAILTO:esty.athletisme@live.fr
END:VEVENT
BEGIN:VEVENT
DTSTART;TZID=Europe/Paris:20240427T200000
DTEND;TZID=Europe/Paris:20240427T220000
DTSTAMP:20260421T105013
CREATED:20240419T153451Z
LAST-MODIFIED:20240419T153451Z
UID:27825-1714248000-1714255200@www.ville-yutz.fr
SUMMARY:JSA - Seniors D3 / Sérémange RS
DESCRIPTION:
URL:https://www.ville-yutz.fr/event/jsa-seniors-d3-seremange-rs/
LOCATION:Stade Denis Muller\, Rue Victor Hugo\, YUTZ\, 57970
CATEGORIES:Sports
END:VEVENT
BEGIN:VEVENT
DTSTART;TZID=Europe/Paris:20240427T200000
DTEND;TZID=Europe/Paris:20240427T220000
DTSTAMP:20260421T105013
CREATED:20240419T153551Z
LAST-MODIFIED:20240419T153551Z
UID:27827-1714248000-1714255200@www.ville-yutz.fr
SUMMARY:JSA Yutz Cité - Championnat séniors D3 / Hagondange
DESCRIPTION:
URL:https://www.ville-yutz.fr/event/jsa-yutz-cite-championnat-seniors-d3-hagondange-2/
LOCATION:Stade de la Forêt\, rue du Stade\, Yutz\, 57970
CATEGORIES:Sports
END:VEVENT
END:VCALENDAR