BEGIN:VCALENDAR
VERSION:2.0
PRODID:-//Ville de Yutz - ECPv6.15.16//NONSGML v1.0//EN
CALSCALE:GREGORIAN
METHOD:PUBLISH
X-WR-CALNAME:Ville de Yutz
X-ORIGINAL-URL:https://www.ville-yutz.fr
X-WR-CALDESC:Évènements pour Ville de Yutz
REFRESH-INTERVAL;VALUE=DURATION:PT1H
X-Robots-Tag:noindex
X-PUBLISHED-TTL:PT1H
BEGIN:VTIMEZONE
TZID:Europe/Paris
BEGIN:DAYLIGHT
TZOFFSETFROM:+0100
TZOFFSETTO:+0200
TZNAME:CEST
DTSTART:20230326T010000
END:DAYLIGHT
BEGIN:STANDARD
TZOFFSETFROM:+0200
TZOFFSETTO:+0100
TZNAME:CET
DTSTART:20231029T010000
END:STANDARD
BEGIN:DAYLIGHT
TZOFFSETFROM:+0100
TZOFFSETTO:+0200
TZNAME:CEST
DTSTART:20240331T010000
END:DAYLIGHT
BEGIN:STANDARD
TZOFFSETFROM:+0200
TZOFFSETTO:+0100
TZNAME:CET
DTSTART:20241027T010000
END:STANDARD
BEGIN:DAYLIGHT
TZOFFSETFROM:+0100
TZOFFSETTO:+0200
TZNAME:CEST
DTSTART:20250330T010000
END:DAYLIGHT
BEGIN:STANDARD
TZOFFSETFROM:+0200
TZOFFSETTO:+0100
TZNAME:CET
DTSTART:20251026T010000
END:STANDARD
END:VTIMEZONE
BEGIN:VEVENT
DTSTART;TZID=Europe/Paris:20240303T100000
DTEND;TZID=Europe/Paris:20240303T120000
DTSTAMP:20260421T122644
CREATED:20240228T090037Z
LAST-MODIFIED:20240228T090037Z
UID:25822-1709460000-1709467200@www.ville-yutz.fr
SUMMARY:US Yutz - Championnat séniors D3 / Malancourt
DESCRIPTION:
URL:https://www.ville-yutz.fr/event/us-yutz-championnat-seniors-d3-malancourt/
LOCATION:Stade de la Forêt\, rue du Stade\, Yutz\, 57970
CATEGORIES:Sports
END:VEVENT
BEGIN:VEVENT
DTSTART;TZID=Europe/Paris:20240303T143000
DTEND;TZID=Europe/Paris:20240303T163000
DTSTAMP:20260421T122644
CREATED:20240228T090345Z
LAST-MODIFIED:20240228T090345Z
UID:25824-1709476200-1709483400@www.ville-yutz.fr
SUMMARY:FC Yutz - Championnat Senior 2 / Hagondange
DESCRIPTION:
URL:https://www.ville-yutz.fr/event/fc-yutz-championnat-senior-2-hagondange/
LOCATION:Stade Mermoz
CATEGORIES:Sports
ORGANIZER;CN="FC Yutz":MAILTO:utz.fc@moselle.lgef.fr
END:VEVENT
BEGIN:VEVENT
DTSTART;TZID=Europe/Paris:20240303T143000
DTEND;TZID=Europe/Paris:20240303T163000
DTSTAMP:20260421T122644
CREATED:20240301T131801Z
LAST-MODIFIED:20240301T131801Z
UID:25914-1709476200-1709483400@www.ville-yutz.fr
SUMMARY:Championnat séniors 2 / Hagondange
DESCRIPTION:
URL:https://www.ville-yutz.fr/event/championnat-seniors-2-hagondange/
LOCATION:Stade Mermoz
CATEGORIES:Sports
ORGANIZER;CN="FC Yutz":MAILTO:utz.fc@moselle.lgef.fr
END:VEVENT
BEGIN:VEVENT
DTSTART;TZID=Europe/Paris:20240303T150000
DTEND;TZID=Europe/Paris:20240303T170000
DTSTAMP:20260421T122644
CREATED:20240228T090539Z
LAST-MODIFIED:20240228T090539Z
UID:25826-1709478000-1709485200@www.ville-yutz.fr
SUMMARY:US Yutz - Championnat séniors D2 / Soetrich
DESCRIPTION:
URL:https://www.ville-yutz.fr/event/us-yutz-championnat-seniors-d2-soetrich/
LOCATION:Stade de la Forêt\, rue du Stade\, Yutz\, 57970
CATEGORIES:Sports
END:VEVENT
BEGIN:VEVENT
DTSTART;TZID=Europe/Paris:20240303T150000
DTEND;TZID=Europe/Paris:20240303T170000
DTSTAMP:20260421T122644
CREATED:20240301T131927Z
LAST-MODIFIED:20240301T131927Z
UID:25916-1709478000-1709485200@www.ville-yutz.fr
SUMMARY:Championnat séniors D2 / Soetrich
DESCRIPTION:
URL:https://www.ville-yutz.fr/event/championnat-seniors-d2-soetrich/
LOCATION:Stade de la Forêt\, rue du Stade\, Yutz\, 57970
CATEGORIES:Sports
END:VEVENT
BEGIN:VEVENT
DTSTART;TZID=Europe/Paris:20240306T080000
DTEND;TZID=Europe/Paris:20240306T170000
DTSTAMP:20260421T122644
CREATED:20240306T132517Z
LAST-MODIFIED:20240306T132517Z
UID:26052-1709712000-1709744400@www.ville-yutz.fr
SUMMARY:FC Yutz - Championnat séniors D2 / Guentrange US
DESCRIPTION:
URL:https://www.ville-yutz.fr/event/fc-yutz-championnat-seniors-d2-guentrange-us/
LOCATION:Stade Mermoz
CATEGORIES:Sports
ORGANIZER;CN="FC Yutz":MAILTO:utz.fc@moselle.lgef.fr
END:VEVENT
BEGIN:VEVENT
DTSTART;TZID=Europe/Paris:20240306T140000
DTEND;TZID=Europe/Paris:20240306T160000
DTSTAMP:20260421T122644
CREATED:20240306T130957Z
LAST-MODIFIED:20240306T130957Z
UID:26038-1709733600-1709740800@www.ville-yutz.fr
SUMMARY:FC Yutz - Championnat GB
DESCRIPTION:
URL:https://www.ville-yutz.fr/event/fc-yutz-championnat-gb/
LOCATION:Stade Mermoz
CATEGORIES:Sports
ORGANIZER;CN="FC Yutz":MAILTO:utz.fc@moselle.lgef.fr
END:VEVENT
BEGIN:VEVENT
DTSTART;TZID=Europe/Paris:20240309T100000
DTEND;TZID=Europe/Paris:20240309T123000
DTSTAMP:20260421T122644
CREATED:20240306T131331Z
LAST-MODIFIED:20240306T131331Z
UID:26040-1709978400-1709987400@www.ville-yutz.fr
SUMMARY:FC Yutz - Championnat U11-U10 2
DESCRIPTION:
URL:https://www.ville-yutz.fr/event/fc-yutz-championnat-u11-u10-2/
LOCATION:Stade Mermoz
CATEGORIES:Sports
ORGANIZER;CN="FC Yutz":MAILTO:utz.fc@moselle.lgef.fr
END:VEVENT
BEGIN:VEVENT
DTSTART;TZID=Europe/Paris:20240309T130000
DTEND;TZID=Europe/Paris:20240309T150000
DTSTAMP:20260421T122644
CREATED:20240306T131550Z
LAST-MODIFIED:20240306T131550Z
UID:26044-1709989200-1709996400@www.ville-yutz.fr
SUMMARY:FC Yutz - Championnat U13 1 / Rombas
DESCRIPTION:
URL:https://www.ville-yutz.fr/event/fc-yutz-championnat-u13-1-rombas/
LOCATION:Stade Mermoz
CATEGORIES:Sports
ORGANIZER;CN="FC Yutz":MAILTO:utz.fc@moselle.lgef.fr
END:VEVENT
BEGIN:VEVENT
DTSTART;TZID=Europe/Paris:20240309T150000
DTEND;TZID=Europe/Paris:20240309T170000
DTSTAMP:20260421T122644
CREATED:20240306T131651Z
LAST-MODIFIED:20240306T131651Z
UID:26046-1709996400-1710003600@www.ville-yutz.fr
SUMMARY:FC Yutz - Championnat U14 / Algrange
DESCRIPTION:
URL:https://www.ville-yutz.fr/event/fc-yutz-championnat-u14-algrange/
LOCATION:Stade Mermoz
CATEGORIES:Sports
ORGANIZER;CN="FC Yutz":MAILTO:utz.fc@moselle.lgef.fr
END:VEVENT
BEGIN:VEVENT
DTSTART;TZID=Europe/Paris:20240309T160000
DTEND;TZID=Europe/Paris:20240309T180000
DTSTAMP:20260421T122644
CREATED:20240228T091836Z
LAST-MODIFIED:20240228T091836Z
UID:25833-1710000000-1710007200@www.ville-yutz.fr
SUMMARY:FC Yutz - Championnat U18 / Thierville US38
DESCRIPTION:
URL:https://www.ville-yutz.fr/event/fc-yutz-championnat-u18-thierville-us38/
LOCATION:Stade Mermoz
CATEGORIES:Sports
ORGANIZER;CN="FC Yutz":MAILTO:utz.fc@moselle.lgef.fr
END:VEVENT
BEGIN:VEVENT
DTSTART;TZID=Europe/Paris:20240310T090000
DTEND;TZID=Europe/Paris:20240310T160000
DTSTAMP:20260421T122644
CREATED:20240308T165340Z
LAST-MODIFIED:20240308T165340Z
UID:26100-1710061200-1710086400@www.ville-yutz.fr
SUMMARY:Société de Gymnastique de Yutz : Original French Contest
DESCRIPTION:
URL:https://www.ville-yutz.fr/event/societe-de-gymnastique-de-yutz-original-french-contest/
LOCATION:Salle Gabriel Antone\, 65 Grand'rue\, YUTZ
CATEGORIES:Sports
ATTACH;FMTTYPE=image/jpeg:https://www.ville-yutz.fr/wp-content/uploads/2024/03/2024-03-10-Original-French-COntest.jpg
ORGANIZER;CN="Soci%C3%A9t%C3%A9 de Gymnastique de Yutz":MAILTO:gymyutz@gmail.com
END:VEVENT
BEGIN:VEVENT
DTSTART;TZID=Europe/Paris:20240310T130000
DTEND;TZID=Europe/Paris:20240310T160000
DTSTAMP:20260421T122644
CREATED:20240306T132154Z
LAST-MODIFIED:20240306T132154Z
UID:26048-1710075600-1710086400@www.ville-yutz.fr
SUMMARY:TYGRE - Match retour génération RE/RC PONT-A-MOUSSON
DESCRIPTION:
URL:https://www.ville-yutz.fr/event/tygre-match-retour-generation-re-rc-pont-a-mousson/
LOCATION:Stade Bernard Vasquez\, Rue de la Moselle\, YUTZ\, 57970\, France
CATEGORIES:Sports
END:VEVENT
BEGIN:VEVENT
DTSTART;TZID=Europe/Paris:20240310T150000
DTEND;TZID=Europe/Paris:20240310T170000
DTSTAMP:20260421T122644
CREATED:20240306T132420Z
LAST-MODIFIED:20240306T132420Z
UID:26050-1710082800-1710090000@www.ville-yutz.fr
SUMMARY:US Yutz - Championnat séniors D1 / Bure Boulange
DESCRIPTION:
URL:https://www.ville-yutz.fr/event/us-yutz-championnat-seniors-d1-bure-boulange/
LOCATION:Stade de la Forêt\, rue du Stade\, Yutz\, 57970
CATEGORIES:Sports
END:VEVENT
BEGIN:VEVENT
DTSTART;TZID=Europe/Paris:20240310T150000
DTEND;TZID=Europe/Paris:20240310T170000
DTSTAMP:20260421T122644
CREATED:20240306T132649Z
LAST-MODIFIED:20240306T132649Z
UID:26054-1710082800-1710090000@www.ville-yutz.fr
SUMMARY:JSA - Séniors D3 / Konacker AS
DESCRIPTION:
URL:https://www.ville-yutz.fr/event/jsa-seniors-d3-konacker-as/
LOCATION:Stade Denis Muller\, Rue Victor Hugo\, YUTZ\, 57970
CATEGORIES:Sports
END:VEVENT
BEGIN:VEVENT
DTSTART;TZID=Europe/Paris:20240310T150000
DTEND;TZID=Europe/Paris:20240310T170000
DTSTAMP:20260421T122644
CREATED:20240308T165821Z
LAST-MODIFIED:20240308T165821Z
UID:26106-1710082800-1710090000@www.ville-yutz.fr
SUMMARY:FC Yutz - Championnat séniors D2 / Guentrange US
DESCRIPTION:
URL:https://www.ville-yutz.fr/event/fc-yutz-championnat-seniors-d2-guentrange-us-2/
LOCATION:Stade Mermoz
CATEGORIES:Sports
ORGANIZER;CN="FC Yutz":MAILTO:utz.fc@moselle.lgef.fr
END:VEVENT
BEGIN:VEVENT
DTSTART;TZID=Europe/Paris:20240313T080000
DTEND;TZID=Europe/Paris:20240313T180000
DTSTAMP:20260421T122644
CREATED:20240306T132930Z
LAST-MODIFIED:20240306T132930Z
UID:26056-1710316800-1710352800@www.ville-yutz.fr
SUMMARY:Yutz Handball - Match 16F / Sarrebourg 16 F
DESCRIPTION:
URL:https://www.ville-yutz.fr/event/yutz-handball-match-16f-sarrebourg-16-f/
LOCATION:Gymnase Saint-Exupéry\, 1 rue du Gymnase\, YUTZ\, 57970\, France
CATEGORIES:Sports
ORGANIZER;CN="Yutz Handball":MAILTO:5657005@ffhandball.net
END:VEVENT
BEGIN:VEVENT
DTSTART;VALUE=DATE:20240316
DTEND;VALUE=DATE:20240318
DTSTAMP:20260421T122644
CREATED:20240308T172056Z
LAST-MODIFIED:20240308T172056Z
UID:26123-1710547200-1710719999@www.ville-yutz.fr
SUMMARY:Yutz Passion Cheval : concours hunter
DESCRIPTION:
URL:https://www.ville-yutz.fr/event/yutz-passion-cheval-concours-hunter/
LOCATION:Centre équestre\, rue de Poitiers\, YUTZ\, 57970\, France
CATEGORIES:Sports
END:VEVENT
BEGIN:VEVENT
DTSTART;TZID=Europe/Paris:20240316T100000
DTEND;TZID=Europe/Paris:20240316T120000
DTSTAMP:20260421T122644
CREATED:20240315T170619Z
LAST-MODIFIED:20240315T170619Z
UID:26168-1710583200-1710590400@www.ville-yutz.fr
SUMMARY:FC Yutz Plateau U11-U10 3
DESCRIPTION:
URL:https://www.ville-yutz.fr/event/fc-yutz-plateau-u11-u10-3/
LOCATION:Stade Mermoz
CATEGORIES:Sports
ORGANIZER;CN="FC Yutz":MAILTO:utz.fc@moselle.lgef.fr
END:VEVENT
BEGIN:VEVENT
DTSTART;TZID=Europe/Paris:20240316T130000
DTEND;TZID=Europe/Paris:20240316T150000
DTSTAMP:20260421T122644
CREATED:20240315T170654Z
LAST-MODIFIED:20240315T170654Z
UID:26170-1710594000-1710601200@www.ville-yutz.fr
SUMMARY:FC Yutz Festi foot U13-1 / Amnéville
DESCRIPTION:
URL:https://www.ville-yutz.fr/event/fc-yutz-festi-foot-u13-1-amneville/
LOCATION:Stade Mermoz
CATEGORIES:Sports
ORGANIZER;CN="FC Yutz":MAILTO:utz.fc@moselle.lgef.fr
END:VEVENT
BEGIN:VEVENT
DTSTART;TZID=Europe/Paris:20240316T150000
DTEND;TZID=Europe/Paris:20240316T170000
DTSTAMP:20260421T122644
CREATED:20240315T170732Z
LAST-MODIFIED:20240315T170732Z
UID:26172-1710601200-1710608400@www.ville-yutz.fr
SUMMARY:FC Yutz Championnat U15 / Pagny
DESCRIPTION:
URL:https://www.ville-yutz.fr/event/fc-yutz-championnat-u15-pagny/
LOCATION:Stade Mermoz
CATEGORIES:Sports
ORGANIZER;CN="FC Yutz":MAILTO:utz.fc@moselle.lgef.fr
END:VEVENT
BEGIN:VEVENT
DTSTART;TZID=Europe/Paris:20240316T170000
DTEND;TZID=Europe/Paris:20240316T190000
DTSTAMP:20260421T122644
CREATED:20240315T170809Z
LAST-MODIFIED:20240315T170956Z
UID:26174-1710608400-1710615600@www.ville-yutz.fr
SUMMARY:Vieilles Tiges Match / Homécourt
DESCRIPTION:
URL:https://www.ville-yutz.fr/event/vieilles-tiges-match-homecourt/
LOCATION:Stade Mermoz
CATEGORIES:Sports
END:VEVENT
BEGIN:VEVENT
DTSTART;TZID=Europe/Paris:20240316T170000
DTEND;TZID=Europe/Paris:20240316T190000
DTSTAMP:20260421T122644
CREATED:20240315T170903Z
LAST-MODIFIED:20240315T170914Z
UID:26176-1710608400-1710615600@www.ville-yutz.fr
SUMMARY:FC Yutz Amical Vétérans / Homécourt
DESCRIPTION:
URL:https://www.ville-yutz.fr/event/fc-yutz-amical-veterans-homecourt/
LOCATION:Stade Mermoz
CATEGORIES:Sports
ORGANIZER;CN="FC Yutz":MAILTO:utz.fc@moselle.lgef.fr
END:VEVENT
BEGIN:VEVENT
DTSTART;TZID=Europe/Paris:20240317T100000
DTEND;TZID=Europe/Paris:20240317T120000
DTSTAMP:20260421T122644
CREATED:20240315T171149Z
LAST-MODIFIED:20240315T171149Z
UID:26180-1710669600-1710676800@www.ville-yutz.fr
SUMMARY:US Yutz - Championnat séniors D3 / Ennery
DESCRIPTION:
URL:https://www.ville-yutz.fr/event/us-yutz-championnat-seniors-d3-ennery/
LOCATION:Stade de la Forêt\, rue du Stade\, Yutz\, 57970
CATEGORIES:Sports
END:VEVENT
BEGIN:VEVENT
DTSTART;TZID=Europe/Paris:20240317T100000
DTEND;TZID=Europe/Paris:20240317T150000
DTSTAMP:20260421T122644
CREATED:20240315T171113Z
LAST-MODIFIED:20240315T171113Z
UID:26178-1710669600-1710687600@www.ville-yutz.fr
SUMMARY:ASVB tournoi M11F/M11M ASVB Yutz-Thionville
DESCRIPTION:
URL:https://www.ville-yutz.fr/event/asvb-tournoi-m11f-m11m-asvb-yutz-thionville/
LOCATION:Gymnase Jean Mermoz\, Place de l'Arc-en-ciel\, Yutz\, 57970\, France
CATEGORIES:Sports
END:VEVENT
BEGIN:VEVENT
DTSTART;TZID=Europe/Paris:20240317T150000
DTEND;TZID=Europe/Paris:20240317T170000
DTSTAMP:20260421T122644
CREATED:20240315T171224Z
LAST-MODIFIED:20240315T171224Z
UID:26182-1710687600-1710694800@www.ville-yutz.fr
SUMMARY:ASVB: match NM3 / Paris Volley
DESCRIPTION:
URL:https://www.ville-yutz.fr/event/asvb-match-nm3-paris-volley/
LOCATION:Gymnase Dalmar\, THIONVILLE\, 57100
CATEGORIES:Sports
END:VEVENT
BEGIN:VEVENT
DTSTART;TZID=Europe/Paris:20240323T093000
DTEND;TZID=Europe/Paris:20240323T110000
DTSTAMP:20260421T122644
CREATED:20240322T143727Z
LAST-MODIFIED:20240322T143727Z
UID:26333-1711186200-1711191600@www.ville-yutz.fr
SUMMARY:FC Yutz - U6/U7 plateau
DESCRIPTION:
URL:https://www.ville-yutz.fr/event/fc-yutz-u6-u7-plateau/
LOCATION:Stade Mermoz
CATEGORIES:Sports
ORGANIZER;CN="FC Yutz":MAILTO:utz.fc@moselle.lgef.fr
END:VEVENT
BEGIN:VEVENT
DTSTART;TZID=Europe/Paris:20240323T130000
DTEND;TZID=Europe/Paris:20240323T150000
DTSTAMP:20260421T122644
CREATED:20240322T143946Z
LAST-MODIFIED:20240322T143946Z
UID:26347-1711198800-1711206000@www.ville-yutz.fr
SUMMARY:FC Yutz - U13/U12 championnat / Hayange
DESCRIPTION:
URL:https://www.ville-yutz.fr/event/fc-yutz-u13-u12-championnat-hayange/
LOCATION:Stade Mermoz
CATEGORIES:Sports
ORGANIZER;CN="FC Yutz":MAILTO:utz.fc@moselle.lgef.fr
END:VEVENT
BEGIN:VEVENT
DTSTART;TZID=Europe/Paris:20240323T140000
DTEND;TZID=Europe/Paris:20240323T170000
DTSTAMP:20260421T122644
CREATED:20240322T144024Z
LAST-MODIFIED:20240322T144024Z
UID:26350-1711202400-1711213200@www.ville-yutz.fr
SUMMARY:TYGRE : plateau EDR ligue Grand Est
DESCRIPTION:
URL:https://www.ville-yutz.fr/event/tygre-plateau-edr-ligue-grand-est/
LOCATION:Stade Bernard Vasquez\, Rue de la Moselle\, YUTZ\, 57970\, France
CATEGORIES:Sports
END:VEVENT
BEGIN:VEVENT
DTSTART;TZID=Europe/Paris:20240323T163000
DTEND;TZID=Europe/Paris:20240323T183000
DTSTAMP:20260421T122644
CREATED:20240322T144104Z
LAST-MODIFIED:20240322T144104Z
UID:26352-1711211400-1711218600@www.ville-yutz.fr
SUMMARY:FC Yutz - U21 championnat / Audun
DESCRIPTION:
URL:https://www.ville-yutz.fr/event/fc-yutz-u21-championnat-audun/
LOCATION:Stade Mermoz
CATEGORIES:Sports
ORGANIZER;CN="FC Yutz":MAILTO:utz.fc@moselle.lgef.fr
END:VEVENT
END:VCALENDAR