BEGIN:VCALENDAR
VERSION:2.0
PRODID:-//Ville de Yutz - ECPv6.15.16//NONSGML v1.0//EN
CALSCALE:GREGORIAN
METHOD:PUBLISH
X-ORIGINAL-URL:https://www.ville-yutz.fr
X-WR-CALDESC:Évènements pour Ville de Yutz
REFRESH-INTERVAL;VALUE=DURATION:PT1H
X-Robots-Tag:noindex
X-PUBLISHED-TTL:PT1H
BEGIN:VTIMEZONE
TZID:Europe/Paris
BEGIN:DAYLIGHT
TZOFFSETFROM:+0100
TZOFFSETTO:+0200
TZNAME:CEST
DTSTART:20230326T010000
END:DAYLIGHT
BEGIN:STANDARD
TZOFFSETFROM:+0200
TZOFFSETTO:+0100
TZNAME:CET
DTSTART:20231029T010000
END:STANDARD
BEGIN:DAYLIGHT
TZOFFSETFROM:+0100
TZOFFSETTO:+0200
TZNAME:CEST
DTSTART:20240331T010000
END:DAYLIGHT
BEGIN:STANDARD
TZOFFSETFROM:+0200
TZOFFSETTO:+0100
TZNAME:CET
DTSTART:20241027T010000
END:STANDARD
BEGIN:DAYLIGHT
TZOFFSETFROM:+0100
TZOFFSETTO:+0200
TZNAME:CEST
DTSTART:20250330T010000
END:DAYLIGHT
BEGIN:STANDARD
TZOFFSETFROM:+0200
TZOFFSETTO:+0100
TZNAME:CET
DTSTART:20251026T010000
END:STANDARD
END:VTIMEZONE
BEGIN:VEVENT
DTSTART;TZID=Europe/Paris:20240203T130000
DTEND;TZID=Europe/Paris:20240203T150000
DTSTAMP:20260421T135737
CREATED:20240125T151524Z
LAST-MODIFIED:20240125T151524Z
UID:25139-1706965200-1706972400@www.ville-yutz.fr
SUMMARY:FC Yutz - Amical U15 / US Forbach
DESCRIPTION:
URL:https://www.ville-yutz.fr/event/fc-yutz-amical-u15-us-forbach/
LOCATION:Stade Mermoz
CATEGORIES:Sports
ORGANIZER;CN="FC Yutz":MAILTO:utz.fc@moselle.lgef.fr
END:VEVENT
BEGIN:VEVENT
DTSTART;TZID=Europe/Paris:20240203T150000
DTEND;TZID=Europe/Paris:20240203T170000
DTSTAMP:20260421T135737
CREATED:20240125T151737Z
LAST-MODIFIED:20240125T151737Z
UID:25141-1706972400-1706979600@www.ville-yutz.fr
SUMMARY:FC Yutz - Amical U14 / Briey
DESCRIPTION:
URL:https://www.ville-yutz.fr/event/fc-yutz-amical-u14-briey-3/
LOCATION:Stade Mermoz
CATEGORIES:Sports
ORGANIZER;CN="FC Yutz":MAILTO:utz.fc@moselle.lgef.fr
END:VEVENT
BEGIN:VEVENT
DTSTART;TZID=Europe/Paris:20240203T160000
DTEND;TZID=Europe/Paris:20240203T220000
DTSTAMP:20260421T135737
CREATED:20240125T151924Z
LAST-MODIFIED:20240125T151924Z
UID:25143-1706976000-1706997600@www.ville-yutz.fr
SUMMARY:Yutz Handball  - Match 16F/EHR
DESCRIPTION:
URL:https://www.ville-yutz.fr/event/yutz-handball-match-16f-ehr/
LOCATION:Gymnase Saint-Exupéry\, 1 rue du Gymnase\, YUTZ\, 57970\, France
CATEGORIES:Sports
ORGANIZER;CN="Yutz Handball":MAILTO:5657005@ffhandball.net
END:VEVENT
BEGIN:VEVENT
DTSTART;TZID=Europe/Paris:20240203T170000
DTEND;TZID=Europe/Paris:20240204T040000
DTSTAMP:20260421T135737
CREATED:20240125T152658Z
LAST-MODIFIED:20240125T154910Z
UID:25145-1706979600-1707019200@www.ville-yutz.fr
SUMMARY:ASVB - Tournoi Fluo
DESCRIPTION:
URL:https://www.ville-yutz.fr/event/asvb-tournoi-fluo/
LOCATION:Gymnase Jean Mermoz\, Place de l'Arc-en-ciel\, Yutz\, 57970\, France
CATEGORIES:Sports
END:VEVENT
BEGIN:VEVENT
DTSTART;TZID=Europe/Paris:20240205T200000
DTEND;TZID=Europe/Paris:20240205T220000
DTSTAMP:20260421T135737
CREATED:20240126T090544Z
LAST-MODIFIED:20240126T090544Z
UID:25152-1707163200-1707170400@www.ville-yutz.fr
SUMMARY:FC Yutz - Amical U21 / Algrange
DESCRIPTION:
URL:https://www.ville-yutz.fr/event/fc-yutz-amical-u21-algrange/
LOCATION:Stade Mermoz
CATEGORIES:Sports
ORGANIZER;CN="FC Yutz":MAILTO:utz.fc@moselle.lgef.fr
END:VEVENT
BEGIN:VEVENT
DTSTART;TZID=Europe/Paris:20240210T100000
DTEND;TZID=Europe/Paris:20240210T120000
DTSTAMP:20260421T135737
CREATED:20240207T111620Z
LAST-MODIFIED:20240207T111620Z
UID:25435-1707559200-1707566400@www.ville-yutz.fr
SUMMARY:FC Yutz - Amical U11-U10 - 1 /ESVT
DESCRIPTION:
URL:https://www.ville-yutz.fr/event/fc-yutz-amical-u11-u10-1-esvt/
LOCATION:Stade Mermoz
CATEGORIES:Sports
ORGANIZER;CN="FC Yutz":MAILTO:utz.fc@moselle.lgef.fr
END:VEVENT
BEGIN:VEVENT
DTSTART;TZID=Europe/Paris:20240210T111500
DTEND;TZID=Europe/Paris:20240210T131500
DTSTAMP:20260421T135737
CREATED:20240207T111736Z
LAST-MODIFIED:20240207T111736Z
UID:25437-1707563700-1707570900@www.ville-yutz.fr
SUMMARY:FC Yutz - Plateau U8-U9
DESCRIPTION:
URL:https://www.ville-yutz.fr/event/fc-yutz-plateau-u8-u9-3/
LOCATION:Stade Mermoz
CATEGORIES:Sports
ORGANIZER;CN="FC Yutz":MAILTO:utz.fc@moselle.lgef.fr
END:VEVENT
BEGIN:VEVENT
DTSTART;TZID=Europe/Paris:20240210T130000
DTEND;TZID=Europe/Paris:20240210T150000
DTSTAMP:20260421T135737
CREATED:20240207T111832Z
LAST-MODIFIED:20240207T111832Z
UID:25439-1707570000-1707577200@www.ville-yutz.fr
SUMMARY:FC Yutz - Amical U13-U12 - 1 /Metzervisse
DESCRIPTION:
URL:https://www.ville-yutz.fr/event/fc-yutz-amical-u13-u12-1-metzervisse/
LOCATION:Stade Mermoz
CATEGORIES:Sports
ORGANIZER;CN="FC Yutz":MAILTO:utz.fc@moselle.lgef.fr
END:VEVENT
BEGIN:VEVENT
DTSTART;TZID=Europe/Paris:20240210T150000
DTEND;TZID=Europe/Paris:20240210T170000
DTSTAMP:20260421T135737
CREATED:20240207T112155Z
LAST-MODIFIED:20240207T112155Z
UID:25445-1707577200-1707584400@www.ville-yutz.fr
SUMMARY:FC Yutz - Amical U18 - 1 /FC Coume
DESCRIPTION:
URL:https://www.ville-yutz.fr/event/fc-yutz-amical-u18-1-fc-coume/
LOCATION:Stade Mermoz
CATEGORIES:Sports
ORGANIZER;CN="FC Yutz":MAILTO:utz.fc@moselle.lgef.fr
END:VEVENT
BEGIN:VEVENT
DTSTART;TZID=Europe/Paris:20240211T110000
DTEND;TZID=Europe/Paris:20240211T130000
DTSTAMP:20260421T135737
CREATED:20240126T091615Z
LAST-MODIFIED:20240207T112500Z
UID:25161-1707649200-1707656400@www.ville-yutz.fr
SUMMARY:ASVB Yutz-Thionville - Coupe de France Compet'Lib 1er tour qualif
DESCRIPTION:
URL:https://www.ville-yutz.fr/event/asvb-yutz-thionville-jeunes-coupe-de-france-m13-et-m18-tour-1/
LOCATION:Gymnase Jean Mermoz\, Place de l'Arc-en-ciel\, Yutz\, 57970\, France
CATEGORIES:Sports
END:VEVENT
BEGIN:VEVENT
DTSTART;TZID=Europe/Paris:20240211T110000
DTEND;TZID=Europe/Paris:20240211T130000
DTSTAMP:20260421T135737
CREATED:20240207T112641Z
LAST-MODIFIED:20240207T112641Z
UID:25448-1707649200-1707656400@www.ville-yutz.fr
SUMMARY:FC Yutz - Amical U14/Pagny
DESCRIPTION:
URL:https://www.ville-yutz.fr/event/fc-yutz-amical-u14-pagny/
LOCATION:Stade Mermoz
CATEGORIES:Sports
ORGANIZER;CN="FC Yutz":MAILTO:utz.fc@moselle.lgef.fr
END:VEVENT
BEGIN:VEVENT
DTSTART;TZID=Europe/Paris:20240217T080000
DTEND;TZID=Europe/Paris:20240217T230000
DTSTAMP:20260421T135737
CREATED:20240126T094424Z
LAST-MODIFIED:20240126T094424Z
UID:25177-1708156800-1708210800@www.ville-yutz.fr
SUMMARY:Yutz Handball  - Match N1 F/Saone Mam
DESCRIPTION:
URL:https://www.ville-yutz.fr/event/yutz-handball-match-n1-f-saone-mam/
LOCATION:Gymnase Saint-Exupéry\, 1 rue du Gymnase\, YUTZ\, 57970\, France
CATEGORIES:Sports
ORGANIZER;CN="Yutz Handball":MAILTO:5657005@ffhandball.net
END:VEVENT
BEGIN:VEVENT
DTSTART;TZID=Europe/Paris:20240217T203000
DTEND;TZID=Europe/Paris:20240217T220000
DTSTAMP:20260421T135737
CREATED:20240126T095129Z
LAST-MODIFIED:20240126T095129Z
UID:25186-1708201800-1708207200@www.ville-yutz.fr
SUMMARY:Yutz Handball  - Match N1/Entente Saone
DESCRIPTION:
URL:https://www.ville-yutz.fr/event/yutz-handball-match-n1-entente-saone/
LOCATION:Gymnase Saint-Exupéry\, 1 rue du Gymnase\, YUTZ\, 57970\, France
CATEGORIES:Sports
ORGANIZER;CN="Yutz Handball":MAILTO:5657005@ffhandball.net
END:VEVENT
BEGIN:VEVENT
DTSTART;TZID=Europe/Paris:20240218T150000
DTEND;TZID=Europe/Paris:20240218T170000
DTSTAMP:20260421T135737
CREATED:20240126T095705Z
LAST-MODIFIED:20240126T095705Z
UID:25190-1708268400-1708275600@www.ville-yutz.fr
SUMMARY:TYGRE Match régional 1/Hayange
DESCRIPTION:
URL:https://www.ville-yutz.fr/event/tygre-match-regional-1-hayange/
LOCATION:Stade Bernard Vasquez\, Rue de la Moselle\, YUTZ\, 57970\, France
CATEGORIES:Sports
END:VEVENT
BEGIN:VEVENT
DTSTART;TZID=Europe/Paris:20240224T100000
DTEND;TZID=Europe/Paris:20240224T120000
DTSTAMP:20260421T135737
CREATED:20240223T091801Z
LAST-MODIFIED:20240223T092721Z
UID:25667-1708768800-1708776000@www.ville-yutz.fr
SUMMARY:FC Yutz - Amical U11.U10-2 / CSP Rehon
DESCRIPTION:
URL:https://www.ville-yutz.fr/event/fc-yutz-amical-u11-u10-2-csp-rehon/
LOCATION:Stade Mermoz
CATEGORIES:Sports
ORGANIZER;CN="FC Yutz":MAILTO:utz.fc@moselle.lgef.fr
END:VEVENT
BEGIN:VEVENT
DTSTART;TZID=Europe/Paris:20240224T130000
DTEND;TZID=Europe/Paris:20240224T150000
DTSTAMP:20260421T135737
CREATED:20240223T092001Z
LAST-MODIFIED:20240223T092654Z
UID:25669-1708779600-1708786800@www.ville-yutz.fr
SUMMARY:FC Yutz - Amical U13.U12-1 / Veymerange
DESCRIPTION:
URL:https://www.ville-yutz.fr/event/fc-yutz-amical-u13-u12-1-veymerange/
LOCATION:Stade Mermoz
CATEGORIES:Sports
ORGANIZER;CN="FC Yutz":MAILTO:utz.fc@moselle.lgef.fr
END:VEVENT
BEGIN:VEVENT
DTSTART;TZID=Europe/Paris:20240224T150000
DTEND;TZID=Europe/Paris:20240224T170000
DTSTAMP:20260421T135737
CREATED:20240223T092902Z
LAST-MODIFIED:20240223T092902Z
UID:25676-1708786800-1708794000@www.ville-yutz.fr
SUMMARY:FC Yutz - Amical U18 / Elan Kohbeen
DESCRIPTION:
URL:https://www.ville-yutz.fr/event/fc-yutz-amical-u18-elan-kohbeen/
LOCATION:Stade Mermoz
CATEGORIES:Sports
ORGANIZER;CN="FC Yutz":MAILTO:utz.fc@moselle.lgef.fr
END:VEVENT
BEGIN:VEVENT
DTSTART;TZID=Europe/Paris:20240224T170000
DTEND;TZID=Europe/Paris:20240224T190000
DTSTAMP:20260421T135737
CREATED:20240223T093004Z
LAST-MODIFIED:20240223T093004Z
UID:25678-1708794000-1708801200@www.ville-yutz.fr
SUMMARY:FC Yutz - Amical Vétérans / Cattenom
DESCRIPTION:
URL:https://www.ville-yutz.fr/event/fc-yutz-amical-veterans-cattenom/
LOCATION:Stade Mermoz
CATEGORIES:Sports
ORGANIZER;CN="FC Yutz":MAILTO:utz.fc@moselle.lgef.fr
END:VEVENT
BEGIN:VEVENT
DTSTART;TZID=Europe/Paris:20240224T190000
DTEND;TZID=Europe/Paris:20240224T190000
DTSTAMP:20260421T135737
CREATED:20240129T084414Z
LAST-MODIFIED:20240129T084414Z
UID:25210-1708801200-1708801200@www.ville-yutz.fr
SUMMARY:Boxe : Championnat de France féminin
DESCRIPTION:TARIF\n1er Ring : 15 euros\nGradin : 10 euros\nPoint de vente : Complexe Schuman – Salle Anne Sophie Mathis\, impasse Selver à Yutz :\nMardi et jeudi de 18h00 à 20h00
URL:https://www.ville-yutz.fr/event/boxe-championnat-de-france-feminin/
LOCATION:Gymnase Jean Mermoz\, Place de l'Arc-en-ciel\, Yutz\, 57970\, France
CATEGORIES:Sports
ATTACH;FMTTYPE=image/jpeg:https://www.ville-yutz.fr/wp-content/uploads/2024/01/2024-02-24-Championnat-de-Boxe.jpg
ORGANIZER;CN="Association sportive de boxe de Yutz":MAILTO:asboxeyutz@gmail.com
END:VEVENT
BEGIN:VEVENT
DTSTART;TZID=Europe/Paris:20240224T193000
DTEND;TZID=Europe/Paris:20240224T235900
DTSTAMP:20260421T135737
CREATED:20240223T093209Z
LAST-MODIFIED:20240223T093209Z
UID:25680-1708803000-1708819140@www.ville-yutz.fr
SUMMARY:Yutz Baby Foot : Fête de la Saint Patrick
DESCRIPTION:
URL:https://www.ville-yutz.fr/event/yutz-baby-foot-fete-de-la-saint-patrick/
LOCATION:l’amphY\, 126 rue de la république\, yutz\, 57970\, France
CATEGORIES:Sports
END:VEVENT
BEGIN:VEVENT
DTSTART;TZID=Europe/Paris:20240224T200000
DTEND;TZID=Europe/Paris:20240224T220000
DTSTAMP:20260421T135737
CREATED:20240223T093334Z
LAST-MODIFIED:20240223T093334Z
UID:25683-1708804800-1708812000@www.ville-yutz.fr
SUMMARY:US Yutz - Championnat / Yutz FC
DESCRIPTION:
URL:https://www.ville-yutz.fr/event/us-yutz-championnat-yutz-fc/
LOCATION:Stade de la Forêt\, rue du Stade\, Yutz\, 57970
CATEGORIES:Sports
END:VEVENT
BEGIN:VEVENT
DTSTART;TZID=Europe/Paris:20240225T143000
DTEND;TZID=Europe/Paris:20240225T163000
DTSTAMP:20260421T135737
CREATED:20240223T093717Z
LAST-MODIFIED:20240223T093909Z
UID:25687-1708871400-1708878600@www.ville-yutz.fr
SUMMARY:FC Yutz - Coupe Moselle U21 / Gandrange
DESCRIPTION:
URL:https://www.ville-yutz.fr/event/c-yutz-coupe-moselle-u21-gandrange/
LOCATION:Stade Mermoz
CATEGORIES:Sports
ORGANIZER;CN="FC Yutz":MAILTO:utz.fc@moselle.lgef.fr
END:VEVENT
END:VCALENDAR