BEGIN:VCALENDAR
VERSION:2.0
PRODID:-//Ville de Yutz - ECPv6.15.16//NONSGML v1.0//EN
CALSCALE:GREGORIAN
METHOD:PUBLISH
X-WR-CALNAME:Ville de Yutz
X-ORIGINAL-URL:https://www.ville-yutz.fr
X-WR-CALDESC:Évènements pour Ville de Yutz
REFRESH-INTERVAL;VALUE=DURATION:PT1H
X-Robots-Tag:noindex
X-PUBLISHED-TTL:PT1H
BEGIN:VTIMEZONE
TZID:Europe/Paris
BEGIN:DAYLIGHT
TZOFFSETFROM:+0100
TZOFFSETTO:+0200
TZNAME:CEST
DTSTART:20230326T010000
END:DAYLIGHT
BEGIN:STANDARD
TZOFFSETFROM:+0200
TZOFFSETTO:+0100
TZNAME:CET
DTSTART:20231029T010000
END:STANDARD
BEGIN:DAYLIGHT
TZOFFSETFROM:+0100
TZOFFSETTO:+0200
TZNAME:CEST
DTSTART:20240331T010000
END:DAYLIGHT
BEGIN:STANDARD
TZOFFSETFROM:+0200
TZOFFSETTO:+0100
TZNAME:CET
DTSTART:20241027T010000
END:STANDARD
BEGIN:DAYLIGHT
TZOFFSETFROM:+0100
TZOFFSETTO:+0200
TZNAME:CEST
DTSTART:20250330T010000
END:DAYLIGHT
BEGIN:STANDARD
TZOFFSETFROM:+0200
TZOFFSETTO:+0100
TZNAME:CET
DTSTART:20251026T010000
END:STANDARD
END:VTIMEZONE
BEGIN:VEVENT
DTSTART;VALUE=DATE:20240106
DTEND;VALUE=DATE:20240108
DTSTAMP:20260421T152002
CREATED:20240104T171305Z
LAST-MODIFIED:20240104T171305Z
UID:24717-1704499200-1704671999@www.ville-yutz.fr
SUMMARY:BOXE : Camp d'entraînement de Lorye RUYER
DESCRIPTION:A l’occasion de cette année olympique\, venez assister au camp d’entraînement de Lorye RUYER\, organisé dans le cadre de la préparation du championnat de France féminin qui aura lieu le 24 février prochain au Gymnase Mermoz à Yutz.\n\n\n\nSéances d’entraînement et mises de gants avec Anissa BENYOUB (Toulouse) numéro 2 dans la catégorie des Super Légers :\n\n\n– Samedi 6 janvier 2024 à 17h00\n– Dimanche 7 janvier 2024 à 12h30\n\n\n\nLorye RUYER\, ancienne membre de l’équipe de France féminine de Boxe de 2017 à 2022\, a été vice-championne de France en 2018 et 2019 et a rejoint l’Association Sportive de Boxe de Yutz en 2023.\n\n\n\nPour rappel\, la salle Anne-Sophie MATHIS a été labellisée Terre de Jeux 2024.
URL:https://www.ville-yutz.fr/event/boxe-camp-dentrainement-de-lorye-ruyer/
LOCATION:Salle Anne-Sophie Mathis\, impasse Selver\, Yutz
CATEGORIES:Sports
ATTACH;FMTTYPE=image/jpeg:https://www.ville-yutz.fr/wp-content/uploads/2024/01/Lorye-RUYER-scaled.jpg
ORGANIZER;CN="Association sportive de boxe de Yutz":MAILTO:asboxeyutz@gmail.com
END:VEVENT
BEGIN:VEVENT
DTSTART;TZID=Europe/Paris:20240106T203000
DTEND;TZID=Europe/Paris:20240106T220000
DTSTAMP:20260421T152002
CREATED:20231222T164731Z
LAST-MODIFIED:20231222T164731Z
UID:24674-1704573000-1704578400@www.ville-yutz.fr
SUMMARY:Yutz Handball  - Match N1/Dijon
DESCRIPTION:
URL:https://www.ville-yutz.fr/event/yutz-handball-match-n1-dijon/
LOCATION:Gymnase Saint-Exupéry\, 1 rue du Gymnase\, YUTZ\, 57970\, France
CATEGORIES:Sports
ORGANIZER;CN="Yutz Handball":MAILTO:5657005@ffhandball.net
END:VEVENT
BEGIN:VEVENT
DTSTART;TZID=Europe/Paris:20240107T090000
DTEND;TZID=Europe/Paris:20240107T140000
DTSTAMP:20260421T152002
CREATED:20231222T165344Z
LAST-MODIFIED:20240105T162707Z
UID:24682-1704618000-1704636000@www.ville-yutz.fr
SUMMARY:ESTY - Championnat de Moselle de Cross
DESCRIPTION:
URL:https://www.ville-yutz.fr/event/esty-championnat-de-moselle-de-cross/
LOCATION:Aéroparc
CATEGORIES:Sports
ATTACH;FMTTYPE=image/jpeg:https://www.ville-yutz.fr/wp-content/uploads/2023/12/2024-01-07-championnat-departemental-de-cross.jpg
ORGANIZER;CN="ESTY":MAILTO:esty.athletisme@live.fr
END:VEVENT
BEGIN:VEVENT
DTSTART;TZID=Europe/Paris:20240107T110000
DTEND;TZID=Europe/Paris:20240107T130000
DTSTAMP:20260421T152002
CREATED:20231222T165150Z
LAST-MODIFIED:20231222T165150Z
UID:24679-1704625200-1704632400@www.ville-yutz.fr
SUMMARY:ASVB Yutz-Thionville Jeunes/Coupe de France M15 Tour 4
DESCRIPTION:
URL:https://www.ville-yutz.fr/event/asvb-yutz-thionville-jeunes-coupe-de-france-m15-tour-4/
LOCATION:Gymnase Jean Mermoz\, Place de l'Arc-en-ciel\, Yutz\, 57970\, France
CATEGORIES:Sports
END:VEVENT
BEGIN:VEVENT
DTSTART;TZID=Europe/Paris:20240113T140000
DTEND;TZID=Europe/Paris:20240113T160000
DTSTAMP:20260421T152002
CREATED:20240112T163632Z
LAST-MODIFIED:20240112T163632Z
UID:24910-1705154400-1705161600@www.ville-yutz.fr
SUMMARY:Yutz Handball - Match 13F
DESCRIPTION:
URL:https://www.ville-yutz.fr/event/yutz-handball-match-13f/
LOCATION:Gymnase Saint-Exupéry\, 1 rue du Gymnase\, YUTZ\, 57970\, France
CATEGORIES:Sports
ORGANIZER;CN="Yutz Handball":MAILTO:5657005@ffhandball.net
END:VEVENT
BEGIN:VEVENT
DTSTART;TZID=Europe/Paris:20240113T160000
DTEND;TZID=Europe/Paris:20240113T180000
DTSTAMP:20260421T152002
CREATED:20240112T163710Z
LAST-MODIFIED:20240112T163710Z
UID:24912-1705161600-1705168800@www.ville-yutz.fr
SUMMARY:Yutz Handball - Match 11F
DESCRIPTION:
URL:https://www.ville-yutz.fr/event/yutz-handball-match-11f/
LOCATION:Gymnase Saint-Exupéry\, 1 rue du Gymnase\, YUTZ\, 57970\, France
CATEGORIES:Sports
ORGANIZER;CN="Yutz Handball":MAILTO:5657005@ffhandball.net
END:VEVENT
BEGIN:VEVENT
DTSTART;TZID=Europe/Paris:20240114T180000
DTEND;TZID=Europe/Paris:20240114T200000
DTSTAMP:20260421T152002
CREATED:20240112T163747Z
LAST-MODIFIED:20240112T163747Z
UID:24914-1705255200-1705262400@www.ville-yutz.fr
SUMMARY:Yutz Handball - Match 16F/Nancy
DESCRIPTION:
URL:https://www.ville-yutz.fr/event/yutz-handball-match-16f-nancy/
LOCATION:Gymnase Saint-Exupéry\, 1 rue du Gymnase\, YUTZ\, 57970\, France
CATEGORIES:Sports
ORGANIZER;CN="Yutz Handball":MAILTO:5657005@ffhandball.net
END:VEVENT
BEGIN:VEVENT
DTSTART;TZID=Europe/Paris:20240120T203000
DTEND;TZID=Europe/Paris:20240120T203000
DTSTAMP:20260421T152002
CREATED:20240116T133819Z
LAST-MODIFIED:20240116T133819Z
UID:24983-1705782600-1705782600@www.ville-yutz.fr
SUMMARY:Yutz Handball  - Match N1 F/Reims
DESCRIPTION:
URL:https://www.ville-yutz.fr/event/yutz-handball-match-n1-f-reims/
LOCATION:Gymnase Saint-Exupéry\, 1 rue du Gymnase\, YUTZ\, 57970\, France
CATEGORIES:Sports
ORGANIZER;CN="Yutz Handball":MAILTO:5657005@ffhandball.net
END:VEVENT
BEGIN:VEVENT
DTSTART;TZID=Europe/Paris:20240120T203000
DTEND;TZID=Europe/Paris:20240120T203000
DTSTAMP:20260421T152002
CREATED:20240119T164144Z
LAST-MODIFIED:20240119T164144Z
UID:25027-1705782600-1705782600@www.ville-yutz.fr
SUMMARY:ASVB Yutz - Thionville Championnat Grand Est Régionale F/Hagondange
DESCRIPTION:
URL:https://www.ville-yutz.fr/event/asvb-yutz-thionville-championnat-grand-est-regionale-f-hagondange/
LOCATION:Gymnase Jean Mermoz\, Place de l'Arc-en-ciel\, Yutz\, 57970\, France
CATEGORIES:Sports
END:VEVENT
BEGIN:VEVENT
DTSTART;TZID=Europe/Paris:20240121T143000
DTEND;TZID=Europe/Paris:20240121T163000
DTSTAMP:20260421T152002
CREATED:20240116T154355Z
LAST-MODIFIED:20240116T154355Z
UID:24995-1705847400-1705854600@www.ville-yutz.fr
SUMMARY:TYGRE - Match retour Génération RE/SAINT DIE-RAON L'ETAPE-BACCARAT XV
DESCRIPTION:
URL:https://www.ville-yutz.fr/event/tygre-match-retour-generation-re-saint-die-raon-letape-baccarat-xv/
LOCATION:Stade Bernard Vasquez\, Rue de la Moselle\, YUTZ\, 57970\, France
CATEGORIES:Sports
END:VEVENT
BEGIN:VEVENT
DTSTART;TZID=Europe/Paris:20240121T153000
DTEND;TZID=Europe/Paris:20240121T173000
DTSTAMP:20260421T152002
CREATED:20240116T133903Z
LAST-MODIFIED:20240116T133903Z
UID:24985-1705851000-1705858200@www.ville-yutz.fr
SUMMARY:Yutz Handball  - Match EQ2/Fontoy
DESCRIPTION:
URL:https://www.ville-yutz.fr/event/yutz-handball-match-eq2-fontoy/
LOCATION:Gymnase Saint-Exupéry\, 1 rue du Gymnase\, YUTZ\, 57970\, France
CATEGORIES:Sports
ORGANIZER;CN="Yutz Handball":MAILTO:5657005@ffhandball.net
END:VEVENT
BEGIN:VEVENT
DTSTART;TZID=Europe/Paris:20240125T194500
DTEND;TZID=Europe/Paris:20240125T194500
DTSTAMP:20260421T152002
CREATED:20240119T164405Z
LAST-MODIFIED:20240119T164405Z
UID:25029-1706211900-1706211900@www.ville-yutz.fr
SUMMARY:FC Yutz - Amical U18 / Bertrange
DESCRIPTION:
URL:https://www.ville-yutz.fr/event/fc-yutz-amical-u18-bertrange/
LOCATION:Stade Mermoz
CATEGORIES:Sports
ORGANIZER;CN="FC Yutz":MAILTO:utz.fc@moselle.lgef.fr
END:VEVENT
BEGIN:VEVENT
DTSTART;TZID=Europe/Paris:20240127T130000
DTEND;TZID=Europe/Paris:20240127T150000
DTSTAMP:20260421T152002
CREATED:20240125T143735Z
LAST-MODIFIED:20240125T143735Z
UID:25125-1706360400-1706367600@www.ville-yutz.fr
SUMMARY:FC Yutz - Amical U14 / Briey
DESCRIPTION:
URL:https://www.ville-yutz.fr/event/fc-yutz-amical-u14-briey/
LOCATION:Stade Mermoz
CATEGORIES:Sports
ORGANIZER;CN="FC Yutz":MAILTO:utz.fc@moselle.lgef.fr
END:VEVENT
BEGIN:VEVENT
DTSTART;TZID=Europe/Paris:20240127T150000
DTEND;TZID=Europe/Paris:20240127T170000
DTSTAMP:20260421T152002
CREATED:20240119T165954Z
LAST-MODIFIED:20240119T165954Z
UID:25041-1706367600-1706374800@www.ville-yutz.fr
SUMMARY:FC Yutz - Amical U15 / Hettange-Grande
DESCRIPTION:
URL:https://www.ville-yutz.fr/event/fc-yutz-amical-u15-hettange-grande/
LOCATION:Stade Mermoz
CATEGORIES:Sports
ORGANIZER;CN="FC Yutz":MAILTO:utz.fc@moselle.lgef.fr
END:VEVENT
BEGIN:VEVENT
DTSTART;TZID=Europe/Paris:20240127T160000
DTEND;TZID=Europe/Paris:20240127T173000
DTSTAMP:20260421T152002
CREATED:20240125T144355Z
LAST-MODIFIED:20240125T144355Z
UID:25127-1706371200-1706376600@www.ville-yutz.fr
SUMMARY:Auditions d'élèves
DESCRIPTION:
URL:https://www.ville-yutz.fr/event/auditions-deleves/
LOCATION:Ecole Municipale de Musique\, YUTZ\, 57970
CATEGORIES:Sports
END:VEVENT
BEGIN:VEVENT
DTSTART;TZID=Europe/Paris:20240127T170000
DTEND;TZID=Europe/Paris:20240127T190000
DTSTAMP:20260421T152002
CREATED:20240119T170051Z
LAST-MODIFIED:20240126T101403Z
UID:25043-1706374800-1706382000@www.ville-yutz.fr
SUMMARY:FC Yutz - Amical U21 / Oudrenne
DESCRIPTION:
URL:https://www.ville-yutz.fr/event/fc-yutz-amical-u21-oudrenne/
LOCATION:Stade Mermoz
CATEGORIES:Sports
ORGANIZER;CN="FC Yutz":MAILTO:utz.fc@moselle.lgef.fr
END:VEVENT
BEGIN:VEVENT
DTSTART;TZID=Europe/Paris:20240128T110000
DTEND;TZID=Europe/Paris:20240128T130000
DTSTAMP:20260421T152002
CREATED:20240125T144946Z
LAST-MODIFIED:20240126T103641Z
UID:25129-1706439600-1706446800@www.ville-yutz.fr
SUMMARY:FC Yutz - Amical U13 1 / Mondercange
DESCRIPTION:
URL:https://www.ville-yutz.fr/event/fc-yutz-amical-u14-briey-2/
LOCATION:Stade Mermoz
CATEGORIES:Sports
ORGANIZER;CN="FC Yutz":MAILTO:utz.fc@moselle.lgef.fr
END:VEVENT
BEGIN:VEVENT
DTSTART;TZID=Europe/Paris:20240128T123000
DTEND;TZID=Europe/Paris:20240129T010000
DTSTAMP:20260421T152002
CREATED:20240119T170609Z
LAST-MODIFIED:20240126T102640Z
UID:25046-1706445000-1706490000@www.ville-yutz.fr
SUMMARY:ASVB Yutz-Thionville Jeunes/Coupe de France M15 Tour 5
DESCRIPTION:
URL:https://www.ville-yutz.fr/event/asvb-yutz-thionville-jeunes-coupe-de-france-m15-tour-5/
LOCATION:Gymnase Dalmar\, THIONVILLE\, 57100
CATEGORIES:Sports
END:VEVENT
BEGIN:VEVENT
DTSTART;TZID=Europe/Paris:20240131T100000
DTEND;TZID=Europe/Paris:20240131T120000
DTSTAMP:20260421T152002
CREATED:20240125T145411Z
LAST-MODIFIED:20240125T145411Z
UID:25131-1706695200-1706702400@www.ville-yutz.fr
SUMMARY:Yutz Handball - Finales départementales des sections sportives lycée
DESCRIPTION:
URL:https://www.ville-yutz.fr/event/yutz-handball-finales-departementales-des-sections-sportives-lycee/
LOCATION:Gymnase Saint-Exupéry\, 1 rue du Gymnase\, YUTZ\, 57970\, France
CATEGORIES:Sports
ORGANIZER;CN="Yutz Handball":MAILTO:5657005@ffhandball.net
END:VEVENT
END:VCALENDAR