BEGIN:VCALENDAR
VERSION:2.0
PRODID:-//Ville de Yutz - ECPv6.15.16//NONSGML v1.0//EN
CALSCALE:GREGORIAN
METHOD:PUBLISH
X-WR-CALNAME:Ville de Yutz
X-ORIGINAL-URL:https://www.ville-yutz.fr
X-WR-CALDESC:Évènements pour Ville de Yutz
REFRESH-INTERVAL;VALUE=DURATION:PT1H
X-Robots-Tag:noindex
X-PUBLISHED-TTL:PT1H
BEGIN:VTIMEZONE
TZID:Europe/Paris
BEGIN:DAYLIGHT
TZOFFSETFROM:+0100
TZOFFSETTO:+0200
TZNAME:CEST
DTSTART:20220327T010000
END:DAYLIGHT
BEGIN:STANDARD
TZOFFSETFROM:+0200
TZOFFSETTO:+0100
TZNAME:CET
DTSTART:20221030T010000
END:STANDARD
BEGIN:DAYLIGHT
TZOFFSETFROM:+0100
TZOFFSETTO:+0200
TZNAME:CEST
DTSTART:20230326T010000
END:DAYLIGHT
BEGIN:STANDARD
TZOFFSETFROM:+0200
TZOFFSETTO:+0100
TZNAME:CET
DTSTART:20231029T010000
END:STANDARD
BEGIN:DAYLIGHT
TZOFFSETFROM:+0100
TZOFFSETTO:+0200
TZNAME:CEST
DTSTART:20240331T010000
END:DAYLIGHT
BEGIN:STANDARD
TZOFFSETFROM:+0200
TZOFFSETTO:+0100
TZNAME:CET
DTSTART:20241027T010000
END:STANDARD
END:VTIMEZONE
BEGIN:VEVENT
DTSTART;TZID=Europe/Paris:20231001T090000
DTEND;TZID=Europe/Paris:20231001T160000
DTSTAMP:20260421T194917
CREATED:20230929T160436Z
LAST-MODIFIED:20230929T161356Z
UID:22282-1696150800-1696176000@www.ville-yutz.fr
SUMMARY:Poussières d'étoiles : La Yussoise 5e édition
DESCRIPTION:
URL:https://www.ville-yutz.fr/event/poussieres-detoiles-la-yussoise-5e-edition/
LOCATION:Aéroparc
CATEGORIES:Sports
ATTACH;FMTTYPE=image/jpeg:https://www.ville-yutz.fr/wp-content/uploads/2023/09/2023-10-01-la-yussoise.jpg
ORGANIZER;CN="Poussi%C3%A8res d'%C3%A9toiles":MAILTO:associationpoussieresdetoiles@gmail.com
END:VEVENT
BEGIN:VEVENT
DTSTART;TZID=Europe/Paris:20231001T140000
DTEND;TZID=Europe/Paris:20231001T160000
DTSTAMP:20260421T194917
CREATED:20230929T160548Z
LAST-MODIFIED:20230929T160548Z
UID:22284-1696168800-1696176000@www.ville-yutz.fr
SUMMARY:Yutz Handball  - Match F11/Ehr
DESCRIPTION:
URL:https://www.ville-yutz.fr/event/yutz-handball-match-f11-ehr/
LOCATION:Gymnase Saint-Exupéry\, 1 rue du Gymnase\, YUTZ\, 57970\, France
CATEGORIES:Sports
ORGANIZER;CN="Yutz Handball":MAILTO:5657005@ffhandball.net
END:VEVENT
BEGIN:VEVENT
DTSTART;TZID=Europe/Paris:20231001T150000
DTEND;TZID=Europe/Paris:20231001T170000
DTSTAMP:20260421T194917
CREATED:20230929T160656Z
LAST-MODIFIED:20230929T160656Z
UID:22286-1696172400-1696179600@www.ville-yutz.fr
SUMMARY:Foot : JSA - championnat sénior / Veckring
DESCRIPTION:
URL:https://www.ville-yutz.fr/event/foot-jsa-championnat-senior-veckring/
LOCATION:Stade Denis Muller\, Rue Victor Hugo\, YUTZ\, 57970
CATEGORIES:Sports
END:VEVENT
BEGIN:VEVENT
DTSTART;TZID=Europe/Paris:20231001T150000
DTEND;TZID=Europe/Paris:20231001T170000
DTSTAMP:20260421T194917
CREATED:20230929T160733Z
LAST-MODIFIED:20230929T160947Z
UID:22288-1696172400-1696179600@www.ville-yutz.fr
SUMMARY:Foot : US Yutz - Championnat séniors D1 / Hettange
DESCRIPTION:
URL:https://www.ville-yutz.fr/event/foot-us-yutz-championnat-seniors-d1-hettange/
LOCATION:Stade de la Forêt\, rue du Stade\, Yutz\, 57970
CATEGORIES:Sports
END:VEVENT
BEGIN:VEVENT
DTSTART;TZID=Europe/Paris:20231001T150000
DTEND;TZID=Europe/Paris:20231001T170000
DTSTAMP:20260421T194917
CREATED:20230929T160828Z
LAST-MODIFIED:20230929T160828Z
UID:22290-1696172400-1696179600@www.ville-yutz.fr
SUMMARY:Foot : US Yutz -Championnat séniors D2 / Nilvange
DESCRIPTION:
URL:https://www.ville-yutz.fr/event/foot-us-yutz-championnat-seniors-d2-nilvange/
LOCATION:Stade de la Forêt\, rue du Stade\, Yutz\, 57970
CATEGORIES:Sports
END:VEVENT
BEGIN:VEVENT
DTSTART;TZID=Europe/Paris:20231001T150000
DTEND;TZID=Europe/Paris:20231001T170000
DTSTAMP:20260421T194917
CREATED:20230929T161033Z
LAST-MODIFIED:20230929T161033Z
UID:22292-1696172400-1696179600@www.ville-yutz.fr
SUMMARY:Foot : FC Yutz - CDF Senior A/Devant les Ponts
DESCRIPTION:
URL:https://www.ville-yutz.fr/event/foot-fc-yutz-cdf-senior-a-devant-les-ponts/
LOCATION:Stade Mermoz
CATEGORIES:Sports
ORGANIZER;CN="FC Yutz":MAILTO:utz.fc@moselle.lgef.fr
END:VEVENT
BEGIN:VEVENT
DTSTART;TZID=Europe/Paris:20231001T171500
DTEND;TZID=Europe/Paris:20231001T191500
DTSTAMP:20260421T194917
CREATED:20230929T161130Z
LAST-MODIFIED:20230929T161130Z
UID:22294-1696180500-1696187700@www.ville-yutz.fr
SUMMARY:Foot : FC Yutz - Championnat U21/Hayange B
DESCRIPTION:
URL:https://www.ville-yutz.fr/event/foot-fc-yutz-championnat-u21-hayange-b/
LOCATION:Stade Mermoz
CATEGORIES:Sports
ORGANIZER;CN="FC Yutz":MAILTO:utz.fc@moselle.lgef.fr
END:VEVENT
BEGIN:VEVENT
DTSTART;TZID=Europe/Paris:20231006T210000
DTEND;TZID=Europe/Paris:20231006T230000
DTSTAMP:20260421T194917
CREATED:20230824T154743Z
LAST-MODIFIED:20230824T154900Z
UID:21574-1696626000-1696633200@www.ville-yutz.fr
SUMMARY:Retransmission du Match de Rugby : France / Italie
DESCRIPTION:
URL:https://www.ville-yutz.fr/event/retransmission-du-match-de-rugby-france-italie/
LOCATION:L’amphY\, 126 rue de la République\, YUTZ\, 57970\, France
CATEGORIES:Sports
ATTACH;FMTTYPE=image/jpeg:https://www.ville-yutz.fr/wp-content/uploads/2023/08/A3-rugby-Poule-scaled.jpg
ORGANIZER;CN="Ville de Yutz - l'amphY":MAILTO:lamphy@mairie-yutz.fr
END:VEVENT
BEGIN:VEVENT
DTSTART;TZID=Europe/Paris:20231007T100000
DTEND;TZID=Europe/Paris:20231007T120000
DTSTAMP:20260421T194917
CREATED:20231006T144321Z
LAST-MODIFIED:20231006T144321Z
UID:22462-1696672800-1696680000@www.ville-yutz.fr
SUMMARY:Foot : FC Yutz - Championnat U13/Amnéville
DESCRIPTION:
URL:https://www.ville-yutz.fr/event/foot-fc-yutz-championnat-u13-amneville/
LOCATION:Stade Mermoz
CATEGORIES:Sports
ORGANIZER;CN="FC Yutz":MAILTO:utz.fc@moselle.lgef.fr
END:VEVENT
BEGIN:VEVENT
DTSTART;TZID=Europe/Paris:20231007T100000
DTEND;TZID=Europe/Paris:20231007T120000
DTSTAMP:20260421T194917
CREATED:20231006T144427Z
LAST-MODIFIED:20231006T144427Z
UID:22464-1696672800-1696680000@www.ville-yutz.fr
SUMMARY:Foot : FC Yutz - Championnat U13F/Veymerange
DESCRIPTION:
URL:https://www.ville-yutz.fr/event/foot-fc-yutz-championnat-u13f-veymerange/
LOCATION:Stade Mermoz
CATEGORIES:Sports
ORGANIZER;CN="FC Yutz":MAILTO:utz.fc@moselle.lgef.fr
END:VEVENT
BEGIN:VEVENT
DTSTART;TZID=Europe/Paris:20231007T130000
DTEND;TZID=Europe/Paris:20231007T150000
DTSTAMP:20260421T194917
CREATED:20231006T144517Z
LAST-MODIFIED:20231006T144517Z
UID:22466-1696683600-1696690800@www.ville-yutz.fr
SUMMARY:Foot : FC Yutz - Championnat U12/Audun 1
DESCRIPTION:
URL:https://www.ville-yutz.fr/event/foot-fc-yutz-championnat-u12-audun-1/
LOCATION:Stade Mermoz
CATEGORIES:Sports
END:VEVENT
BEGIN:VEVENT
DTSTART;TZID=Europe/Paris:20231007T130000
DTEND;TZID=Europe/Paris:20231007T150000
DTSTAMP:20260421T194917
CREATED:20231006T145226Z
LAST-MODIFIED:20231006T145226Z
UID:22469-1696683600-1696690800@www.ville-yutz.fr
SUMMARY:Foot : FC Yutz - Championnat U13-U12/Audun 2
DESCRIPTION:
URL:https://www.ville-yutz.fr/event/foot-fc-yutz-championnat-u13-u12-audun-2/
LOCATION:Stade Mermoz
CATEGORIES:Sports
ORGANIZER;CN="FC Yutz":MAILTO:utz.fc@moselle.lgef.fr
END:VEVENT
BEGIN:VEVENT
DTSTART;TZID=Europe/Paris:20231007T140000
DTEND;TZID=Europe/Paris:20231007T153000
DTSTAMP:20260421T194917
CREATED:20231006T145327Z
LAST-MODIFIED:20231006T145327Z
UID:22471-1696687200-1696692600@www.ville-yutz.fr
SUMMARY:Yutz Handball  - Match 16F/Bouzonville
DESCRIPTION:
URL:https://www.ville-yutz.fr/event/yutz-handball-match-16f-bouzonville/
LOCATION:Gymnase Saint-Exupéry\, 1 rue du Gymnase\, YUTZ\, 57970\, France
CATEGORIES:Sports
ORGANIZER;CN="Yutz Handball F%C3%A9minin":MAILTO:5657005@ffhandball.net
END:VEVENT
BEGIN:VEVENT
DTSTART;TZID=Europe/Paris:20231007T150000
DTEND;TZID=Europe/Paris:20231007T170000
DTSTAMP:20260421T194917
CREATED:20231006T145412Z
LAST-MODIFIED:20231006T145412Z
UID:22473-1696690800-1696698000@www.ville-yutz.fr
SUMMARY:Foot : FC Yutz - Coupe Grand Est U15/APM Metz
DESCRIPTION:
URL:https://www.ville-yutz.fr/event/foot-fc-yutz-coupe-grand-est-u15-apm-metz/
LOCATION:Stade Mermoz
CATEGORIES:Sports
ORGANIZER;CN="FC Yutz":MAILTO:utz.fc@moselle.lgef.fr
END:VEVENT
BEGIN:VEVENT
DTSTART;TZID=Europe/Paris:20231007T200000
DTEND;TZID=Europe/Paris:20231007T200000
DTSTAMP:20260421T194917
CREATED:20231006T150003Z
LAST-MODIFIED:20231006T150003Z
UID:22475-1696708800-1696708800@www.ville-yutz.fr
SUMMARY:Bal des Vieilles Tiges :
DESCRIPTION:
URL:https://www.ville-yutz.fr/event/bal-des-vieilles-tiges/
LOCATION:L’amphY\, 126 rue de la République\, YUTZ\, 57970\, France
CATEGORIES:Culture,Sports
ATTACH;FMTTYPE=image/jpeg:https://www.ville-yutz.fr/wp-content/uploads/2023/10/2023-10-07-soiree-deguisee-Vieilles-tiges.jpg
END:VEVENT
BEGIN:VEVENT
DTSTART;TZID=Europe/Paris:20231008T100000
DTEND;TZID=Europe/Paris:20231008T120000
DTSTAMP:20260421T194917
CREATED:20231006T150131Z
LAST-MODIFIED:20231006T150131Z
UID:22478-1696759200-1696766400@www.ville-yutz.fr
SUMMARY:Foot : US Yutz -Championnat séniors D3 / Uckange
DESCRIPTION:
URL:https://www.ville-yutz.fr/event/foot-us-yutz-championnat-seniors-d3-uckange/
LOCATION:Stade de la Forêt\, rue du Stade\, Yutz\, 57970
CATEGORIES:Sports
END:VEVENT
BEGIN:VEVENT
DTSTART;TZID=Europe/Paris:20231008T110000
DTEND;TZID=Europe/Paris:20231008T130000
DTSTAMP:20260421T194917
CREATED:20231006T150226Z
LAST-MODIFIED:20231006T150226Z
UID:22480-1696762800-1696770000@www.ville-yutz.fr
SUMMARY:Volley : ASVB Yutz-Thionville Jeunes/Coupe de France M15 Tour 1
DESCRIPTION:
URL:https://www.ville-yutz.fr/event/volley-asvb-yutz-thionville-jeunes-coupe-de-france-m15-tour-1/
LOCATION:Gymnase Mermoz\, Place de l'Arc-en-Ciel\, YUTZ\, 57970
CATEGORIES:Sports
END:VEVENT
BEGIN:VEVENT
DTSTART;TZID=Europe/Paris:20231008T150000
DTEND;TZID=Europe/Paris:20231008T170000
DTSTAMP:20260421T194917
CREATED:20231006T150841Z
LAST-MODIFIED:20231006T150841Z
UID:22487-1696777200-1696784400@www.ville-yutz.fr
SUMMARY:Foot : FC Yutz - Championnat Séniors R2/Merlebach SO
DESCRIPTION:
URL:https://www.ville-yutz.fr/event/foot-fc-yutz-championnat-seniors-r2-merlebach-so/
LOCATION:Stade Mermoz
CATEGORIES:Sports
ORGANIZER;CN="FC Yutz":MAILTO:utz.fc@moselle.lgef.fr
END:VEVENT
BEGIN:VEVENT
DTSTART;TZID=Europe/Paris:20231008T150000
DTEND;TZID=Europe/Paris:20231008T170000
DTSTAMP:20260421T194917
CREATED:20231006T150924Z
LAST-MODIFIED:20231006T150924Z
UID:22489-1696777200-1696784400@www.ville-yutz.fr
SUMMARY:Foot : US Yutz -Championnat séniors R2 / Magny RS
DESCRIPTION:
URL:https://www.ville-yutz.fr/event/foot-us-yutz-championnat-seniors-r2-magny-rs/
LOCATION:Stade de la Forêt\, rue du Stade\, Yutz\, 57970
CATEGORIES:Sports
END:VEVENT
BEGIN:VEVENT
DTSTART;TZID=Europe/Paris:20231008T150000
DTEND;TZID=Europe/Paris:20231008T170000
DTSTAMP:20260421T194917
CREATED:20231006T151010Z
LAST-MODIFIED:20231006T151010Z
UID:22491-1696777200-1696784400@www.ville-yutz.fr
SUMMARY:Foot : FC Yutz - Championnat Sénior A/Merlebach
DESCRIPTION:
URL:https://www.ville-yutz.fr/event/foot-fc-yutz-championnat-senior-a-merlebach/
LOCATION:Stade Mermoz
CATEGORIES:Sports
ORGANIZER;CN="FC Yutz":MAILTO:utz.fc@moselle.lgef.fr
END:VEVENT
BEGIN:VEVENT
DTSTART;TZID=Europe/Paris:20231014T090000
DTEND;TZID=Europe/Paris:20231014T230000
DTSTAMP:20260421T194917
CREATED:20231012T090303Z
LAST-MODIFIED:20231012T090303Z
UID:22582-1697274000-1697324400@www.ville-yutz.fr
SUMMARY:La Yeti
DESCRIPTION:
URL:https://www.ville-yutz.fr/event/la-yeti-2/
LOCATION:Parcours de santé\, Rue de la Forêt\, Yutz\, 57970
CATEGORIES:Sports
ATTACH;FMTTYPE=image/jpeg:https://www.ville-yutz.fr/wp-content/uploads/2023/10/YETI-2023.jpg
ORGANIZER;CN="Club Sportif Cycliste de Yutz":MAILTO:cscyutz@gmail.com
END:VEVENT
BEGIN:VEVENT
DTSTART;TZID=Europe/Paris:20231014T113000
DTEND;TZID=Europe/Paris:20231014T170000
DTSTAMP:20260421T194917
CREATED:20231013T152829Z
LAST-MODIFIED:20231013T152829Z
UID:22702-1697283000-1697302800@www.ville-yutz.fr
SUMMARY:ESTY - Challenge équip'athlé BE/MI
DESCRIPTION:
URL:https://www.ville-yutz.fr/event/esty-challenge-equipathle-be-mi/
LOCATION:Stade Mermoz
CATEGORIES:Sports
ORGANIZER;CN="ESTY":MAILTO:esty.athletisme@live.fr
END:VEVENT
BEGIN:VEVENT
DTSTART;TZID=Europe/Paris:20231014T130000
DTEND;TZID=Europe/Paris:20231014T150000
DTSTAMP:20260421T194917
CREATED:20231013T153723Z
LAST-MODIFIED:20231013T153723Z
UID:22704-1697288400-1697295600@www.ville-yutz.fr
SUMMARY:Foot - Championnat U14/Tremery
DESCRIPTION:
URL:https://www.ville-yutz.fr/event/foot-championnat-u14-tremery/
LOCATION:Stade Mermoz
CATEGORIES:Sports
ORGANIZER;CN="FC Yutz":MAILTO:utz.fc@moselle.lgef.fr
END:VEVENT
BEGIN:VEVENT
DTSTART;TZID=Europe/Paris:20231014T150000
DTEND;TZID=Europe/Paris:20231014T170000
DTSTAMP:20260421T194917
CREATED:20231013T153818Z
LAST-MODIFIED:20231013T153818Z
UID:22706-1697295600-1697302800@www.ville-yutz.fr
SUMMARY:Foot - Championnat U15/Nancy
DESCRIPTION:
URL:https://www.ville-yutz.fr/event/foot-championnat-u15-nancy/
LOCATION:Stade Mermoz
CATEGORIES:Sports
ORGANIZER;CN="FC Yutz":MAILTO:utz.fc@moselle.lgef.fr
END:VEVENT
BEGIN:VEVENT
DTSTART;TZID=Europe/Paris:20231014T160000
DTEND;TZID=Europe/Paris:20231014T200000
DTSTAMP:20260421T194917
CREATED:20231013T153939Z
LAST-MODIFIED:20231013T153939Z
UID:22708-1697299200-1697313600@www.ville-yutz.fr
SUMMARY:Yutz Handball  - Match EQ2/Amanvillers
DESCRIPTION:
URL:https://www.ville-yutz.fr/event/yutz-handball-match-eq2-amanvillers/
LOCATION:Gymnase Saint-Exupéry\, 1 rue du Gymnase\, YUTZ\, 57970\, France
CATEGORIES:Sports
ORGANIZER;CN="Yutz Handball":MAILTO:5657005@ffhandball.net
END:VEVENT
BEGIN:VEVENT
DTSTART;TZID=Europe/Paris:20231014T170000
DTEND;TZID=Europe/Paris:20231014T190000
DTSTAMP:20260421T194917
CREATED:20231013T154146Z
LAST-MODIFIED:20231013T154146Z
UID:22710-1697302800-1697310000@www.ville-yutz.fr
SUMMARY:Foot : FC Yutz - Amical Vétérans/Joeuf
DESCRIPTION:
URL:https://www.ville-yutz.fr/event/foot-fc-yutz-amical-veterans-joeuf/
LOCATION:Stade Mermoz
CATEGORIES:Sports
ORGANIZER;CN="FC Yutz":MAILTO:utz.fc@moselle.lgef.fr
END:VEVENT
BEGIN:VEVENT
DTSTART;TZID=Europe/Paris:20231014T200000
DTEND;TZID=Europe/Paris:20231014T230000
DTSTAMP:20260421T194917
CREATED:20231013T154544Z
LAST-MODIFIED:20231013T154544Z
UID:22713-1697313600-1697324400@www.ville-yutz.fr
SUMMARY:Gala de boxe pro et amateur
DESCRIPTION:
URL:https://www.ville-yutz.fr/event/gala-de-boxe-pro-et-amateur/
LOCATION:Salle Anne-Sophie Mathis\, impasse Selver\, Yutz
CATEGORIES:Sports
ATTACH;FMTTYPE=image/jpeg:https://www.ville-yutz.fr/wp-content/uploads/2023/10/2023-10-14-gala-boxe-scaled.jpg
ORGANIZER;CN="Association sportive de boxe de Yutz":MAILTO:asboxeyutz@gmail.com
END:VEVENT
BEGIN:VEVENT
DTSTART;TZID=Europe/Paris:20231014T203000
DTEND;TZID=Europe/Paris:20231014T223000
DTSTAMP:20260421T194917
CREATED:20231013T154717Z
LAST-MODIFIED:20231013T154717Z
UID:22717-1697315400-1697322600@www.ville-yutz.fr
SUMMARY:Volley - Championnat Grand Est - Yutz Thionville/Metz EV
DESCRIPTION:
URL:https://www.ville-yutz.fr/event/volley-championnat-grand-est-yutz-thionville-metz-ev/
LOCATION:Gymnase Jean Mermoz\, Place de l'Arc-en-ciel\, Yutz\, 57970\, France
CATEGORIES:Sports
END:VEVENT
BEGIN:VEVENT
DTSTART;TZID=Europe/Paris:20231015T080000
DTEND;TZID=Europe/Paris:20231015T170000
DTSTAMP:20260421T194917
CREATED:20231013T155330Z
LAST-MODIFIED:20231013T155330Z
UID:22729-1697356800-1697389200@www.ville-yutz.fr
SUMMARY:Foot : FC Yutz - Championnat U21/Serémange
DESCRIPTION:
URL:https://www.ville-yutz.fr/event/foot-fc-yutz-championnat-u21-seremange/
LOCATION:Stade Mermoz
CATEGORIES:Sports
ORGANIZER;CN="FC Yutz":MAILTO:utz.fc@moselle.lgef.fr
END:VEVENT
BEGIN:VEVENT
DTSTART;TZID=Europe/Paris:20231015T100000
DTEND;TZID=Europe/Paris:20231015T120000
DTSTAMP:20260421T194917
CREATED:20231013T154836Z
LAST-MODIFIED:20231013T154836Z
UID:22719-1697364000-1697371200@www.ville-yutz.fr
SUMMARY:FC Yutz - Championnat Vétérans Loisir/Marly
DESCRIPTION:
URL:https://www.ville-yutz.fr/event/fc-yutz-championnat-veterans-loisir-marly/
LOCATION:Stade Mermoz
CATEGORIES:Sports
END:VEVENT
END:VCALENDAR