BEGIN:VCALENDAR
VERSION:2.0
PRODID:-//Ville de Yutz - ECPv6.15.16//NONSGML v1.0//EN
CALSCALE:GREGORIAN
METHOD:PUBLISH
X-WR-CALNAME:Ville de Yutz
X-ORIGINAL-URL:https://www.ville-yutz.fr
X-WR-CALDESC:Évènements pour Ville de Yutz
REFRESH-INTERVAL;VALUE=DURATION:PT1H
X-Robots-Tag:noindex
X-PUBLISHED-TTL:PT1H
BEGIN:VTIMEZONE
TZID:Europe/Paris
BEGIN:DAYLIGHT
TZOFFSETFROM:+0100
TZOFFSETTO:+0200
TZNAME:CEST
DTSTART:20220327T010000
END:DAYLIGHT
BEGIN:STANDARD
TZOFFSETFROM:+0200
TZOFFSETTO:+0100
TZNAME:CET
DTSTART:20221030T010000
END:STANDARD
BEGIN:DAYLIGHT
TZOFFSETFROM:+0100
TZOFFSETTO:+0200
TZNAME:CEST
DTSTART:20230326T010000
END:DAYLIGHT
BEGIN:STANDARD
TZOFFSETFROM:+0200
TZOFFSETTO:+0100
TZNAME:CET
DTSTART:20231029T010000
END:STANDARD
BEGIN:DAYLIGHT
TZOFFSETFROM:+0100
TZOFFSETTO:+0200
TZNAME:CEST
DTSTART:20240331T010000
END:DAYLIGHT
BEGIN:STANDARD
TZOFFSETFROM:+0200
TZOFFSETTO:+0100
TZNAME:CET
DTSTART:20241027T010000
END:STANDARD
END:VTIMEZONE
BEGIN:VEVENT
DTSTART;VALUE=DATE:20230711
DTEND;VALUE=DATE:20230820
DTSTAMP:20260421T234542
CREATED:20230630T102003Z
LAST-MODIFIED:20230707T161517Z
UID:20057-1689033600-1692489599@www.ville-yutz.fr
SUMMARY:Moselle Jeunesse
DESCRIPTION:Programme\, règlement\, inscriptions : https://www.ville-yutz.fr/2023/06/28/moselle-jeunesse-10-juillet-au-18-aout-2023/
URL:https://www.ville-yutz.fr/event/moselle-jeunesse-5/
CATEGORIES:Jeunesse,Sports
ATTACH;FMTTYPE=image/jpeg:https://www.ville-yutz.fr/wp-content/uploads/2023/06/Moselle-jeunesse-ete-2023-1-scaled.jpg
END:VEVENT
BEGIN:VEVENT
DTSTART;VALUE=DATE:20230722
DTEND;VALUE=DATE:20230821
DTSTAMP:20260421T234542
CREATED:20230630T102541Z
LAST-MODIFIED:20230707T163754Z
UID:20062-1689984000-1692575999@www.ville-yutz.fr
SUMMARY:Yutz plage
DESCRIPTION:
URL:https://www.ville-yutz.fr/event/yutz-plage-5/
LOCATION:Berges de la Moselle\, YUTZ\, 57970
CATEGORIES:Culture,Jeunesse,Sports
ATTACH;FMTTYPE=image/jpeg:https://www.ville-yutz.fr/wp-content/uploads/2023/07/yutz-plage-2023-scaled.jpg
END:VEVENT
BEGIN:VEVENT
DTSTART;VALUE=DATE:20230724
DTEND;VALUE=DATE:20230916
DTSTAMP:20260421T234542
CREATED:20230724T161401Z
LAST-MODIFIED:20230821T115130Z
UID:20841-1690156800-1694822399@www.ville-yutz.fr
SUMMARY:Inscriptions au TC Yutz Aéroparc
DESCRIPTION:Vous voulez découvrir le tennis en loisir ou en compétition ? \nRenseignements et inscriptions : yutztennisclub@gmail.com – Té: : 06 21 47 49 58 \nPossibilité d’inscriptions sur place les 2\, 6\, 9\, 13 et 16 septembre\, de 10h00 à 12h00 et de 14h00 à 17h00. \n 
URL:https://www.ville-yutz.fr/event/inscriptions-au-tc-yutz-aeroparc/
CATEGORIES:Sports
ATTACH;FMTTYPE=image/jpeg:https://www.ville-yutz.fr/wp-content/uploads/2023/07/tc-yutz-aeroparc.jpeg
END:VEVENT
BEGIN:VEVENT
DTSTART;VALUE=DATE:20230729
DTEND;VALUE=DATE:20230805
DTSTAMP:20260421T234542
CREATED:20230721T155716Z
LAST-MODIFIED:20230721T155824Z
UID:20741-1690588800-1691193599@www.ville-yutz.fr
SUMMARY:YUTZ PLAGE : programme semaine 2
DESCRIPTION:
URL:https://www.ville-yutz.fr/event/yutz-plage-programme-semaine-2/
LOCATION:Berges de la Moselle Yutz
CATEGORIES:Culture,Jeunesse,Sports
ATTACH;FMTTYPE=image/jpeg:https://www.ville-yutz.fr/wp-content/uploads/2023/07/SEMAINE-2-scaled.jpg
END:VEVENT
BEGIN:VEVENT
DTSTART;VALUE=DATE:20230805
DTEND;VALUE=DATE:20230812
DTSTAMP:20260421T234542
CREATED:20230721T160217Z
LAST-MODIFIED:20230808T083106Z
UID:20744-1691193600-1691798399@www.ville-yutz.fr
SUMMARY:YUTZ PLAGE : programme semaine 3
DESCRIPTION:
URL:https://www.ville-yutz.fr/event/yutz-plage-programme-semaine-3/
LOCATION:Berges de la Moselle Yutz
CATEGORIES:Culture,Jeunesse,Sports
ATTACH;FMTTYPE=image/jpeg:https://www.ville-yutz.fr/wp-content/uploads/2023/07/SEMAINE-3-v2-bis.jpg
END:VEVENT
BEGIN:VEVENT
DTSTART;TZID=Europe/Paris:20230805T140000
DTEND;TZID=Europe/Paris:20230805T200000
DTSTAMP:20260421T234542
CREATED:20230803T135558Z
LAST-MODIFIED:20230803T135558Z
UID:20894-1691244000-1691265600@www.ville-yutz.fr
SUMMARY:Tournois de pétanque
DESCRIPTION:Dans le cadre de Yutz Plage \ntournoi -15ans de 14h à 17h avec remise des prix à 17h\ntournoi +15ans de 17h à 20h avec remise des prix à 20h
URL:https://www.ville-yutz.fr/event/tournois-de-petanque/
LOCATION:Berges de la Moselle Yutz
CATEGORIES:Sports
ORGANIZER;CN="Ville de Yutz":MAILTO:yutz@mairie-yutz.fr
END:VEVENT
BEGIN:VEVENT
DTSTART;TZID=Europe/Paris:20230805T183000
DTEND;TZID=Europe/Paris:20230805T203000
DTSTAMP:20260421T234542
CREATED:20230803T135324Z
LAST-MODIFIED:20230803T135324Z
UID:20892-1691260200-1691267400@www.ville-yutz.fr
SUMMARY:Foot : FC YUTZ Amical Séniors A Yutz/CSOA
DESCRIPTION:
URL:https://www.ville-yutz.fr/event/foot-fc-yutz-amical-seniors-a-yutz-csoa/
LOCATION:Stade Mermoz
CATEGORIES:Sports
ORGANIZER;CN="FC Yutz":MAILTO:utz.fc@moselle.lgef.fr
END:VEVENT
BEGIN:VEVENT
DTSTART;VALUE=DATE:20230812
DTEND;VALUE=DATE:20230819
DTSTAMP:20260421T234542
CREATED:20230721T160404Z
LAST-MODIFIED:20230817T092750Z
UID:20748-1691798400-1692403199@www.ville-yutz.fr
SUMMARY:YUTZ PLAGE : programme semaine 4
DESCRIPTION:
URL:https://www.ville-yutz.fr/event/yutz-plage-programme-semaine-4/
LOCATION:Berges de la Moselle Yutz
CATEGORIES:Culture,Jeunesse,Sports
ATTACH;FMTTYPE=image/jpeg:https://www.ville-yutz.fr/wp-content/uploads/2023/07/SEMAINE-4-final-scaled.jpg
END:VEVENT
BEGIN:VEVENT
DTSTART;TZID=Europe/Paris:20230812T140000
DTEND;TZID=Europe/Paris:20230812T200000
DTSTAMP:20260421T234542
CREATED:20230803T140356Z
LAST-MODIFIED:20230803T140356Z
UID:20904-1691848800-1691870400@www.ville-yutz.fr
SUMMARY:Tournois de Beach tennis
DESCRIPTION:Dans le cadre de Yutz Plage \ntournoi -15ans de 14h à 17h avec remise des prix à 17h\ntournoi +15ans de 17h à 20h avec remise des prix à 20h
URL:https://www.ville-yutz.fr/event/tournois-de-beach-tennis/
LOCATION:Berges de la Moselle Yutz
CATEGORIES:Sports
END:VEVENT
BEGIN:VEVENT
DTSTART;TZID=Europe/Paris:20230812T150000
DTEND;TZID=Europe/Paris:20230812T170000
DTSTAMP:20260421T234542
CREATED:20230803T140240Z
LAST-MODIFIED:20230803T140240Z
UID:20902-1691852400-1691859600@www.ville-yutz.fr
SUMMARY:Foot : FC YUTZ Amical U14 Yutz/Epernay
DESCRIPTION:
URL:https://www.ville-yutz.fr/event/foot-fc-yutz-amical-u14-yutz-epernay/
LOCATION:Stade Mermoz
CATEGORIES:Sports
ORGANIZER;CN="FC Yutz":MAILTO:utz.fc@moselle.lgef.fr
END:VEVENT
BEGIN:VEVENT
DTSTART;TZID=Europe/Paris:20230815T170000
DTEND;TZID=Europe/Paris:20230815T210000
DTSTAMP:20260421T234542
CREATED:20230803T141559Z
LAST-MODIFIED:20230803T141559Z
UID:20908-1692118800-1692133200@www.ville-yutz.fr
SUMMARY:Blue Run - Course relais nature engagée
DESCRIPTION:La Blue Run est de retour pour une 4ème année consécutive. \nCOURSE RELAIS au départ du magasin Decathlon Yutz.
URL:https://www.ville-yutz.fr/event/blue-run-course-relais-nature-engagee/
LOCATION:Décathlon Village\, Zac Meilbourg\, Route d'Illange\, Yutz\, 57970
CATEGORIES:Sports
ATTACH;FMTTYPE=image/jpeg:https://www.ville-yutz.fr/wp-content/uploads/2023/08/photo_BlueRun.jpg
END:VEVENT
BEGIN:VEVENT
DTSTART;VALUE=DATE:20230819
DTEND;VALUE=DATE:20230821
DTSTAMP:20260421T234542
CREATED:20230721T161935Z
LAST-MODIFIED:20230818T130850Z
UID:20751-1692403200-1692575999@www.ville-yutz.fr
SUMMARY:YUTZ PLAGE : Week-end de clôture
DESCRIPTION:  \n 
URL:https://www.ville-yutz.fr/event/yutz-plage-week-end-de-cloture/
LOCATION:Berges de la Moselle Yutz
CATEGORIES:Culture,Jeunesse,Sports
ATTACH;FMTTYPE=image/jpeg:https://www.ville-yutz.fr/wp-content/uploads/2023/07/we-cloture-scaled.jpg
END:VEVENT
BEGIN:VEVENT
DTSTART;TZID=Europe/Paris:20230819T100000
DTEND;TZID=Europe/Paris:20230819T120000
DTSTAMP:20260421T234542
CREATED:20230818T124050Z
LAST-MODIFIED:20230818T124050Z
UID:21406-1692439200-1692446400@www.ville-yutz.fr
SUMMARY:Foot : FC YUTZ Amical U11.U10-2 Yutz/Scy-Chazelles
DESCRIPTION:
URL:https://www.ville-yutz.fr/event/foot-fc-yutz-amical-u11-u10-2-yutz-scy-chazelles/
LOCATION:Stade Mermoz
CATEGORIES:Sports
ORGANIZER;CN="FC Yutz":MAILTO:utz.fc@moselle.lgef.fr
END:VEVENT
BEGIN:VEVENT
DTSTART;TZID=Europe/Paris:20230819T130000
DTEND;TZID=Europe/Paris:20230819T150000
DTSTAMP:20260421T234542
CREATED:20230818T124244Z
LAST-MODIFIED:20230818T124244Z
UID:21409-1692450000-1692457200@www.ville-yutz.fr
SUMMARY:Foot : FC YUTZ Amical U12-1 Yutz/Devant les ponts
DESCRIPTION:
URL:https://www.ville-yutz.fr/event/foot-fc-yutz-amical-u12-1-yutz-devant-les-ponts/
LOCATION:Stade Mermoz
CATEGORIES:Sports
ORGANIZER;CN="FC Yutz":MAILTO:utz.fc@moselle.lgef.fr
END:VEVENT
BEGIN:VEVENT
DTSTART;TZID=Europe/Paris:20230819T130000
DTEND;TZID=Europe/Paris:20230819T150000
DTSTAMP:20260421T234542
CREATED:20230818T124321Z
LAST-MODIFIED:20230818T125018Z
UID:21411-1692450000-1692457200@www.ville-yutz.fr
SUMMARY:Foot : FC YUTZ Amical U13-12 Yutz/Devant les ponts
DESCRIPTION:
URL:https://www.ville-yutz.fr/event/foot-fc-yutz-amical-u12-2-yutz-devant-les-ponts/
LOCATION:Stade Mermoz
CATEGORIES:Sports
END:VEVENT
BEGIN:VEVENT
DTSTART;TZID=Europe/Paris:20230819T150000
DTEND;TZID=Europe/Paris:20230819T170000
DTSTAMP:20260421T234542
CREATED:20230818T125113Z
LAST-MODIFIED:20230818T125113Z
UID:21417-1692457200-1692464400@www.ville-yutz.fr
SUMMARY:Foot : FC YUTZ Amical U15 Yutz/RFCU
DESCRIPTION:
URL:https://www.ville-yutz.fr/event/foot-fc-yutz-amical-u15-yutz-rfcu/
LOCATION:Stade Mermoz
CATEGORIES:Sports
ORGANIZER;CN="FC Yutz":MAILTO:utz.fc@moselle.lgef.fr
END:VEVENT
BEGIN:VEVENT
DTSTART;TZID=Europe/Paris:20230820T143000
DTEND;TZID=Europe/Paris:20230820T170000
DTSTAMP:20260421T234542
CREATED:20230818T125653Z
LAST-MODIFIED:20230818T125653Z
UID:21423-1692541800-1692550800@www.ville-yutz.fr
SUMMARY:Pétanque DNH
DESCRIPTION:
URL:https://www.ville-yutz.fr/event/petanque-dnh-7/
LOCATION:Boulodrome\, 1 rue Sainte-Barbe\, YUTZ\, -\, 57970\, France
CATEGORIES:Sports
ORGANIZER;CN="Club de P%C3%A9tanque de Yutz":MAILTO:cpy57970@gmail.com
END:VEVENT
BEGIN:VEVENT
DTSTART;TZID=Europe/Paris:20230823T180000
DTEND;TZID=Europe/Paris:20230823T200000
DTSTAMP:20260421T234542
CREATED:20230818T131031Z
LAST-MODIFIED:20230818T131031Z
UID:21431-1692813600-1692820800@www.ville-yutz.fr
SUMMARY:Foot : FC YUTZ Amical U14 Yutz/Veymerange
DESCRIPTION:
URL:https://www.ville-yutz.fr/event/foot-fc-yutz-amical-u14-yutz-veymerange/
LOCATION:Stade Mermoz
CATEGORIES:Sports
ORGANIZER;CN="FC Yutz":MAILTO:utz.fc@moselle.lgef.fr
END:VEVENT
BEGIN:VEVENT
DTSTART;TZID=Europe/Paris:20230824T193000
DTEND;TZID=Europe/Paris:20230824T213000
DTSTAMP:20260421T234542
CREATED:20230818T131124Z
LAST-MODIFIED:20230818T131124Z
UID:21433-1692905400-1692912600@www.ville-yutz.fr
SUMMARY:Foot : FC YUTZ Amical U18 Yutz/Hettange-Grande
DESCRIPTION:
URL:https://www.ville-yutz.fr/event/foot-fc-yutz-amical-u18-yutz-hettange-grande/
LOCATION:Stade Mermoz
CATEGORIES:Sports
ORGANIZER;CN="FC Yutz":MAILTO:utz.fc@moselle.lgef.fr
END:VEVENT
BEGIN:VEVENT
DTSTART;TZID=Europe/Paris:20230826T100000
DTEND;TZID=Europe/Paris:20230826T120000
DTSTAMP:20260421T234542
CREATED:20230818T131213Z
LAST-MODIFIED:20230818T131213Z
UID:21435-1693044000-1693051200@www.ville-yutz.fr
SUMMARY:Foot : FC YUTZ Amical U11.U10-2 Yutz/Magny
DESCRIPTION:
URL:https://www.ville-yutz.fr/event/foot-fc-yutz-amical-u11-u10-2-yutz-magny/
LOCATION:Stade Mermoz
CATEGORIES:Sports
ORGANIZER;CN="FC Yutz":MAILTO:utz.fc@moselle.lgef.fr
END:VEVENT
BEGIN:VEVENT
DTSTART;TZID=Europe/Paris:20230826T150000
DTEND;TZID=Europe/Paris:20230826T170000
DTSTAMP:20260421T234542
CREATED:20230818T131616Z
LAST-MODIFIED:20230818T131616Z
UID:21442-1693062000-1693069200@www.ville-yutz.fr
SUMMARY:Foot : FC YUTZ Amical U15 Yutz/ESVT
DESCRIPTION:
URL:https://www.ville-yutz.fr/event/foot-fc-yutz-amical-u15-yutz-esvt/
LOCATION:Stade Mermoz
CATEGORIES:Sports
ORGANIZER;CN="FC Yutz":MAILTO:utz.fc@moselle.lgef.fr
END:VEVENT
BEGIN:VEVENT
DTSTART;TZID=Europe/Paris:20230827T100000
DTEND;TZID=Europe/Paris:20230827T120000
DTSTAMP:20260421T234542
CREATED:20230818T132914Z
LAST-MODIFIED:20230818T132914Z
UID:21444-1693130400-1693137600@www.ville-yutz.fr
SUMMARY:Foot FC YUTZ Amical U13-1 Yutz/RFCU
DESCRIPTION:
URL:https://www.ville-yutz.fr/event/foot-fc-yutz-amical-u13-1-yutz-rfcu/
LOCATION:Stade Mermoz
CATEGORIES:Sports
ORGANIZER;CN="FC Yutz":MAILTO:utz.fc@moselle.lgef.fr
END:VEVENT
BEGIN:VEVENT
DTSTART;TZID=Europe/Paris:20230827T100000
DTEND;TZID=Europe/Paris:20230827T120000
DTSTAMP:20260421T234542
CREATED:20230818T132957Z
LAST-MODIFIED:20230818T132957Z
UID:21446-1693130400-1693137600@www.ville-yutz.fr
SUMMARY:Foot : FC YUTZ Amical U13/U12-1 Yutz/RFCU
DESCRIPTION:
URL:https://www.ville-yutz.fr/event/foot-fc-yutz-amical-u13-u12-1-yutz-rfcu/
LOCATION:Stade Mermoz
CATEGORIES:Sports
ORGANIZER;CN="FC Yutz":MAILTO:utz.fc@moselle.lgef.fr
END:VEVENT
BEGIN:VEVENT
DTSTART;TZID=Europe/Paris:20230827T150000
DTEND;TZID=Europe/Paris:20230827T170000
DTSTAMP:20260421T234542
CREATED:20230824T150941Z
LAST-MODIFIED:20230824T150941Z
UID:21562-1693148400-1693155600@www.ville-yutz.fr
SUMMARY:Foot : JSA - championnat sénior / Rombas
DESCRIPTION:
URL:https://www.ville-yutz.fr/event/foot-jsa-championnat-senior-rombas/
LOCATION:Stade Denis Muller\, Rue Victor Hugo\, YUTZ\, 57970
CATEGORIES:Sports
END:VEVENT
END:VCALENDAR