BEGIN:VCALENDAR
VERSION:2.0
PRODID:-//Ville de Yutz - ECPv6.15.16//NONSGML v1.0//EN
CALSCALE:GREGORIAN
METHOD:PUBLISH
X-WR-CALNAME:Ville de Yutz
X-ORIGINAL-URL:https://www.ville-yutz.fr
X-WR-CALDESC:Évènements pour Ville de Yutz
REFRESH-INTERVAL;VALUE=DURATION:PT1H
X-Robots-Tag:noindex
X-PUBLISHED-TTL:PT1H
BEGIN:VTIMEZONE
TZID:Europe/Paris
BEGIN:DAYLIGHT
TZOFFSETFROM:+0100
TZOFFSETTO:+0200
TZNAME:CEST
DTSTART:20220327T010000
END:DAYLIGHT
BEGIN:STANDARD
TZOFFSETFROM:+0200
TZOFFSETTO:+0100
TZNAME:CET
DTSTART:20221030T010000
END:STANDARD
BEGIN:DAYLIGHT
TZOFFSETFROM:+0100
TZOFFSETTO:+0200
TZNAME:CEST
DTSTART:20230326T010000
END:DAYLIGHT
BEGIN:STANDARD
TZOFFSETFROM:+0200
TZOFFSETTO:+0100
TZNAME:CET
DTSTART:20231029T010000
END:STANDARD
BEGIN:DAYLIGHT
TZOFFSETFROM:+0100
TZOFFSETTO:+0200
TZNAME:CEST
DTSTART:20240331T010000
END:DAYLIGHT
BEGIN:STANDARD
TZOFFSETFROM:+0200
TZOFFSETTO:+0100
TZNAME:CET
DTSTART:20241027T010000
END:STANDARD
END:VTIMEZONE
BEGIN:VEVENT
DTSTART;TZID=Europe/Paris:20230501T080000
DTEND;TZID=Europe/Paris:20230501T170000
DTSTAMP:20260422T034430
CREATED:20230425T134256Z
LAST-MODIFIED:20230425T134256Z
UID:18331-1682928000-1682960400@www.ville-yutz.fr
SUMMARY:Judicium Gravel
DESCRIPTION:Entre balade en famille et randonnée sportive \nDépart et arrivée le lundi 1er mai 2023 à l’Aéroparc de YUTZ\, parkings publics à proximité. \nPré-inscription internet recommandée\, possible jusqu’au 30 avril 2023 inclus sur le site www.cscyutz.com. \nSur place : \n\n20 km : de 9h00 à 11H00\n60 km : de 8h00 à 10h30\n90 km : de 8h00 à 9h30\nDépart libre après l’inscription. Aucun classement.
URL:https://www.ville-yutz.fr/event/judicium-gravel/
LOCATION:Aéroparc
CATEGORIES:Sports
ATTACH;FMTTYPE=image/jpeg:https://www.ville-yutz.fr/wp-content/uploads/2023/04/2023-05-01-judicium-gravel.jpg
ORGANIZER;CN="Club Sportif Cycliste de Yutz":MAILTO:cscyutz@gmail.com
END:VEVENT
BEGIN:VEVENT
DTSTART;TZID=Europe/Paris:20230501T090000
DTEND;TZID=Europe/Paris:20230501T174500
DTSTAMP:20260422T034430
CREATED:20230425T133508Z
LAST-MODIFIED:20230425T133508Z
UID:18329-1682931600-1682963100@www.ville-yutz.fr
SUMMARY:FC YUTZ : Tournoi de foot
DESCRIPTION:
URL:https://www.ville-yutz.fr/event/fc-yutz-tournoi-de-foot/
LOCATION:Stade Mermoz
CATEGORIES:Sports
ORGANIZER;CN="FC Yutz":MAILTO:utz.fc@moselle.lgef.fr
END:VEVENT
BEGIN:VEVENT
DTSTART;TZID=Europe/Paris:20230506T100000
DTEND;TZID=Europe/Paris:20230506T120000
DTSTAMP:20260422T034430
CREATED:20230505T154644Z
LAST-MODIFIED:20230505T154644Z
UID:18635-1683367200-1683374400@www.ville-yutz.fr
SUMMARY:Foot : FC YUTZ Plateau U6/U7
DESCRIPTION:
URL:https://www.ville-yutz.fr/event/foot-fc-yutz-plateau-u6-u7-2/
LOCATION:Stade Mermoz
CATEGORIES:Sports
ORGANIZER;CN="FC Yutz":MAILTO:utz.fc@moselle.lgef.fr
END:VEVENT
BEGIN:VEVENT
DTSTART;TZID=Europe/Paris:20230506T130000
DTEND;TZID=Europe/Paris:20230506T150000
DTSTAMP:20260422T034430
CREATED:20230505T154739Z
LAST-MODIFIED:20230505T154739Z
UID:18637-1683378000-1683385200@www.ville-yutz.fr
SUMMARY:Foot : FC YUTZ Championnat U13/U12 -1 / Pierrevillers
DESCRIPTION:
URL:https://www.ville-yutz.fr/event/foot-fc-yutz-championnat-u13-u12-1-pierrevillers/
LOCATION:Stade Mermoz
CATEGORIES:Sports
ORGANIZER;CN="FC Yutz":MAILTO:utz.fc@moselle.lgef.fr
END:VEVENT
BEGIN:VEVENT
DTSTART;TZID=Europe/Paris:20230506T150000
DTEND;TZID=Europe/Paris:20230506T170000
DTSTAMP:20260422T034430
CREATED:20230425T144326Z
LAST-MODIFIED:20230425T144326Z
UID:18345-1683385200-1683392400@www.ville-yutz.fr
SUMMARY:Foot : FC YUTZ U15/ St Avold E.N. 15
DESCRIPTION:
URL:https://www.ville-yutz.fr/event/foot-fc-yutz-u15-st-avold-e-n-15/
LOCATION:Stade Mermoz
CATEGORIES:Sports
ORGANIZER;CN="FC Yutz":MAILTO:utz.fc@moselle.lgef.fr
END:VEVENT
BEGIN:VEVENT
DTSTART;TZID=Europe/Paris:20230506T150000
DTEND;TZID=Europe/Paris:20230506T170000
DTSTAMP:20260422T034430
CREATED:20230505T154839Z
LAST-MODIFIED:20230505T154839Z
UID:18639-1683385200-1683392400@www.ville-yutz.fr
SUMMARY:Foot : FC YUTZ Championnat U14 / Saint-Avold
DESCRIPTION:
URL:https://www.ville-yutz.fr/event/foot-fc-yutz-championnat-u14-saint-avold/
LOCATION:Stade Mermoz
CATEGORIES:Sports
ORGANIZER;CN="FC Yutz":MAILTO:utz.fc@moselle.lgef.fr
END:VEVENT
BEGIN:VEVENT
DTSTART;TZID=Europe/Paris:20230506T173000
DTEND;TZID=Europe/Paris:20230506T193000
DTSTAMP:20260422T034430
CREATED:20230425T144239Z
LAST-MODIFIED:20230425T144239Z
UID:18343-1683394200-1683401400@www.ville-yutz.fr
SUMMARY:Foot : FC YUTZ U18 1/ Gandrange ES 18
DESCRIPTION:
URL:https://www.ville-yutz.fr/event/foot-fc-yutz-u18-1-gandrange-es-18/
LOCATION:Stade Mermoz
CATEGORIES:Sports
ORGANIZER;CN="FC Yutz":MAILTO:utz.fc@moselle.lgef.fr
END:VEVENT
BEGIN:VEVENT
DTSTART;TZID=Europe/Paris:20230506T180000
DTEND;TZID=Europe/Paris:20230506T200000
DTSTAMP:20260422T034430
CREATED:20230505T154934Z
LAST-MODIFIED:20230505T154934Z
UID:18641-1683396000-1683403200@www.ville-yutz.fr
SUMMARY:Foot : FC YUTZ Amical Vétérans/Gandrange
DESCRIPTION:
URL:https://www.ville-yutz.fr/event/foot-fc-yutz-amical-veterans-gandrange/
LOCATION:Stade Mermoz
CATEGORIES:Sports
ORGANIZER;CN="FC Yutz":MAILTO:utz.fc@moselle.lgef.fr
END:VEVENT
BEGIN:VEVENT
DTSTART;TZID=Europe/Paris:20230507T150000
DTEND;TZID=Europe/Paris:20230507T170000
DTSTAMP:20260422T034430
CREATED:20230425T144449Z
LAST-MODIFIED:20230425T144449Z
UID:18347-1683471600-1683478800@www.ville-yutz.fr
SUMMARY:Foot : JSA Yutz cité/Manom JS
DESCRIPTION:
URL:https://www.ville-yutz.fr/event/foot-jsa-yutz-cite-manom-js/
LOCATION:Stade Denis Muller\, Rue Victor Hugo\, YUTZ\, 57970
CATEGORIES:Sports
END:VEVENT
BEGIN:VEVENT
DTSTART;TZID=Europe/Paris:20230507T150000
DTEND;TZID=Europe/Paris:20230507T170000
DTSTAMP:20260422T034430
CREATED:20230425T144530Z
LAST-MODIFIED:20230425T144530Z
UID:18349-1683471600-1683478800@www.ville-yutz.fr
SUMMARY:Foot : FC YUTZ Séniors A Yutz1/ U.S.AVT G.Uckange
DESCRIPTION:
URL:https://www.ville-yutz.fr/event/foot-fc-yutz-seniors-a-yutz1-u-s-avt-g-uckange/
LOCATION:Stade Mermoz
CATEGORIES:Sports
ORGANIZER;CN="FC Yutz":MAILTO:utz.fc@moselle.lgef.fr
END:VEVENT
BEGIN:VEVENT
DTSTART;TZID=Europe/Paris:20230507T150000
DTEND;TZID=Europe/Paris:20230507T170000
DTSTAMP:20260422T034430
CREATED:20230505T155240Z
LAST-MODIFIED:20230505T155240Z
UID:18643-1683471600-1683478800@www.ville-yutz.fr
SUMMARY:Foot : FC YUTZ Championnat Senior A/Uckange
DESCRIPTION:
URL:https://www.ville-yutz.fr/event/foot-fc-yutz-championnat-senior-a-uckange/
LOCATION:Stade Mermoz
CATEGORIES:Sports
ORGANIZER;CN="FC Yutz":MAILTO:utz.fc@moselle.lgef.fr
END:VEVENT
BEGIN:VEVENT
DTSTART;TZID=Europe/Paris:20230511T133000
DTEND;TZID=Europe/Paris:20230511T163000
DTSTAMP:20260422T034430
CREATED:20230425T150747Z
LAST-MODIFIED:20230504T141638Z
UID:18355-1683811800-1683822600@www.ville-yutz.fr
SUMMARY:Mon Challenge\, un emploi
DESCRIPTION:Les Directions de la Solidarité et de l’Emploi\, de l’Education\, de la Jeunesse et du Sport de la Ville de Yutz en partenariat avec le CREPI EST ainsi que différents partenaires\, organisent la 5e édition de « Mon Challenge/un Emploi ». \nUne rencontre originale et pragmatique autour du sport permettant de mettre en relation demandeurs d’emplois\, employeurs et organismes de formation dans des domaines d’activités tels que l’apprentissage\, l’alternance\, le contrat de professionnalisation\, les formations ainsi que l’animation. \nL’activité sportive retenue pour cette 5e édition est le volleyball et cette initiation sportive sera portée par l’ASVB de Yutz.
URL:https://www.ville-yutz.fr/event/mon-challenge-un-emploi-2/
LOCATION:Gymnase Jean Mermoz\, Place de l'Arc-en-ciel\, Yutz\, 57970\, France
CATEGORIES:emploi,Sports
ATTACH;FMTTYPE=image/jpeg:https://www.ville-yutz.fr/wp-content/uploads/2023/04/2023-05-11-challenge-emploi-scaled.jpg
END:VEVENT
BEGIN:VEVENT
DTSTART;TZID=Europe/Paris:20230513T150000
DTEND;TZID=Europe/Paris:20230513T170000
DTSTAMP:20260422T034430
CREATED:20230425T153139Z
LAST-MODIFIED:20230425T153139Z
UID:18361-1683990000-1683997200@www.ville-yutz.fr
SUMMARY:Foot : FC YUTZ U15 1/ Epernay RC 1
DESCRIPTION:
URL:https://www.ville-yutz.fr/event/foot-fc-yutz-u15-1-epernay-rc-1/
LOCATION:Stade Mermoz
CATEGORIES:Sports
ORGANIZER;CN="FC Yutz":MAILTO:utz.fc@moselle.lgef.fr
END:VEVENT
BEGIN:VEVENT
DTSTART;TZID=Europe/Paris:20230513T203000
DTEND;TZID=Europe/Paris:20230513T203000
DTSTAMP:20260422T034430
CREATED:20230425T153053Z
LAST-MODIFIED:20230425T153053Z
UID:18359-1684009800-1684009800@www.ville-yutz.fr
SUMMARY:Handball : YHB  N1 Yutz/JDA Dijon Handball
DESCRIPTION:
URL:https://www.ville-yutz.fr/event/handball-yhb-n1-yutz-jda-dijon-handball/
LOCATION:Gymnase Saint-Exupéry\, 1 rue du Gymnase\, YUTZ\, 57970\, France
CATEGORIES:Sports
ORGANIZER;CN="Yutz Handball":MAILTO:5657005@ffhandball.net
END:VEVENT
BEGIN:VEVENT
DTSTART;TZID=Europe/Paris:20230518T083000
DTEND;TZID=Europe/Paris:20230518T200000
DTSTAMP:20260422T034430
CREATED:20230512T160242Z
LAST-MODIFIED:20230512T160313Z
UID:18683-1684398600-1684440000@www.ville-yutz.fr
SUMMARY:Tournoi de foot
DESCRIPTION:
URL:https://www.ville-yutz.fr/event/tournoi-de-foot/
LOCATION:Stade Mermoz
CATEGORIES:Sports
ORGANIZER;CN="FC Yutz":MAILTO:utz.fc@moselle.lgef.fr
END:VEVENT
BEGIN:VEVENT
DTSTART;TZID=Europe/Paris:20230518T100000
DTEND;TZID=Europe/Paris:20230518T170000
DTSTAMP:20260422T034430
CREATED:20230512T161426Z
LAST-MODIFIED:20230512T161722Z
UID:18685-1684404000-1684429200@www.ville-yutz.fr
SUMMARY:Sortie familiale à bicyclette de l'ARS
DESCRIPTION:Réservation au 03.82.56.62.00 avant le 14 mai 2023. \nLieu/site internet pour la réservation/l’inscription : Pharmacie Cleyet-Merle \n\n\n\n\nTARIFS\n\nPlein tarif : 20.00 €\nAdhérents : 18.00 €\nEnfants : 5.00 €
URL:https://www.ville-yutz.fr/event/sortie-velo-de-lars/
LOCATION:place Emile Fritsch\, YUTZ
CATEGORIES:Sports
ATTACH;FMTTYPE=image/jpeg:https://www.ville-yutz.fr/wp-content/uploads/2023/05/ARS-sortie-bicyclette-A3-scaled.jpg
END:VEVENT
BEGIN:VEVENT
DTSTART;TZID=Europe/Paris:20230520T173000
DTEND;TZID=Europe/Paris:20230520T173000
DTSTAMP:20260422T034430
CREATED:20230517T105731Z
LAST-MODIFIED:20230517T105731Z
UID:18899-1684603800-1684603800@www.ville-yutz.fr
SUMMARY:Foot : FC YUTZ U18 1/ Thierville US 18
DESCRIPTION:
URL:https://www.ville-yutz.fr/event/foot-fc-yutz-u18-1-thierville-us-18/
LOCATION:Stade Mermoz
CATEGORIES:Sports
ORGANIZER;CN="FC Yutz":MAILTO:utz.fc@moselle.lgef.fr
END:VEVENT
BEGIN:VEVENT
DTSTART;TZID=Europe/Paris:20230521T140000
DTEND;TZID=Europe/Paris:20230521T160000
DTSTAMP:20260422T034430
CREATED:20230517T110145Z
LAST-MODIFIED:20230517T110145Z
UID:18903-1684677600-1684684800@www.ville-yutz.fr
SUMMARY:Foot : US YUTZ - R3 - YUTZ / MAGNY
DESCRIPTION:
URL:https://www.ville-yutz.fr/event/foot-us-yutz-r3-yutz-magny/
LOCATION:Stade de la Forêt\, rue du Stade\, Yutz\, 57970
CATEGORIES:Sports
END:VEVENT
BEGIN:VEVENT
DTSTART;TZID=Europe/Paris:20230521T140000
DTEND;TZID=Europe/Paris:20230521T180000
DTSTAMP:20260422T034430
CREATED:20230517T110004Z
LAST-MODIFIED:20230517T110004Z
UID:18901-1684677600-1684692000@www.ville-yutz.fr
SUMMARY:Stage de shiatsu ouvert au public
DESCRIPTION:
URL:https://www.ville-yutz.fr/event/stage-de-shiatsu-ouvert-au-public-2/
LOCATION:Dojo Schuman\, impasse Selver\, Yutz\, 57970
CATEGORIES:Sports
ORGANIZER;CN="Energie Shiatsu":MAILTO:energieshiatsu@hotmail.fr
END:VEVENT
BEGIN:VEVENT
DTSTART;TZID=Europe/Paris:20230521T150000
DTEND;TZID=Europe/Paris:20230521T170000
DTSTAMP:20260422T034430
CREATED:20230517T110343Z
LAST-MODIFIED:20230517T110343Z
UID:18905-1684681200-1684688400@www.ville-yutz.fr
SUMMARY:Foot : FC YUTZ Séniors D2  Yutz2/Koenigsmacker-Kedange 2
DESCRIPTION:
URL:https://www.ville-yutz.fr/event/foot-fc-yutz-seniors-d2-yutz2-koenigsmacker-kedange-2/
LOCATION:Stade Mermoz
CATEGORIES:Sports
ORGANIZER;CN="FC Yutz":MAILTO:utz.fc@moselle.lgef.fr
END:VEVENT
BEGIN:VEVENT
DTSTART;TZID=Europe/Paris:20230521T150000
DTEND;TZID=Europe/Paris:20230521T170000
DTSTAMP:20260422T034430
CREATED:20230517T110514Z
LAST-MODIFIED:20230517T110514Z
UID:18907-1684681200-1684688400@www.ville-yutz.fr
SUMMARY:Foot : JSA Yutz cité 2/Luttange US
DESCRIPTION:
URL:https://www.ville-yutz.fr/event/foot-jsa-yutz-cite-2-luttange-us/
LOCATION:Stade Denis Muller\, Rue Victor Hugo\, YUTZ\, 57970
CATEGORIES:Sports
END:VEVENT
BEGIN:VEVENT
DTSTART;TZID=Europe/Paris:20230521T173000
DTEND;TZID=Europe/Paris:20230521T193000
DTSTAMP:20260422T034430
CREATED:20230517T110625Z
LAST-MODIFIED:20230517T110625Z
UID:18909-1684690200-1684697400@www.ville-yutz.fr
SUMMARY:Foot : US YUTZ Senior B - D2 - YUTZ / HAYANGE
DESCRIPTION:
URL:https://www.ville-yutz.fr/event/foot-us-yutz-senior-b-d2-yutz-hayange/
LOCATION:Stade de la Forêt\, rue du Stade\, Yutz\, 57970
CATEGORIES:Sports
END:VEVENT
BEGIN:VEVENT
DTSTART;TZID=Europe/Paris:20230527T170000
DTEND;TZID=Europe/Paris:20230527T183000
DTSTAMP:20260422T034430
CREATED:20230526T154949Z
LAST-MODIFIED:20230526T154949Z
UID:19036-1685206800-1685212200@www.ville-yutz.fr
SUMMARY:Super Tri
DESCRIPTION:
URL:https://www.ville-yutz.fr/event/super-tri/
LOCATION:Base nautique – Basse-Ham
CATEGORIES:Sports
ATTACH;FMTTYPE=image/jpeg:https://www.ville-yutz.fr/wp-content/uploads/2023/05/2023-05-27-et-28-super-Tri-et-Triathlon.jpg
ORGANIZER;CN="TRITYC - Triathlon Thionville Yutz Club":MAILTO:president@trityc.fr
END:VEVENT
BEGIN:VEVENT
DTSTART;TZID=Europe/Paris:20230528T090000
DTEND;TZID=Europe/Paris:20230528T130000
DTSTAMP:20260422T034430
CREATED:20230526T155233Z
LAST-MODIFIED:20230526T155233Z
UID:19042-1685264400-1685278800@www.ville-yutz.fr
SUMMARY:Triathlon
DESCRIPTION:
URL:https://www.ville-yutz.fr/event/triathlon-2/
LOCATION:Base nautique – Basse-Ham
CATEGORIES:Sports
ATTACH;FMTTYPE=image/jpeg:https://www.ville-yutz.fr/wp-content/uploads/2023/05/2023-05-27-et-28-super-Tri-et-Triathlon.jpg
ORGANIZER;CN="TRITYC - Triathlon Thionville Yutz Club":MAILTO:president@trityc.fr
END:VEVENT
BEGIN:VEVENT
DTSTART;TZID=Europe/Paris:20230529T083000
DTEND;TZID=Europe/Paris:20230529T083000
DTSTAMP:20260422T034430
CREATED:20230526T155609Z
LAST-MODIFIED:20230526T155609Z
UID:19047-1685349000-1685349000@www.ville-yutz.fr
SUMMARY:Tournoi de Foot
DESCRIPTION:
URL:https://www.ville-yutz.fr/event/tournoi-de-foot-2/
CATEGORIES:Sports
END:VEVENT
BEGIN:VEVENT
DTSTART;TZID=Europe/Paris:20230529T090000
DTEND;TZID=Europe/Paris:20230529T190000
DTSTAMP:20260422T034430
CREATED:20230526T155857Z
LAST-MODIFIED:20230526T155857Z
UID:19049-1685350800-1685386800@www.ville-yutz.fr
SUMMARY:Twirling Bâton - Challenge Schneider Zanoni
DESCRIPTION:
URL:https://www.ville-yutz.fr/event/twirling-baton-challenge-schneider-zanoni/
LOCATION:Gymnase Mermoz\, Place de l'Arc-en-Ciel\, YUTZ\, 57970
CATEGORIES:Sports
ORGANIZER;CN="Yutz Thionville Twirling Club":MAILTO:twirlingbaton57@gmail.com
END:VEVENT
BEGIN:VEVENT
DTSTART;TZID=Europe/Paris:20230529T100000
DTEND;TZID=Europe/Paris:20230529T220000
DTSTAMP:20260422T034430
CREATED:20230526T160444Z
LAST-MODIFIED:20230526T160444Z
UID:19052-1685354400-1685397600@www.ville-yutz.fr
SUMMARY:Fête du club de Hand
DESCRIPTION:
URL:https://www.ville-yutz.fr/event/fete-du-club-de-hand/
LOCATION:Gymnase Saint-Exupéry\, 1 rue du Gymnase\, YUTZ\, 57970\, France
CATEGORIES:Sports
ATTACH;FMTTYPE=image/jpeg:https://www.ville-yutz.fr/wp-content/uploads/2023/05/fete-du-club-de-hand.jpg
ORGANIZER;CN="Yutz Handball":MAILTO:5657005@ffhandball.net
END:VEVENT
END:VCALENDAR