BEGIN:VCALENDAR
VERSION:2.0
PRODID:-//Ville de Yutz - ECPv6.15.16//NONSGML v1.0//EN
CALSCALE:GREGORIAN
METHOD:PUBLISH
X-WR-CALNAME:Ville de Yutz
X-ORIGINAL-URL:https://www.ville-yutz.fr
X-WR-CALDESC:Évènements pour Ville de Yutz
REFRESH-INTERVAL;VALUE=DURATION:PT1H
X-Robots-Tag:noindex
X-PUBLISHED-TTL:PT1H
BEGIN:VTIMEZONE
TZID:Europe/Paris
BEGIN:DAYLIGHT
TZOFFSETFROM:+0100
TZOFFSETTO:+0200
TZNAME:CEST
DTSTART:20220327T010000
END:DAYLIGHT
BEGIN:STANDARD
TZOFFSETFROM:+0200
TZOFFSETTO:+0100
TZNAME:CET
DTSTART:20221030T010000
END:STANDARD
BEGIN:DAYLIGHT
TZOFFSETFROM:+0100
TZOFFSETTO:+0200
TZNAME:CEST
DTSTART:20230326T010000
END:DAYLIGHT
BEGIN:STANDARD
TZOFFSETFROM:+0200
TZOFFSETTO:+0100
TZNAME:CET
DTSTART:20231029T010000
END:STANDARD
BEGIN:DAYLIGHT
TZOFFSETFROM:+0100
TZOFFSETTO:+0200
TZNAME:CEST
DTSTART:20240331T010000
END:DAYLIGHT
BEGIN:STANDARD
TZOFFSETFROM:+0200
TZOFFSETTO:+0100
TZNAME:CET
DTSTART:20241027T010000
END:STANDARD
END:VTIMEZONE
BEGIN:VEVENT
DTSTART;TZID=Europe/Paris:20230311T100000
DTEND;TZID=Europe/Paris:20230311T120000
DTSTAMP:20260422T062935
CREATED:20230310T095130Z
LAST-MODIFIED:20230310T095130Z
UID:17180-1678528800-1678536000@www.ville-yutz.fr
SUMMARY:Foot : FC YUTZ U10.U11 - plateau
DESCRIPTION:
URL:https://www.ville-yutz.fr/event/foot-fc-yutz-u10-u11-plateau/
LOCATION:Stade Mermoz
CATEGORIES:Sports
END:VEVENT
BEGIN:VEVENT
DTSTART;TZID=Europe/Paris:20230311T110000
DTEND;TZID=Europe/Paris:20230311T130000
DTSTAMP:20260422T062935
CREATED:20230310T095236Z
LAST-MODIFIED:20230310T095236Z
UID:17182-1678532400-1678539600@www.ville-yutz.fr
SUMMARY:Handball : YHB F13 Yutz/Homécourt
DESCRIPTION:
URL:https://www.ville-yutz.fr/event/handball-yhb-f13-yutz-homecourt/
LOCATION:Gymnase Saint-Exupéry\, 1 rue du Gymnase\, YUTZ\, 57970\, France
CATEGORIES:Sports
ORGANIZER;CN="Yutz Handball":MAILTO:5657005@ffhandball.net
END:VEVENT
BEGIN:VEVENT
DTSTART;TZID=Europe/Paris:20230311T143000
DTEND;TZID=Europe/Paris:20230311T163000
DTSTAMP:20260422T062935
CREATED:20230310T095620Z
LAST-MODIFIED:20230310T095620Z
UID:17185-1678545000-1678552200@www.ville-yutz.fr
SUMMARY:Volley : ASVB -championnat Grand Est M13F1
DESCRIPTION:
URL:https://www.ville-yutz.fr/event/volley-asvb-championnat-grand-est-m13f1/
LOCATION:Gymnase Dalmar\, THIONVILLE\, 57100
CATEGORIES:Sports
END:VEVENT
BEGIN:VEVENT
DTSTART;TZID=Europe/Paris:20230311T150000
DTEND;TZID=Europe/Paris:20230311T170000
DTSTAMP:20260422T062935
CREATED:20230310T100052Z
LAST-MODIFIED:20230310T100052Z
UID:17190-1678546800-1678554000@www.ville-yutz.fr
SUMMARY:Foot : FC YUTZ U15 1/ Metz A.P.M 1
DESCRIPTION:
URL:https://www.ville-yutz.fr/event/foot-fc-yutz-u15-1-metz-a-p-m-1/
LOCATION:Stade Mermoz
CATEGORIES:Sports
ORGANIZER;CN="FC Yutz":MAILTO:utz.fc@moselle.lgef.fr
END:VEVENT
BEGIN:VEVENT
DTSTART;TZID=Europe/Paris:20230311T170000
DTEND;TZID=Europe/Paris:20230311T193000
DTSTAMP:20260422T062935
CREATED:20230310T100232Z
LAST-MODIFIED:20230310T100232Z
UID:17192-1678554000-1678563000@www.ville-yutz.fr
SUMMARY:Foot : FC YUTZ U19 1/ Metz ESAP 18
DESCRIPTION:
URL:https://www.ville-yutz.fr/event/foot-fc-yutz-u19-1-metz-esap-18/
LOCATION:Stade Mermoz
CATEGORIES:Sports
ORGANIZER;CN="FC Yutz":MAILTO:utz.fc@moselle.lgef.fr
END:VEVENT
BEGIN:VEVENT
DTSTART;TZID=Europe/Paris:20230311T203000
DTEND;TZID=Europe/Paris:20230311T220000
DTSTAMP:20260422T062935
CREATED:20230310T100311Z
LAST-MODIFIED:20230310T100311Z
UID:17194-1678566600-1678572000@www.ville-yutz.fr
SUMMARY:Handball : YHB N1 Yutz/Metz HB
DESCRIPTION:
URL:https://www.ville-yutz.fr/event/handball-yhb-n1-yutz-metz-hb/
LOCATION:Gymnase Saint-Exupéry\, 1 rue du Gymnase\, YUTZ\, 57970\, France
CATEGORIES:Sports
ORGANIZER;CN="Yutz Handball":MAILTO:5657005@ffhandball.net
END:VEVENT
BEGIN:VEVENT
DTSTART;TZID=Europe/Paris:20230311T203000
DTEND;TZID=Europe/Paris:20230311T220000
DTSTAMP:20260422T062935
CREATED:20230310T100357Z
LAST-MODIFIED:20230310T100357Z
UID:17196-1678566600-1678572000@www.ville-yutz.fr
SUMMARY:Volley : ASVB - Régionale M
DESCRIPTION:
URL:https://www.ville-yutz.fr/event/volley-asvb-regionale-m/
LOCATION:Gymnase Jean Mermoz\, Place de l'Arc-en-ciel\, Yutz\, 57970\, France
CATEGORIES:Sports
END:VEVENT
BEGIN:VEVENT
DTSTART;TZID=Europe/Paris:20230312T080000
DTEND;TZID=Europe/Paris:20230312T190000
DTSTAMP:20260422T062935
CREATED:20230310T140018Z
LAST-MODIFIED:20230310T140018Z
UID:17198-1678608000-1678647600@www.ville-yutz.fr
SUMMARY:Yutz équitation : Concours hunter
DESCRIPTION:
URL:https://www.ville-yutz.fr/event/yutz-equitation-concours-hunter/
LOCATION:Centre équestre\, rue de Poitiers\, YUTZ\, 57970\, France
CATEGORIES:Sports
END:VEVENT
BEGIN:VEVENT
DTSTART;TZID=Europe/Paris:20230312T150000
DTEND;TZID=Europe/Paris:20230312T170000
DTSTAMP:20260422T062935
CREATED:20230310T142233Z
LAST-MODIFIED:20230310T142233Z
UID:17204-1678633200-1678640400@www.ville-yutz.fr
SUMMARY:Foot : FC YUTZ Séniors D2 Yutz2/Oudrenne US 1
DESCRIPTION:
URL:https://www.ville-yutz.fr/event/foot-fc-yutz-seniors-d2-yutz2-oudrenne-us-1/
LOCATION:Stade Mermoz
CATEGORIES:Sports
ORGANIZER;CN="FC Yutz":MAILTO:utz.fc@moselle.lgef.fr
END:VEVENT
BEGIN:VEVENT
DTSTART;TZID=Europe/Paris:20230312T150000
DTEND;TZID=Europe/Paris:20230312T170000
DTSTAMP:20260422T062935
CREATED:20230310T142344Z
LAST-MODIFIED:20230310T142344Z
UID:17206-1678633200-1678640400@www.ville-yutz.fr
SUMMARY:Foot : JSA Yutz cité/Nilvange RC2
DESCRIPTION:
URL:https://www.ville-yutz.fr/event/foot-jsa-yutz-cite-nilvange-rc2/
LOCATION:Stade Denis Muller\, Rue Victor Hugo\, YUTZ\, 57970
CATEGORIES:Sports
END:VEVENT
BEGIN:VEVENT
DTSTART;TZID=Europe/Paris:20230312T150000
DTEND;TZID=Europe/Paris:20230312T170000
DTSTAMP:20260422T062935
CREATED:20230310T142420Z
LAST-MODIFIED:20230310T142420Z
UID:17208-1678633200-1678640400@www.ville-yutz.fr
SUMMARY:Foot : FC YUTZ U21 / Oudrenne
DESCRIPTION:
URL:https://www.ville-yutz.fr/event/foot-fc-yutz-u21-oudrenne/
LOCATION:Stade Mermoz
CATEGORIES:Sports
ORGANIZER;CN="FC Yutz":MAILTO:utz.fc@moselle.lgef.fr
END:VEVENT
BEGIN:VEVENT
DTSTART;TZID=Europe/Paris:20230318T093000
DTEND;TZID=Europe/Paris:20230318T120000
DTSTAMP:20260422T062935
CREATED:20230310T142656Z
LAST-MODIFIED:20230310T142656Z
UID:17210-1679131800-1679140800@www.ville-yutz.fr
SUMMARY:Pétanque Championnat des Clubs
DESCRIPTION:
URL:https://www.ville-yutz.fr/event/petanque-championnat-des-clubs/
LOCATION:Boulodrome\, 1 rue Sainte-Barbe\, YUTZ\, -\, 57970\, France
CATEGORIES:Sports
END:VEVENT
BEGIN:VEVENT
DTSTART;TZID=Europe/Paris:20230318T110000
DTEND;TZID=Europe/Paris:20230318T130000
DTSTAMP:20260422T062935
CREATED:20230317T160519Z
LAST-MODIFIED:20230317T160519Z
UID:17591-1679137200-1679144400@www.ville-yutz.fr
SUMMARY:Foot : FC YUTZ  U13F Yutz/FC METZ
DESCRIPTION:
URL:https://www.ville-yutz.fr/event/foot-fc-yutz-u13f-yutz-fc-metz/
LOCATION:Stade Mermoz
CATEGORIES:Sports
ORGANIZER;CN="FC Yutz":MAILTO:utz.fc@moselle.lgef.fr
END:VEVENT
BEGIN:VEVENT
DTSTART;TZID=Europe/Paris:20230318T110000
DTEND;TZID=Europe/Paris:20230318T130000
DTSTAMP:20260422T062935
CREATED:20230317T160617Z
LAST-MODIFIED:20230317T160617Z
UID:17593-1679137200-1679144400@www.ville-yutz.fr
SUMMARY:Foot : FC YUTZ  U15F Yutz/Godbrange
DESCRIPTION:
URL:https://www.ville-yutz.fr/event/foot-fc-yutz-u15f-yutz-godbrange/
LOCATION:Stade Mermoz
CATEGORIES:Sports
ORGANIZER;CN="FC Yutz":MAILTO:utz.fc@moselle.lgef.fr
END:VEVENT
BEGIN:VEVENT
DTSTART;TZID=Europe/Paris:20230318T130000
DTEND;TZID=Europe/Paris:20230318T150000
DTSTAMP:20260422T062935
CREATED:20230317T160706Z
LAST-MODIFIED:20230317T160706Z
UID:17595-1679144400-1679151600@www.ville-yutz.fr
SUMMARY:Foot : FC YUTZ  U13-U12 Yutz/Uckange
DESCRIPTION:
URL:https://www.ville-yutz.fr/event/foot-fc-yutz-u13-u12-yutz-uckange/
LOCATION:Stade Mermoz
CATEGORIES:Sports
ORGANIZER;CN="FC Yutz":MAILTO:utz.fc@moselle.lgef.fr
END:VEVENT
BEGIN:VEVENT
DTSTART;TZID=Europe/Paris:20230318T150000
DTEND;TZID=Europe/Paris:20230318T170000
DTSTAMP:20260422T062935
CREATED:20230310T143007Z
LAST-MODIFIED:20230310T143007Z
UID:17214-1679151600-1679158800@www.ville-yutz.fr
SUMMARY:Foot : FC YUTZ U15 / Nancy Pichon MJC 15
DESCRIPTION:
URL:https://www.ville-yutz.fr/event/foot-fc-yutz-u15-nancy-pichon-mjc-15/
LOCATION:Stade Mermoz
CATEGORIES:Sports
ORGANIZER;CN="FC Yutz":MAILTO:utz.fc@moselle.lgef.fr
END:VEVENT
BEGIN:VEVENT
DTSTART;TZID=Europe/Paris:20230318T173000
DTEND;TZID=Europe/Paris:20230318T193000
DTSTAMP:20260422T062935
CREATED:20230310T143147Z
LAST-MODIFIED:20230310T143147Z
UID:17218-1679160600-1679167800@www.ville-yutz.fr
SUMMARY:Foot : FC YUTZ U18 1/ Fameck ES 18
DESCRIPTION:
URL:https://www.ville-yutz.fr/event/foot-fc-yutz-u18-1-fameck-es-18/
LOCATION:Stade Mermoz
CATEGORIES:Sports
ORGANIZER;CN="FC Yutz":MAILTO:utz.fc@moselle.lgef.fr
END:VEVENT
BEGIN:VEVENT
DTSTART;TZID=Europe/Paris:20230319T143000
DTEND;TZID=Europe/Paris:20230319T170000
DTSTAMP:20260422T062935
CREATED:20230310T143316Z
LAST-MODIFIED:20230310T143316Z
UID:17220-1679236200-1679245200@www.ville-yutz.fr
SUMMARY:Pétanque DNH
DESCRIPTION:
URL:https://www.ville-yutz.fr/event/petanque-dnh-5/
LOCATION:Boulodrome\, 1 rue Sainte-Barbe\, YUTZ\, -\, 57970\, France
CATEGORIES:Sports
END:VEVENT
BEGIN:VEVENT
DTSTART;TZID=Europe/Paris:20230319T150000
DTEND;TZID=Europe/Paris:20230319T170000
DTSTAMP:20260422T062935
CREATED:20230310T143358Z
LAST-MODIFIED:20230310T143358Z
UID:17222-1679238000-1679245200@www.ville-yutz.fr
SUMMARY:Volley : ASVB - Championnat de France YUTZ/Voiron
DESCRIPTION:
URL:https://www.ville-yutz.fr/event/volley-asvb-championnat-de-france-yutz-voiron/
LOCATION:Gymnase Dalmar\, THIONVILLE\, 57100
CATEGORIES:Sports
END:VEVENT
BEGIN:VEVENT
DTSTART;TZID=Europe/Paris:20230319T150000
DTEND;TZID=Europe/Paris:20230319T170000
DTSTAMP:20260422T062935
CREATED:20230310T143431Z
LAST-MODIFIED:20230310T143431Z
UID:17224-1679238000-1679245200@www.ville-yutz.fr
SUMMARY:Foot : FC YUTZ Séniors D2 Yutz2/Terville SC 1
DESCRIPTION:
URL:https://www.ville-yutz.fr/event/foot-fc-yutz-seniors-d2-yutz2-terville-sc-1/
LOCATION:Stade Mermoz
CATEGORIES:Sports
ORGANIZER;CN="FC Yutz":MAILTO:utz.fc@moselle.lgef.fr
END:VEVENT
BEGIN:VEVENT
DTSTART;TZID=Europe/Paris:20230319T150000
DTEND;TZID=Europe/Paris:20230319T170000
DTSTAMP:20260422T062935
CREATED:20230310T143511Z
LAST-MODIFIED:20230310T143511Z
UID:17226-1679238000-1679245200@www.ville-yutz.fr
SUMMARY:Foot : JSA Yutz cité/Schwerdorff AS
DESCRIPTION:
URL:https://www.ville-yutz.fr/event/foot-jsa-yutz-cite-schwerdorff-as/
LOCATION:Stade Denis Muller\, Rue Victor Hugo\, YUTZ\, 57970
CATEGORIES:Sports
END:VEVENT
BEGIN:VEVENT
DTSTART;TZID=Europe/Paris:20230325T100000
DTEND;TZID=Europe/Paris:20230325T120000
DTSTAMP:20260422T062935
CREATED:20230324T165156Z
LAST-MODIFIED:20230324T165156Z
UID:17756-1679738400-1679745600@www.ville-yutz.fr
SUMMARY:Foot : FC YUTZ plateau U6-U7
DESCRIPTION:
URL:https://www.ville-yutz.fr/event/foot-fc-yutz-plateau-u6-u7/
LOCATION:Stade Mermoz
CATEGORIES:Sports
ORGANIZER;CN="FC Yutz":MAILTO:utz.fc@moselle.lgef.fr
END:VEVENT
BEGIN:VEVENT
DTSTART;TZID=Europe/Paris:20230325T100000
DTEND;TZID=Europe/Paris:20230325T120000
DTSTAMP:20260422T062935
CREATED:20230324T165241Z
LAST-MODIFIED:20230324T165241Z
UID:17758-1679738400-1679745600@www.ville-yutz.fr
SUMMARY:Foot : US YUTZ plateau U8-U9
DESCRIPTION:
URL:https://www.ville-yutz.fr/event/foot-us-yutz-plateau-u8-u9/
LOCATION:Stade de la Forêt\, rue du Stade\, Yutz\, 57970
CATEGORIES:Sports
END:VEVENT
BEGIN:VEVENT
DTSTART;TZID=Europe/Paris:20230325T130000
DTEND;TZID=Europe/Paris:20230325T150000
DTSTAMP:20260422T062935
CREATED:20230324T165332Z
LAST-MODIFIED:20230324T165332Z
UID:17760-1679749200-1679756400@www.ville-yutz.fr
SUMMARY:Foot : FC YUTZ U13 1/ Magny
DESCRIPTION:
URL:https://www.ville-yutz.fr/event/foot-fc-yutz-u13-1-magny/
LOCATION:Stade Mermoz
CATEGORIES:Sports
ORGANIZER;CN="FC Yutz":MAILTO:utz.fc@moselle.lgef.fr
END:VEVENT
BEGIN:VEVENT
DTSTART;TZID=Europe/Paris:20230325T130000
DTEND;TZID=Europe/Paris:20230325T150000
DTSTAMP:20260422T062935
CREATED:20230324T165419Z
LAST-MODIFIED:20230324T165419Z
UID:17762-1679749200-1679756400@www.ville-yutz.fr
SUMMARY:Foot : FC YUTZ U12 1/ US YUTZ
DESCRIPTION:
URL:https://www.ville-yutz.fr/event/foot-fc-yutz-u12-1-us-yutz/
LOCATION:Stade Mermoz
CATEGORIES:Sports
ORGANIZER;CN="FC Yutz":MAILTO:utz.fc@moselle.lgef.fr
END:VEVENT
BEGIN:VEVENT
DTSTART;TZID=Europe/Paris:20230325T140000
DTEND;TZID=Europe/Paris:20230325T160000
DTSTAMP:20260422T062935
CREATED:20230324T165507Z
LAST-MODIFIED:20230324T165507Z
UID:17764-1679752800-1679760000@www.ville-yutz.fr
SUMMARY:Handball : YHB F13.2 Yutz/Villerupt HB
DESCRIPTION:
URL:https://www.ville-yutz.fr/event/handball-yhb-f13-2-yutz-villerupt-hb/
LOCATION:Gymnase Saint-Exupéry\, 1 rue du Gymnase\, YUTZ\, 57970\, France
CATEGORIES:Sports
ORGANIZER;CN="Yutz Handball":MAILTO:5657005@ffhandball.net
END:VEVENT
BEGIN:VEVENT
DTSTART;TZID=Europe/Paris:20230325T143000
DTEND;TZID=Europe/Paris:20230325T143000
DTSTAMP:20260422T062935
CREATED:20230324T165613Z
LAST-MODIFIED:20230324T165613Z
UID:17766-1679754600-1679754600@www.ville-yutz.fr
SUMMARY:Volley : ASVB : championnat Grand Est
DESCRIPTION:
URL:https://www.ville-yutz.fr/event/volley-asvb-championnat-grand-est/
LOCATION:Gymnase Dalmar\, THIONVILLE\, 57100
CATEGORIES:Sports
END:VEVENT
BEGIN:VEVENT
DTSTART;TZID=Europe/Paris:20230325T180000
DTEND;TZID=Europe/Paris:20230325T203000
DTSTAMP:20260422T062935
CREATED:20230310T145957Z
LAST-MODIFIED:20230310T145957Z
UID:17248-1679767200-1679776200@www.ville-yutz.fr
SUMMARY:Volley : ASVB - Régionale M
DESCRIPTION:
URL:https://www.ville-yutz.fr/event/volley-asvb-regionale-m-2/
LOCATION:Gymnase Jean Mermoz\, Place de l'Arc-en-ciel\, Yutz\, 57970\, France
CATEGORIES:Sports
END:VEVENT
BEGIN:VEVENT
DTSTART;TZID=Europe/Paris:20230325T203000
DTEND;TZID=Europe/Paris:20230325T203000
DTSTAMP:20260422T062935
CREATED:20230310T150232Z
LAST-MODIFIED:20230310T150232Z
UID:17253-1679776200-1679776200@www.ville-yutz.fr
SUMMARY:Handball : YHB N1 Yutz/Epinal HB
DESCRIPTION:
URL:https://www.ville-yutz.fr/event/handball-yhb-n1-yutz-epinal-hb/
LOCATION:Gymnase Saint-Exupéry\, 1 rue du Gymnase\, YUTZ\, 57970\, France
CATEGORIES:Sports
ORGANIZER;CN="Yutz Handball":MAILTO:5657005@ffhandball.net
END:VEVENT
BEGIN:VEVENT
DTSTART;TZID=Europe/Paris:20230326T140000
DTEND;TZID=Europe/Paris:20230326T180000
DTSTAMP:20260422T062935
CREATED:20230310T150416Z
LAST-MODIFIED:20230310T150416Z
UID:17257-1679839200-1679853600@www.ville-yutz.fr
SUMMARY:Stage de Shiatsu ouvert au public
DESCRIPTION:
URL:https://www.ville-yutz.fr/event/stage-de-shiatsu-ouvert-au-public/
LOCATION:Dojo Schuman\, impasse Selver\, Yutz\, 57970
CATEGORIES:Sports
ORGANIZER;CN="Energie Shiatsu":MAILTO:energieshiatsu@hotmail.fr
END:VEVENT
END:VCALENDAR