BEGIN:VCALENDAR
VERSION:2.0
PRODID:-//Ville de Yutz - ECPv6.15.16//NONSGML v1.0//EN
CALSCALE:GREGORIAN
METHOD:PUBLISH
X-ORIGINAL-URL:https://www.ville-yutz.fr
X-WR-CALDESC:Évènements pour Ville de Yutz
REFRESH-INTERVAL;VALUE=DURATION:PT1H
X-Robots-Tag:noindex
X-PUBLISHED-TTL:PT1H
BEGIN:VTIMEZONE
TZID:Europe/Paris
BEGIN:DAYLIGHT
TZOFFSETFROM:+0100
TZOFFSETTO:+0200
TZNAME:CEST
DTSTART:20210328T010000
END:DAYLIGHT
BEGIN:STANDARD
TZOFFSETFROM:+0200
TZOFFSETTO:+0100
TZNAME:CET
DTSTART:20211031T010000
END:STANDARD
BEGIN:DAYLIGHT
TZOFFSETFROM:+0100
TZOFFSETTO:+0200
TZNAME:CEST
DTSTART:20220327T010000
END:DAYLIGHT
BEGIN:STANDARD
TZOFFSETFROM:+0200
TZOFFSETTO:+0100
TZNAME:CET
DTSTART:20221030T010000
END:STANDARD
BEGIN:DAYLIGHT
TZOFFSETFROM:+0100
TZOFFSETTO:+0200
TZNAME:CEST
DTSTART:20230326T010000
END:DAYLIGHT
BEGIN:STANDARD
TZOFFSETFROM:+0200
TZOFFSETTO:+0100
TZNAME:CET
DTSTART:20231029T010000
END:STANDARD
END:VTIMEZONE
BEGIN:VEVENT
DTSTART;TZID=Europe/Paris:20220901T080000
DTEND;TZID=Europe/Paris:20220901T170000
DTSTAMP:20260422T153456
CREATED:20220901T075807Z
LAST-MODIFIED:20220901T075807Z
UID:13476-1662019200-1662051600@www.ville-yutz.fr
SUMMARY:Handball : YHB/DUDELANGE
DESCRIPTION:
URL:https://www.ville-yutz.fr/event/handball-yhb-dudelange/
LOCATION:Gymnase Saint-Exupéry\, 1 rue du Gymnase\, YUTZ\, 57970\, France
CATEGORIES:Sports
ORGANIZER;CN="Yutz Handball":MAILTO:5657005@ffhandball.net
END:VEVENT
BEGIN:VEVENT
DTSTART;TZID=Europe/Paris:20220903T100000
DTEND;TZID=Europe/Paris:20220903T180000
DTSTAMP:20260422T153456
CREATED:20220804T145537Z
LAST-MODIFIED:20220812T064825Z
UID:12997-1662199200-1662228000@www.ville-yutz.fr
SUMMARY:Décathlon Vitalsport
DESCRIPTION:Testez en famille quarante activités et choisissez celle que vous aurez envie de pratiquer tout au long de l’année : des sports collectifs\, artistiques\, individuels\, de combat… \nLes initiations sont gratuites.
URL:https://www.ville-yutz.fr/event/decathlon-vital-sport-4/
LOCATION:Décathlon Village\, Zac Meilbourg\, Route d'Illange\, Yutz\, 57970
CATEGORIES:Sports
ATTACH;FMTTYPE=image/png:https://www.ville-yutz.fr/wp-content/uploads/2022/08/vitalsport.png
END:VEVENT
BEGIN:VEVENT
DTSTART;TZID=Europe/Paris:20220904T100000
DTEND;TZID=Europe/Paris:20220904T180000
DTSTAMP:20260422T153456
CREATED:20220804T145241Z
LAST-MODIFIED:20220823T133149Z
UID:12989-1662285600-1662314400@www.ville-yutz.fr
SUMMARY:Décathlon Vitalsport
DESCRIPTION:Testez en famille quarante activités et choisissez celle que vous aurez envie de pratiquer tout au long de l’année : des sports collectifs\, artistiques\, individuels\, de combat… \nLes initiations sont gratuites.
URL:https://www.ville-yutz.fr/event/decathlon-vital-sport-3/
LOCATION:Décathlon Village\, Zac Meilbourg\, Route d'Illange\, Yutz\, 57970
CATEGORIES:Sports
ATTACH;FMTTYPE=image/png:https://www.ville-yutz.fr/wp-content/uploads/2022/08/vitalsport.png
END:VEVENT
BEGIN:VEVENT
DTSTART;TZID=Europe/Paris:20220904T140000
DTEND;TZID=Europe/Paris:20220904T140000
DTSTAMP:20260422T153456
CREATED:20220804T145341Z
LAST-MODIFIED:20220804T145341Z
UID:12993-1662300000-1662300000@www.ville-yutz.fr
SUMMARY:Pétanque Coupe du Comité
DESCRIPTION:
URL:https://www.ville-yutz.fr/event/petanque-coupe-du-comite/
LOCATION:Boulodrome\, 1 rue Sainte-Barbe\, YUTZ\, -\, 57970\, France
CATEGORIES:Sports
END:VEVENT
BEGIN:VEVENT
DTSTART;TZID=Europe/Paris:20220910T140000
DTEND;TZID=Europe/Paris:20220910T140000
DTSTAMP:20260422T153456
CREATED:20220804T144410Z
LAST-MODIFIED:20220804T144422Z
UID:12979-1662818400-1662818400@www.ville-yutz.fr
SUMMARY:Pétanque CDC
DESCRIPTION:
URL:https://www.ville-yutz.fr/event/petanque-cdc/
LOCATION:Boulodrome\, 1 rue Sainte-Barbe\, YUTZ\, -\, 57970\, France
CATEGORIES:Sports
END:VEVENT
BEGIN:VEVENT
DTSTART;TZID=Europe/Paris:20220911T143000
DTEND;TZID=Europe/Paris:20220911T170000
DTSTAMP:20260422T153456
CREATED:20220804T144201Z
LAST-MODIFIED:20220804T144201Z
UID:12975-1662906600-1662915600@www.ville-yutz.fr
SUMMARY:Pétanque DNH
DESCRIPTION:
URL:https://www.ville-yutz.fr/event/petanque-dnh-4/
LOCATION:Boulodrome\, 1 rue Sainte-Barbe\, YUTZ\, -\, 57970\, France
CATEGORIES:Sports
END:VEVENT
BEGIN:VEVENT
DTSTART;TZID=Europe/Paris:20220924T100000
DTEND;TZID=Europe/Paris:20220924T120000
DTSTAMP:20260422T153456
CREATED:20220923T101136Z
LAST-MODIFIED:20220923T101136Z
UID:13804-1664013600-1664020800@www.ville-yutz.fr
SUMMARY:FC YUTZ Vétérans Yutz
DESCRIPTION:
URL:https://www.ville-yutz.fr/event/fc-yutz-veterans-yutz/
LOCATION:Stade Mermoz
CATEGORIES:Sports
END:VEVENT
BEGIN:VEVENT
DTSTART;TZID=Europe/Paris:20220924T130000
DTEND;TZID=Europe/Paris:20220924T153000
DTSTAMP:20260422T153456
CREATED:20220923T120613Z
LAST-MODIFIED:20220923T120613Z
UID:13836-1664024400-1664033400@www.ville-yutz.fr
SUMMARY:Football : FC YUTZ U15F Yutz / Fontoy
DESCRIPTION:
URL:https://www.ville-yutz.fr/event/football-fc-yutz-u15f-yutz-fontoy/
LOCATION:Stade Mermoz
CATEGORIES:Sports
ORGANIZER;CN="FC Yutz":MAILTO:utz.fc@moselle.lgef.fr
END:VEVENT
BEGIN:VEVENT
DTSTART;TZID=Europe/Paris:20220924T150000
DTEND;TZID=Europe/Paris:20220924T170000
DTSTAMP:20260422T153456
CREATED:20220923T120340Z
LAST-MODIFIED:20220923T120351Z
UID:13832-1664031600-1664038800@www.ville-yutz.fr
SUMMARY:Football : FC YUTZ U15 Yutz / Sarrebourg
DESCRIPTION:Régionale 2
URL:https://www.ville-yutz.fr/event/football-fc-yutz-u15-yutz-sarrebourg/
LOCATION:Stade Mermoz
CATEGORIES:Sports
ORGANIZER;CN="FC Yutz":MAILTO:utz.fc@moselle.lgef.fr
END:VEVENT
BEGIN:VEVENT
DTSTART;TZID=Europe/Paris:20220924T170000
DTEND;TZID=Europe/Paris:20220924T170000
DTSTAMP:20260422T153456
CREATED:20220923T120125Z
LAST-MODIFIED:20220923T120505Z
UID:13828-1664038800-1664038800@www.ville-yutz.fr
SUMMARY:Football : FC YUTZ Vétérans Yutz / Uckange
DESCRIPTION:Terrain d’honneur
URL:https://www.ville-yutz.fr/event/football-fc-yutz-veterans-yutz-uckange/
LOCATION:Stade Mermoz
CATEGORIES:Sports
ORGANIZER;CN="FC Yutz":MAILTO:utz.fc@moselle.lgef.fr
END:VEVENT
BEGIN:VEVENT
DTSTART;TZID=Europe/Paris:20220924T170000
DTEND;TZID=Europe/Paris:20220924T170000
DTSTAMP:20260422T153456
CREATED:20220923T120219Z
LAST-MODIFIED:20220923T120245Z
UID:13830-1664038800-1664038800@www.ville-yutz.fr
SUMMARY:Football : FC YUTZ U19-U18 Yutz / Villerupt Thil
DESCRIPTION:Régionale 3
URL:https://www.ville-yutz.fr/event/football-fc-yutz-u19-u18-yutz-villerupt-thil/
LOCATION:Stade Mermoz
CATEGORIES:Sports
ORGANIZER;CN="FC Yutz":MAILTO:utz.fc@moselle.lgef.fr
END:VEVENT
BEGIN:VEVENT
DTSTART;TZID=Europe/Paris:20220924T180000
DTEND;TZID=Europe/Paris:20220924T180000
DTSTAMP:20260422T153456
CREATED:20220923T115944Z
LAST-MODIFIED:20220923T120020Z
UID:13825-1664042400-1664042400@www.ville-yutz.fr
SUMMARY:Handball : YHB  16 Yutz / Ingwiller-Bouxwiller
DESCRIPTION:
URL:https://www.ville-yutz.fr/event/handball-yhb-16-yutz-ingwiller-bouxwiller/
LOCATION:Gymnase Saint-Exupéry\, 1 rue du Gymnase\, YUTZ\, 57970\, France
CATEGORIES:Sports
ORGANIZER;CN="Yutz Handball":MAILTO:5657005@ffhandball.net
END:VEVENT
BEGIN:VEVENT
DTSTART;TZID=Europe/Paris:20220924T203000
DTEND;TZID=Europe/Paris:20220924T203000
DTSTAMP:20260422T153456
CREATED:20220923T115846Z
LAST-MODIFIED:20220923T115846Z
UID:13823-1664051400-1664051400@www.ville-yutz.fr
SUMMARY:Handball : YHB  N1 Yutz / STRASBOURG asptt
DESCRIPTION:
URL:https://www.ville-yutz.fr/event/handball-yhb-n1-yutz-strasbourg-asptt/
LOCATION:Gymnase Saint-Exupéry\, 1 rue du Gymnase\, YUTZ\, 57970\, France
CATEGORIES:Sports
ORGANIZER;CN="Yutz Handball":MAILTO:5657005@ffhandball.net
END:VEVENT
END:VCALENDAR