BEGIN:VCALENDAR
VERSION:2.0
PRODID:-//Ville de Yutz - ECPv6.15.16//NONSGML v1.0//EN
CALSCALE:GREGORIAN
METHOD:PUBLISH
X-ORIGINAL-URL:https://www.ville-yutz.fr
X-WR-CALDESC:Évènements pour Ville de Yutz
REFRESH-INTERVAL;VALUE=DURATION:PT1H
X-Robots-Tag:noindex
X-PUBLISHED-TTL:PT1H
BEGIN:VTIMEZONE
TZID:Europe/Paris
BEGIN:DAYLIGHT
TZOFFSETFROM:+0100
TZOFFSETTO:+0200
TZNAME:CEST
DTSTART:20210328T010000
END:DAYLIGHT
BEGIN:STANDARD
TZOFFSETFROM:+0200
TZOFFSETTO:+0100
TZNAME:CET
DTSTART:20211031T010000
END:STANDARD
BEGIN:DAYLIGHT
TZOFFSETFROM:+0100
TZOFFSETTO:+0200
TZNAME:CEST
DTSTART:20220327T010000
END:DAYLIGHT
BEGIN:STANDARD
TZOFFSETFROM:+0200
TZOFFSETTO:+0100
TZNAME:CET
DTSTART:20221030T010000
END:STANDARD
BEGIN:DAYLIGHT
TZOFFSETFROM:+0100
TZOFFSETTO:+0200
TZNAME:CEST
DTSTART:20230326T010000
END:DAYLIGHT
BEGIN:STANDARD
TZOFFSETFROM:+0200
TZOFFSETTO:+0100
TZNAME:CET
DTSTART:20231029T010000
END:STANDARD
END:VTIMEZONE
BEGIN:VEVENT
DTSTART;TZID=Europe/Paris:20220604T163000
DTEND;TZID=Europe/Paris:20220604T183000
DTSTAMP:20260422T195610
CREATED:20220603T153108Z
LAST-MODIFIED:20220603T153108Z
UID:11231-1654360200-1654367400@www.ville-yutz.fr
SUMMARY:HANDBALL : YHF - F13 Coupe Echo sport YUTZ/SARREBOURG
DESCRIPTION:
URL:https://www.ville-yutz.fr/event/handball-yhf-f13-coupe-echo-sport-yutz-sarrebourg/
LOCATION:Gymnase Saint-Exupéry\, 1 rue du Gymnase\, YUTZ\, 57970\, France
CATEGORIES:Sports
ORGANIZER;CN="Yutz Handball":MAILTO:5657005@ffhandball.net
END:VEVENT
BEGIN:VEVENT
DTSTART;TZID=Europe/Paris:20220605T110000
DTEND;TZID=Europe/Paris:20220605T110000
DTSTAMP:20260422T195610
CREATED:20220603T153703Z
LAST-MODIFIED:20220603T153829Z
UID:11236-1654426800-1654426800@www.ville-yutz.fr
SUMMARY:Athlétisme : Championnats individuels
DESCRIPTION:
URL:https://www.ville-yutz.fr/event/athletisme-championnats-individuels/
LOCATION:Stade Mermoz
CATEGORIES:Sports
ORGANIZER;CN="ESTY":MAILTO:esty.athletisme@live.fr
END:VEVENT
BEGIN:VEVENT
DTSTART;VALUE=DATE:20220611
DTEND;VALUE=DATE:20220613
DTSTAMP:20260422T195610
CREATED:20220610T160951Z
LAST-MODIFIED:20220610T160951Z
UID:11413-1654905600-1655078399@www.ville-yutz.fr
SUMMARY:Equitation : concours de saut d'obstacle
DESCRIPTION:
URL:https://www.ville-yutz.fr/event/equitation-concours-de-saut-dobstacle/
LOCATION:Centre équestre\, rue de Poitiers\, YUTZ\, 57970\, France
CATEGORIES:Sports
ATTACH;FMTTYPE=image/jpeg:https://www.ville-yutz.fr/wp-content/uploads/2022/06/2022-06-11-et-12-CSO-Equitation.jpg
END:VEVENT
BEGIN:VEVENT
DTSTART;TZID=Europe/Paris:20220611T100000
DTEND;TZID=Europe/Paris:20220611T120000
DTSTAMP:20260422T195610
CREATED:20220603T160659Z
LAST-MODIFIED:20220610T161656Z
UID:11257-1654941600-1654948800@www.ville-yutz.fr
SUMMARY:Tournoi de football
DESCRIPTION:
URL:https://www.ville-yutz.fr/event/tournoi-de-football/
LOCATION:Stade Mermoz
CATEGORIES:Sports
ATTACH;FMTTYPE=image/jpeg:https://www.ville-yutz.fr/wp-content/uploads/2022/06/2022-06-11-AZAP-foot.jpg
ORGANIZER;CN="AZAP":MAILTO:azap.yutz@gmail.com
END:VEVENT
BEGIN:VEVENT
DTSTART;TZID=Europe/Paris:20220612T090000
DTEND;TZID=Europe/Paris:20220612T180000
DTSTAMP:20260422T195610
CREATED:20220531T134323Z
LAST-MODIFIED:20220610T161427Z
UID:11167-1655024400-1655056800@www.ville-yutz.fr
SUMMARY:Rugby : challenge de Moselle
DESCRIPTION:Téléchargez l’arrêté de stationnement et circulation 
URL:https://www.ville-yutz.fr/event/rugby-challenge-de-moselle/
LOCATION:Stade Bernard Vasquez\, Rue de la Moselle\, YUTZ\, 57970\, France
CATEGORIES:Sports
ATTACH;FMTTYPE=image/jpeg:https://www.ville-yutz.fr/wp-content/uploads/2022/05/2022-06-12-TYGRE.jpg
END:VEVENT
BEGIN:VEVENT
DTSTART;TZID=Europe/Paris:20220612T143000
DTEND;TZID=Europe/Paris:20220612T143000
DTSTAMP:20260422T195610
CREATED:20220610T162229Z
LAST-MODIFIED:20220610T162229Z
UID:11420-1655044200-1655044200@www.ville-yutz.fr
SUMMARY:Pétanque DNH
DESCRIPTION:
URL:https://www.ville-yutz.fr/event/petanque-dnh-2/
LOCATION:Boulodrome\, 1 rue Sainte-Barbe\, YUTZ\, -\, 57970\, France
CATEGORIES:Sports
ORGANIZER;CN="Club de P%C3%A9tanque de Yutz":MAILTO:cpy57970@gmail.com
END:VEVENT
BEGIN:VEVENT
DTSTART;TZID=Europe/Paris:20220612T150000
DTEND;TZID=Europe/Paris:20220612T150000
DTSTAMP:20260422T195610
CREATED:20220610T162417Z
LAST-MODIFIED:20220610T162417Z
UID:11422-1655046000-1655046000@www.ville-yutz.fr
SUMMARY:Foot : Séniors D1 US YUTZ / Basse Ham AS
DESCRIPTION:
URL:https://www.ville-yutz.fr/event/foot-seniors-d1-us-yutz-basse-ham-as/
LOCATION:Stade de la Forêt\, rue du Stade\, Yutz\, 57970
CATEGORIES:Sports
END:VEVENT
BEGIN:VEVENT
DTSTART;TZID=Europe/Paris:20220612T150000
DTEND;TZID=Europe/Paris:20220612T150000
DTSTAMP:20260422T195610
CREATED:20220610T162505Z
LAST-MODIFIED:20220610T162505Z
UID:11425-1655046000-1655046000@www.ville-yutz.fr
SUMMARY:Foot : FC YUTZ Sénior D1 Yutz FC2 / Illange US1
DESCRIPTION:
URL:https://www.ville-yutz.fr/event/foot-fc-yutz-senior-d1-yutz-fc2-illange-us1/
LOCATION:Stade Mermoz
CATEGORIES:Sports
ORGANIZER;CN="FC Yutz":MAILTO:utz.fc@moselle.lgef.fr
END:VEVENT
BEGIN:VEVENT
DTSTART;TZID=Europe/Paris:20220613T210000
DTEND;TZID=Europe/Paris:20220613T210000
DTSTAMP:20260422T195610
CREATED:20220613T134346Z
LAST-MODIFIED:20220613T134346Z
UID:11461-1655154000-1655154000@www.ville-yutz.fr
SUMMARY:US Yutz : 1/2 Finale de la Coupe de Moselle Réserves- YUTZ  - Brouderdorff
DESCRIPTION:
URL:https://www.ville-yutz.fr/event/us-yutz-1-2-finale-de-la-coupe-de-moselle-reserves-yutz-brouderdorff/
LOCATION:Stade de la Forêt\, rue du Stade\, Yutz\, 57970
CATEGORIES:Sports
END:VEVENT
BEGIN:VEVENT
DTSTART;TZID=Europe/Paris:20220615T190000
DTEND;TZID=Europe/Paris:20220615T190000
DTSTAMP:20260422T195610
CREATED:20220613T134305Z
LAST-MODIFIED:20220613T134305Z
UID:11459-1655319600-1655319600@www.ville-yutz.fr
SUMMARY:US Yutz : 1/2 Finale de la Coupe de Moselle - YUTZ - BEYREN-LES-FORBACH
DESCRIPTION:
URL:https://www.ville-yutz.fr/event/us-yutz-1-2-finale-de-la-coupe-de-moselle-yutz-beyren-les-forbach/
LOCATION:Stade de la Forêt\, rue du Stade\, Yutz\, 57970
CATEGORIES:Sports
END:VEVENT
BEGIN:VEVENT
DTSTART;TZID=Europe/Paris:20220618T100000
DTEND;TZID=Europe/Paris:20220618T160000
DTSTAMP:20260422T195610
CREATED:20220615T094910Z
LAST-MODIFIED:20220615T094910Z
UID:11477-1655546400-1655568000@www.ville-yutz.fr
SUMMARY:Athlétisme : Kid Athlé catégorie 7 à 11 ans
DESCRIPTION:
URL:https://www.ville-yutz.fr/event/athletisme-kid-athle-categorie-7-a-11-ans/
LOCATION:Stade Mermoz
CATEGORIES:Jeunesse,Sports
ORGANIZER;CN="ESTY":MAILTO:esty.athletisme@live.fr
END:VEVENT
BEGIN:VEVENT
DTSTART;TZID=Europe/Paris:20220618T170000
DTEND;TZID=Europe/Paris:20220618T170000
DTSTAMP:20260422T195610
CREATED:20220610T163905Z
LAST-MODIFIED:20220610T163905Z
UID:11434-1655571600-1655571600@www.ville-yutz.fr
SUMMARY:Foot : Match de gala des Vieilles Tiges
DESCRIPTION:Au profit de l’association « Pédiatrie enchantée » \nOuverture du stade à 16h
URL:https://www.ville-yutz.fr/event/foot-match-de-gala-des-vieilles-tiges/
LOCATION:Stade Mermoz
CATEGORIES:Solidarité,Sports
ATTACH;FMTTYPE=image/jpeg:https://www.ville-yutz.fr/wp-content/uploads/2022/06/2022-06-18-match-gala-vieilles-tiges-scaled.jpg
END:VEVENT
BEGIN:VEVENT
DTSTART;TZID=Europe/Paris:20220619T070000
DTEND;TZID=Europe/Paris:20220619T180000
DTSTAMP:20260422T195610
CREATED:20220615T095217Z
LAST-MODIFIED:20220615T095217Z
UID:11479-1655622000-1655661600@www.ville-yutz.fr
SUMMARY:Triathlon international
DESCRIPTION:
URL:https://www.ville-yutz.fr/event/triathlon-international/
LOCATION:Port nautique de Basse-Ham
CATEGORIES:Sports
ATTACH;FMTTYPE=image/jpeg:https://www.ville-yutz.fr/wp-content/uploads/2022/06/2022-06-19-Triathlon.jpg
ORGANIZER;CN="TRITYC - Triathlon Thionville Yutz Club":MAILTO:president@trityc.fr
END:VEVENT
BEGIN:VEVENT
DTSTART;TZID=Europe/Paris:20220619T100000
DTEND;TZID=Europe/Paris:20220619T180000
DTSTAMP:20260422T195610
CREATED:20220615T094459Z
LAST-MODIFIED:20220615T094459Z
UID:11475-1655632800-1655661600@www.ville-yutz.fr
SUMMARY:Equitation : championnat de Moselle de Hunter
DESCRIPTION:
URL:https://www.ville-yutz.fr/event/equitation-championnat-de-moselle-de-hunter/
LOCATION:Centre équestre\, rue de Poitiers\, YUTZ\, 57970\, France
CATEGORIES:Sports
ATTACH;FMTTYPE=image/jpeg:https://www.ville-yutz.fr/wp-content/uploads/2021/06/equitation-cso.jpg
END:VEVENT
BEGIN:VEVENT
DTSTART;TZID=Europe/Paris:20220626T083000
DTEND;TZID=Europe/Paris:20220626T190000
DTSTAMP:20260422T195610
CREATED:20220622T111406Z
LAST-MODIFIED:20220622T111406Z
UID:11660-1656232200-1656270000@www.ville-yutz.fr
SUMMARY:Volley :  finale régionale M11 masculine
DESCRIPTION:Accueil des équipes : 9h30\nDébut des matchs : 10h30
URL:https://www.ville-yutz.fr/event/volley-finale-regionale-m11-masculine/
LOCATION:Gymnase Jean Mermoz\, Place de l'Arc-en-ciel\, Yutz\, 57970\, France
CATEGORIES:Sports
END:VEVENT
BEGIN:VEVENT
DTSTART;TZID=Europe/Paris:20220626T100000
DTEND;TZID=Europe/Paris:20220626T190000
DTSTAMP:20260422T195610
CREATED:20220622T110935Z
LAST-MODIFIED:20220622T110935Z
UID:11658-1656237600-1656270000@www.ville-yutz.fr
SUMMARY:Fête d'été de la Société de Gymnastique de Yutz
DESCRIPTION:
URL:https://www.ville-yutz.fr/event/fete-dete-de-la-societe-de-gymnastique-de-yutz/
LOCATION:Salle Gabriel Antone\, 65 Grand'rue\, YUTZ
CATEGORIES:Sports
ORGANIZER;CN="Soci%C3%A9t%C3%A9 de Gymnastique de Yutz":MAILTO:gymyutz@gmail.com
END:VEVENT
BEGIN:VEVENT
DTSTART;TZID=Europe/Paris:20220626T130000
DTEND;TZID=Europe/Paris:20220626T170000
DTSTAMP:20260422T195610
CREATED:20220622T105850Z
LAST-MODIFIED:20220622T105920Z
UID:11651-1656248400-1656262800@www.ville-yutz.fr
SUMMARY:Handball : Tournoi moins de 13 ans Filles - Garçons
DESCRIPTION:
URL:https://www.ville-yutz.fr/event/handball-tournoi-moins-de-13-ans-filles-garcons/
LOCATION:Gymnase Saint-Exupéry\, 1 rue du Gymnase\, YUTZ\, 57970\, France
CATEGORIES:Sports
END:VEVENT
END:VCALENDAR