BEGIN:VCALENDAR
VERSION:2.0
PRODID:-//Ville de Yutz - ECPv6.15.16//NONSGML v1.0//EN
CALSCALE:GREGORIAN
METHOD:PUBLISH
X-WR-CALNAME:Ville de Yutz
X-ORIGINAL-URL:https://www.ville-yutz.fr
X-WR-CALDESC:Évènements pour Ville de Yutz
REFRESH-INTERVAL;VALUE=DURATION:PT1H
X-Robots-Tag:noindex
X-PUBLISHED-TTL:PT1H
BEGIN:VTIMEZONE
TZID:Europe/Paris
BEGIN:DAYLIGHT
TZOFFSETFROM:+0100
TZOFFSETTO:+0200
TZNAME:CEST
DTSTART:20210328T010000
END:DAYLIGHT
BEGIN:STANDARD
TZOFFSETFROM:+0200
TZOFFSETTO:+0100
TZNAME:CET
DTSTART:20211031T010000
END:STANDARD
BEGIN:DAYLIGHT
TZOFFSETFROM:+0100
TZOFFSETTO:+0200
TZNAME:CEST
DTSTART:20220327T010000
END:DAYLIGHT
BEGIN:STANDARD
TZOFFSETFROM:+0200
TZOFFSETTO:+0100
TZNAME:CET
DTSTART:20221030T010000
END:STANDARD
BEGIN:DAYLIGHT
TZOFFSETFROM:+0100
TZOFFSETTO:+0200
TZNAME:CEST
DTSTART:20230326T010000
END:DAYLIGHT
BEGIN:STANDARD
TZOFFSETFROM:+0200
TZOFFSETTO:+0100
TZNAME:CET
DTSTART:20231029T010000
END:STANDARD
END:VTIMEZONE
BEGIN:VEVENT
DTSTART;TZID=Europe/Paris:20220109T100000
DTEND;TZID=Europe/Paris:20220109T170000
DTSTAMP:20260423T031734
CREATED:20211217T151708Z
LAST-MODIFIED:20211217T151708Z
UID:9013-1641722400-1641747600@www.ville-yutz.fr
SUMMARY:Equitation : Horse-ball
DESCRIPTION:
URL:https://www.ville-yutz.fr/event/equitation-horse-ball/
LOCATION:Centre équestre\, rue de Poitiers\, YUTZ\, 57970\, France
CATEGORIES:Sports
END:VEVENT
BEGIN:VEVENT
DTSTART;TZID=Europe/Paris:20220109T110000
DTEND;TZID=Europe/Paris:20220109T110000
DTSTAMP:20260423T031734
CREATED:20211217T151842Z
LAST-MODIFIED:20211217T151842Z
UID:9015-1641726000-1641726000@www.ville-yutz.fr
SUMMARY:Volley-ball : Coupe de France M13 tour 4
DESCRIPTION:
URL:https://www.ville-yutz.fr/event/volley-ball-coupe-de-france-m13-tour-4/
LOCATION:Gymnase Jean Mermoz\, Place de l'Arc-en-ciel\, Yutz\, 57970\, France
CATEGORIES:Sports
END:VEVENT
BEGIN:VEVENT
DTSTART;TZID=Europe/Paris:20220109T123000
DTEND;TZID=Europe/Paris:20220109T123000
DTSTAMP:20260423T031734
CREATED:20211217T153359Z
LAST-MODIFIED:20220107T165947Z
UID:9017-1641731400-1641731400@www.ville-yutz.fr
SUMMARY:Rugby : Séniors masculin équipe B Tygre / St André les Vergers
DESCRIPTION:
URL:https://www.ville-yutz.fr/event/rugby-seniors-masculin-equipe-b-tygre-st-andre-les-vergers/
LOCATION:Stade Bernard Vasquez\, Rue de la Moselle\, YUTZ\, 57970\, France
CATEGORIES:Sports
END:VEVENT
BEGIN:VEVENT
DTSTART;TZID=Europe/Paris:20220109T140000
DTEND;TZID=Europe/Paris:20220109T140000
DTSTAMP:20260423T031734
CREATED:20220107T170329Z
LAST-MODIFIED:20220107T170329Z
UID:9155-1641736800-1641736800@www.ville-yutz.fr
SUMMARY:Handball cat16 Yutz / Dudelange
DESCRIPTION:
URL:https://www.ville-yutz.fr/event/handball-cat16-yutz-dudelange/
LOCATION:Gymnase Saint-Exupéry\, 1 rue du Gymnase\, YUTZ\, 57970\, France
CATEGORIES:Sports
END:VEVENT
BEGIN:VEVENT
DTSTART;TZID=Europe/Paris:20220109T143000
DTEND;TZID=Europe/Paris:20220109T143000
DTSTAMP:20260423T031734
CREATED:20220107T170045Z
LAST-MODIFIED:20220107T170402Z
UID:9153-1641738600-1641738600@www.ville-yutz.fr
SUMMARY:Rugby : Séniors masculin équipe A Tygre / St André les Vergers
DESCRIPTION:
URL:https://www.ville-yutz.fr/event/rugby-seniors-masculin-equipe-a-tygre-st-andre-les-vergers/
LOCATION:Stade Bernard Vasquez\, Rue de la Moselle\, YUTZ\, 57970\, France
CATEGORIES:Sports
END:VEVENT
BEGIN:VEVENT
DTSTART;TZID=Europe/Paris:20220115T203000
DTEND;TZID=Europe/Paris:20220115T203000
DTSTAMP:20260423T031734
CREATED:20220107T172851Z
LAST-MODIFIED:20220107T172851Z
UID:9169-1642278600-1642278600@www.ville-yutz.fr
SUMMARY:Handball : YHF N1 équipe 1 / Serris
DESCRIPTION:
URL:https://www.ville-yutz.fr/event/handball-yhf-n1-equipe-1-serris/
LOCATION:Gymnase Saint-Exupéry\, 1 rue du Gymnase\, YUTZ\, 57970\, France
CATEGORIES:Sports
ORGANIZER;CN="Yutz Handball":MAILTO:5657005@ffhandball.net
END:VEVENT
BEGIN:VEVENT
DTSTART;TZID=Europe/Paris:20220115T203000
DTEND;TZID=Europe/Paris:20220115T203000
DTSTAMP:20260423T031734
CREATED:20220107T173049Z
LAST-MODIFIED:20220107T173049Z
UID:9171-1642278600-1642278600@www.ville-yutz.fr
SUMMARY:Volley-ball : pré nationale F - Yutz-Thionville / Hagondange
DESCRIPTION:
URL:https://www.ville-yutz.fr/event/volley-ball-pre-nationale-f-yutz-thionville-hagondange/
LOCATION:Gymnase Jean Mermoz\, Place de l'Arc-en-ciel\, Yutz\, 57970\, France
CATEGORIES:Sports
END:VEVENT
BEGIN:VEVENT
DTSTART;TZID=Europe/Paris:20220122T203000
DTEND;TZID=Europe/Paris:20220122T203000
DTSTAMP:20260423T031734
CREATED:20220121T163905Z
LAST-MODIFIED:20220121T163905Z
UID:9336-1642883400-1642883400@www.ville-yutz.fr
SUMMARY:Handball : YHF N1F équipe 1 / Chevigny
DESCRIPTION:
URL:https://www.ville-yutz.fr/event/handball-yhf-n1f-equipe-1-chevigny/
LOCATION:Gymnase Saint-Exupéry\, 1 rue du Gymnase\, YUTZ\, 57970\, France
CATEGORIES:Sports
ORGANIZER;CN="Yutz Handball":MAILTO:5657005@ffhandball.net
END:VEVENT
BEGIN:VEVENT
DTSTART;TZID=Europe/Paris:20220126T170000
DTEND;TZID=Europe/Paris:20220126T170000
DTSTAMP:20260423T031734
CREATED:20220121T164113Z
LAST-MODIFIED:20220121T164113Z
UID:9338-1643216400-1643216400@www.ville-yutz.fr
SUMMARY:Volley-ball : ASVB Pré-nationale F / Yutz-Thionville  - Pôle Nancy
DESCRIPTION:
URL:https://www.ville-yutz.fr/event/volley-ball-asvb-pre-nationale-f-yutz-thionville-pole-nancy/
LOCATION:Gymnase Jean Mermoz\, Place de l'Arc-en-ciel\, Yutz\, 57970\, France
CATEGORIES:Sports
END:VEVENT
END:VCALENDAR