BEGIN:VCALENDAR
VERSION:2.0
PRODID:-//Ville de Yutz - ECPv6.15.16//NONSGML v1.0//EN
CALSCALE:GREGORIAN
METHOD:PUBLISH
X-ORIGINAL-URL:https://www.ville-yutz.fr
X-WR-CALDESC:Évènements pour Ville de Yutz
REFRESH-INTERVAL;VALUE=DURATION:PT1H
X-Robots-Tag:noindex
X-PUBLISHED-TTL:PT1H
BEGIN:VTIMEZONE
TZID:Europe/Paris
BEGIN:DAYLIGHT
TZOFFSETFROM:+0100
TZOFFSETTO:+0200
TZNAME:CEST
DTSTART:20200329T010000
END:DAYLIGHT
BEGIN:STANDARD
TZOFFSETFROM:+0200
TZOFFSETTO:+0100
TZNAME:CET
DTSTART:20201025T010000
END:STANDARD
BEGIN:DAYLIGHT
TZOFFSETFROM:+0100
TZOFFSETTO:+0200
TZNAME:CEST
DTSTART:20210328T010000
END:DAYLIGHT
BEGIN:STANDARD
TZOFFSETFROM:+0200
TZOFFSETTO:+0100
TZNAME:CET
DTSTART:20211031T010000
END:STANDARD
BEGIN:DAYLIGHT
TZOFFSETFROM:+0100
TZOFFSETTO:+0200
TZNAME:CEST
DTSTART:20220327T010000
END:DAYLIGHT
BEGIN:STANDARD
TZOFFSETFROM:+0200
TZOFFSETTO:+0100
TZNAME:CET
DTSTART:20221030T010000
END:STANDARD
END:VTIMEZONE
BEGIN:VEVENT
DTSTART;TZID=Europe/Paris:20211002T140000
DTEND;TZID=Europe/Paris:20211002T140000
DTSTAMP:20260423T075833
CREATED:20211001T084848Z
LAST-MODIFIED:20211001T084848Z
UID:7835-1633183200-1633183200@www.ville-yutz.fr
SUMMARY:Pétanque : Championnats des clubs de 3e division
DESCRIPTION:
URL:https://www.ville-yutz.fr/event/petanque-championnats-des-clubs-de-3e-division/
LOCATION:Boulodrome\, 1 rue Sainte-Barbe\, YUTZ\, -\, 57970\, France
CATEGORIES:Sports
END:VEVENT
BEGIN:VEVENT
DTSTART;TZID=Europe/Paris:20211003T143000
DTEND;TZID=Europe/Paris:20211003T143000
DTSTAMP:20260423T075833
CREATED:20211001T100301Z
LAST-MODIFIED:20211001T100301Z
UID:7837-1633271400-1633271400@www.ville-yutz.fr
SUMMARY:Concours de Pétanque
DESCRIPTION:
URL:https://www.ville-yutz.fr/event/concours-de-petanque/
LOCATION:Boulodrome\, 1 rue Sainte-Barbe\, YUTZ\, -\, 57970\, France
CATEGORIES:Sports
END:VEVENT
BEGIN:VEVENT
DTSTART;TZID=Europe/Paris:20211009T140000
DTEND;TZID=Europe/Paris:20211009T140000
DTSTAMP:20260423T075833
CREATED:20211001T102243Z
LAST-MODIFIED:20211001T102243Z
UID:7851-1633788000-1633788000@www.ville-yutz.fr
SUMMARY:Pétanque : Championnats des clubs de 2e division
DESCRIPTION:
URL:https://www.ville-yutz.fr/event/petanque-championnats-des-clubs-de-2e-division/
LOCATION:Boulodrome\, 1 rue Sainte-Barbe\, YUTZ\, -\, 57970\, France
CATEGORIES:Sports
END:VEVENT
BEGIN:VEVENT
DTSTART;TZID=Europe/Paris:20211009T193000
DTEND;TZID=Europe/Paris:20211009T193000
DTSTAMP:20260423T075833
CREATED:20211001T101219Z
LAST-MODIFIED:20211001T101305Z
UID:7844-1633807800-1633807800@www.ville-yutz.fr
SUMMARY:Volley-ball - ASVB : Pré-nationale F / YUTZ-THIONVILLE  - TERVILLE-FLORANGE C
DESCRIPTION:Championnat Grand Est
URL:https://www.ville-yutz.fr/event/volley-ball-asvb-pre-nationale-f-yutz-thionville-terville-florange-c/
LOCATION:Gymnase Jean Mermoz\, Place de l'Arc-en-ciel\, Yutz\, 57970\, France
CATEGORIES:Sports
END:VEVENT
BEGIN:VEVENT
DTSTART;TZID=Europe/Paris:20211010T090000
DTEND;TZID=Europe/Paris:20211010T090000
DTSTAMP:20260423T075833
CREATED:20211001T103242Z
LAST-MODIFIED:20211001T103242Z
UID:7861-1633856400-1633856400@www.ville-yutz.fr
SUMMARY:Volley-ball : ASVB -Jeunes
DESCRIPTION:Coupe de France M15 Tour 1
URL:https://www.ville-yutz.fr/event/volley-ball-asvb-jeunes/
LOCATION:Gymnase Jean Mermoz\, Place de l'Arc-en-ciel\, Yutz\, 57970\, France
CATEGORIES:Sports
END:VEVENT
BEGIN:VEVENT
DTSTART;TZID=Europe/Paris:20211010T100000
DTEND;TZID=Europe/Paris:20211010T100000
DTSTAMP:20260423T075833
CREATED:20211001T103135Z
LAST-MODIFIED:20211001T103135Z
UID:7859-1633860000-1633860000@www.ville-yutz.fr
SUMMARY:Foot : Championnat Sénior -  Yutz Cité 2 / Kirschnaumen - Montenach 2
DESCRIPTION:
URL:https://www.ville-yutz.fr/event/foot-championnat-senior-yutz-cite-2-kirschnaumen-montenach-2/
LOCATION:Stade Denis Muller\, Rue Victor Hugo\, YUTZ\, 57970
CATEGORIES:Sports
END:VEVENT
BEGIN:VEVENT
DTSTART;TZID=Europe/Paris:20211010T130000
DTEND;TZID=Europe/Paris:20211010T130000
DTSTAMP:20260423T075833
CREATED:20211001T103034Z
LAST-MODIFIED:20211001T103034Z
UID:7857-1633870800-1633870800@www.ville-yutz.fr
SUMMARY:Rugby : Séniors Masculin Equipe A - TYGRE / MULHOUSE
DESCRIPTION:
URL:https://www.ville-yutz.fr/event/rugby-seniors-masculin-equipe-a-tygre-mulhouse/
LOCATION:Stade Bernard Vasquez\, Rue de la Moselle\, YUTZ\, 57970\, France
CATEGORIES:Sports
END:VEVENT
BEGIN:VEVENT
DTSTART;TZID=Europe/Paris:20211010T150000
DTEND;TZID=Europe/Paris:20211010T150000
DTSTAMP:20260423T075833
CREATED:20211001T102730Z
LAST-MODIFIED:20211001T102730Z
UID:7853-1633878000-1633878000@www.ville-yutz.fr
SUMMARY:Foot : Championnat Sénior -  Yutz Cité / Rémeling 2
DESCRIPTION:
URL:https://www.ville-yutz.fr/event/foot-championnat-senior-yutz-cite-remeling-2/
LOCATION:Stade Denis Muller\, Rue Victor Hugo\, YUTZ\, 57970
CATEGORIES:Sports
END:VEVENT
BEGIN:VEVENT
DTSTART;TZID=Europe/Paris:20211010T150000
DTEND;TZID=Europe/Paris:20211010T150000
DTSTAMP:20260423T075833
CREATED:20211001T102933Z
LAST-MODIFIED:20211001T102933Z
UID:7855-1633878000-1633878000@www.ville-yutz.fr
SUMMARY:Rugby : Séniors Masculin Equipe B - TYGRE / MULHOUSE
DESCRIPTION:
URL:https://www.ville-yutz.fr/event/rugby-seniors-masculin-equipe-b-tygre-mulhouse/
LOCATION:Stade Bernard Vasquez\, Rue de la Moselle\, YUTZ\, 57970\, France
CATEGORIES:Sports
END:VEVENT
BEGIN:VEVENT
DTSTART;TZID=Europe/Paris:20211017T090000
DTEND;TZID=Europe/Paris:20211017T090000
DTSTAMP:20260423T075833
CREATED:20211015T100458Z
LAST-MODIFIED:20211015T100550Z
UID:7981-1634461200-1634461200@www.ville-yutz.fr
SUMMARY:Volley-ball : ASVB - Jeunes
DESCRIPTION:Coupe de France M216-M18-M13 Tour 1
URL:https://www.ville-yutz.fr/event/volley-ball-asvb-jeunes-2/
LOCATION:Gymnase Jean Mermoz\, Place de l'Arc-en-ciel\, Yutz\, 57970\, France
CATEGORIES:Sports
END:VEVENT
BEGIN:VEVENT
DTSTART;TZID=Europe/Paris:20211023T140000
DTEND;TZID=Europe/Paris:20211023T140000
DTSTAMP:20260423T075833
CREATED:20211022T144226Z
LAST-MODIFIED:20211022T144226Z
UID:8051-1634997600-1634997600@www.ville-yutz.fr
SUMMARY:HANDBALL - cat 13F  YUTZ/SIERCK
DESCRIPTION:
URL:https://www.ville-yutz.fr/event/handball-cat-13f-yutz-sierck/
LOCATION:Gymnase Saint-Exupéry\, 1 rue du Gymnase\, YUTZ\, 57970\, France
CATEGORIES:Sports
ORGANIZER;CN="Yutz Handball":MAILTO:5657005@ffhandball.net
END:VEVENT
BEGIN:VEVENT
DTSTART;TZID=Europe/Paris:20211023T160000
DTEND;TZID=Europe/Paris:20211023T160000
DTSTAMP:20260423T075833
CREATED:20211022T150857Z
LAST-MODIFIED:20211022T150857Z
UID:8053-1635004800-1635004800@www.ville-yutz.fr
SUMMARY:HANDBALL - cat 15  YUTZ/LONGWY
DESCRIPTION:
URL:https://www.ville-yutz.fr/event/handball-cat-15-yutz-longwy/
LOCATION:Gymnase Saint-Exupéry\, 1 rue du Gymnase\, YUTZ\, 57970\, France
CATEGORIES:Sports
ORGANIZER;CN="Yutz Handball":MAILTO:5657005@ffhandball.net
END:VEVENT
BEGIN:VEVENT
DTSTART;TZID=Europe/Paris:20211023T181500
DTEND;TZID=Europe/Paris:20211023T181500
DTSTAMP:20260423T075833
CREATED:20211022T150952Z
LAST-MODIFIED:20211022T150952Z
UID:8055-1635012900-1635012900@www.ville-yutz.fr
SUMMARY:HANDBALL - cat 16  YUTZ/METZ
DESCRIPTION:
URL:https://www.ville-yutz.fr/event/handball-cat-16-yutz-metz/
LOCATION:Gymnase Saint-Exupéry\, 1 rue du Gymnase\, YUTZ\, 57970\, France
CATEGORIES:Sports
ORGANIZER;CN="Yutz Handball":MAILTO:5657005@ffhandball.net
END:VEVENT
BEGIN:VEVENT
DTSTART;TZID=Europe/Paris:20211023T203000
DTEND;TZID=Europe/Paris:20211023T203000
DTSTAMP:20260423T075833
CREATED:20211015T144208Z
LAST-MODIFIED:20211022T151033Z
UID:8003-1635021000-1635021000@www.ville-yutz.fr
SUMMARY:HANDBALL : YHF - N1F équipe 1 / Stella
DESCRIPTION:
URL:https://www.ville-yutz.fr/event/handball-yhf-n1f-equipe-1-stella/
LOCATION:Gymnase Saint-Exupéry\, 1 rue du Gymnase\, YUTZ\, 57970\, France
CATEGORIES:Sports
ORGANIZER;CN="Yutz Handball":MAILTO:5657005@ffhandball.net
END:VEVENT
BEGIN:VEVENT
DTSTART;TZID=Europe/Paris:20211024T100000
DTEND;TZID=Europe/Paris:20211024T100000
DTSTAMP:20260423T075833
CREATED:20211015T144418Z
LAST-MODIFIED:20211015T144418Z
UID:8005-1635069600-1635069600@www.ville-yutz.fr
SUMMARY:FOOT : Championnat Sénior -  Yutz Cité 2 / Kœnigsmacker - Kédange 3
DESCRIPTION:
URL:https://www.ville-yutz.fr/event/foot-championnat-senior-yutz-cite-2-koenigsmacker-kedange-3/
LOCATION:Stade Denis Muller\, Rue Victor Hugo\, YUTZ\, 57970
CATEGORIES:Sports
END:VEVENT
BEGIN:VEVENT
DTSTART;TZID=Europe/Paris:20211024T140000
DTEND;TZID=Europe/Paris:20211024T140000
DTSTAMP:20260423T075833
CREATED:20211022T151246Z
LAST-MODIFIED:20211022T151246Z
UID:8058-1635084000-1635084000@www.ville-yutz.fr
SUMMARY:HANDBALL - cat 13M  YUTZ/RODEMACK-HETTANGE
DESCRIPTION:
URL:https://www.ville-yutz.fr/event/handball-cat-13m-yutz-rodemack-hettange/
LOCATION:Gymnase Saint-Exupéry\, 1 rue du Gymnase\, YUTZ\, 57970\, France
CATEGORIES:Sports
ORGANIZER;CN="Yutz Handball":MAILTO:5657005@ffhandball.net
END:VEVENT
BEGIN:VEVENT
DTSTART;TZID=Europe/Paris:20211024T150000
DTEND;TZID=Europe/Paris:20211024T150000
DTSTAMP:20260423T075833
CREATED:20211015T144519Z
LAST-MODIFIED:20211015T144519Z
UID:8007-1635087600-1635087600@www.ville-yutz.fr
SUMMARY:FOOT : Championnat Sénior -  Yutz Cité / Distroff
DESCRIPTION:
URL:https://www.ville-yutz.fr/event/foot-championnat-senior-yutz-cite-distroff/
LOCATION:Stade Denis Muller\, Rue Victor Hugo\, YUTZ\, 57970
CATEGORIES:Sports
END:VEVENT
BEGIN:VEVENT
DTSTART;TZID=Europe/Paris:20211029T100000
DTEND;TZID=Europe/Paris:20211029T170000
DTSTAMP:20260423T075833
CREATED:20211029T154742Z
LAST-MODIFIED:20211029T154742Z
UID:8100-1635501600-1635526800@www.ville-yutz.fr
SUMMARY:Equitation - concours de dressage
DESCRIPTION:
URL:https://www.ville-yutz.fr/event/equitation-concours-de-dressage-2/
LOCATION:Centre équestre\, rue de Poitiers\, YUTZ\, 57970\, France
CATEGORIES:Sports
END:VEVENT
BEGIN:VEVENT
DTSTART;TZID=Europe/Paris:20211031T100000
DTEND;TZID=Europe/Paris:20211031T170000
DTSTAMP:20260423T075833
CREATED:20211022T152531Z
LAST-MODIFIED:20211029T161601Z
UID:8062-1635674400-1635699600@www.ville-yutz.fr
SUMMARY:Equitation - concours de dressage
DESCRIPTION:
URL:https://www.ville-yutz.fr/event/equitation-concours-de-dressage/
LOCATION:Centre équestre\, rue de Poitiers\, YUTZ\, 57970\, France
CATEGORIES:Sports
END:VEVENT
END:VCALENDAR