BEGIN:VCALENDAR
VERSION:2.0
PRODID:-//Ville de Yutz - ECPv6.15.16//NONSGML v1.0//EN
CALSCALE:GREGORIAN
METHOD:PUBLISH
X-WR-CALNAME:Ville de Yutz
X-ORIGINAL-URL:https://www.ville-yutz.fr
X-WR-CALDESC:Évènements pour Ville de Yutz
REFRESH-INTERVAL;VALUE=DURATION:PT1H
X-Robots-Tag:noindex
X-PUBLISHED-TTL:PT1H
BEGIN:VTIMEZONE
TZID:Europe/Paris
BEGIN:DAYLIGHT
TZOFFSETFROM:+0100
TZOFFSETTO:+0200
TZNAME:CEST
DTSTART:20200329T010000
END:DAYLIGHT
BEGIN:STANDARD
TZOFFSETFROM:+0200
TZOFFSETTO:+0100
TZNAME:CET
DTSTART:20201025T010000
END:STANDARD
BEGIN:DAYLIGHT
TZOFFSETFROM:+0100
TZOFFSETTO:+0200
TZNAME:CEST
DTSTART:20210328T010000
END:DAYLIGHT
BEGIN:STANDARD
TZOFFSETFROM:+0200
TZOFFSETTO:+0100
TZNAME:CET
DTSTART:20211031T010000
END:STANDARD
BEGIN:DAYLIGHT
TZOFFSETFROM:+0100
TZOFFSETTO:+0200
TZNAME:CEST
DTSTART:20220327T010000
END:DAYLIGHT
BEGIN:STANDARD
TZOFFSETFROM:+0200
TZOFFSETTO:+0100
TZNAME:CET
DTSTART:20221030T010000
END:STANDARD
END:VTIMEZONE
BEGIN:VEVENT
DTSTART;TZID=Europe/Paris:20210703T090000
DTEND;TZID=Europe/Paris:20210703T133000
DTSTAMP:20260423T115847
CREATED:20210702T091318Z
LAST-MODIFIED:20210702T091318Z
UID:6422-1625302800-1625319000@www.ville-yutz.fr
SUMMARY:Volley-ball - Journée portes ouvertes
DESCRIPTION:
URL:https://www.ville-yutz.fr/event/volley-ball-journee-portes-ouvertes/
LOCATION:Gymnase Jean Mermoz\, Place de l'Arc-en-ciel\, Yutz\, 57970\, France
CATEGORIES:Sports
END:VEVENT
BEGIN:VEVENT
DTSTART;TZID=Europe/Paris:20210703T180000
DTEND;TZID=Europe/Paris:20210703T220000
DTSTAMP:20260423T115847
CREATED:20210702T090357Z
LAST-MODIFIED:20210702T090835Z
UID:6414-1625335200-1625349600@www.ville-yutz.fr
SUMMARY:Tournoi de foot Parents-Enfants
DESCRIPTION:
URL:https://www.ville-yutz.fr/event/tournoi-de-foot-parents-enfants/
LOCATION:Stade de la Forêt\, rue du Stade\, Yutz\, 57970
CATEGORIES:Solidarité,Sports
END:VEVENT
BEGIN:VEVENT
DTSTART;TZID=Europe/Paris:20210704T100000
DTEND;TZID=Europe/Paris:20210704T100000
DTSTAMP:20260423T115847
CREATED:20210702T091542Z
LAST-MODIFIED:20210702T091542Z
UID:6424-1625392800-1625392800@www.ville-yutz.fr
SUMMARY:Football - Tournoi SIXTE
DESCRIPTION:
URL:https://www.ville-yutz.fr/event/football-tournoi-sixte/
LOCATION:Stade Denis Muller\, Rue Victor Hugo\, YUTZ\, 57970
CATEGORIES:Sports
END:VEVENT
BEGIN:VEVENT
DTSTART;TZID=Europe/Paris:20210711T080000
DTEND;TZID=Europe/Paris:20210711T080000
DTSTAMP:20260423T115847
CREATED:20210709T154633Z
LAST-MODIFIED:20210709T155358Z
UID:6737-1625990400-1625990400@www.ville-yutz.fr
SUMMARY:Pétanque : 2e Tour de Coupe de France
DESCRIPTION:
URL:https://www.ville-yutz.fr/event/petanque-2e-tour-de-coupe-de-france/
LOCATION:Boulodrome\, 1 rue Sainte-Barbe\, YUTZ\, -\, 57970\, France
CATEGORIES:Sports
ORGANIZER;CN="Club de P%C3%A9tanque de Yutz":MAILTO:cpy57970@gmail.com
END:VEVENT
BEGIN:VEVENT
DTSTART;VALUE=DATE:20210712
DTEND;VALUE=DATE:20210724
DTSTAMP:20260423T115847
CREATED:20210709T162010Z
LAST-MODIFIED:20210709T162010Z
UID:6743-1626048000-1627084799@www.ville-yutz.fr
SUMMARY:Football : Stage vacances
DESCRIPTION:
URL:https://www.ville-yutz.fr/event/football-stage-vacances/
LOCATION:Stade Mermoz
CATEGORIES:Sports
END:VEVENT
BEGIN:VEVENT
DTSTART;VALUE=DATE:20210718
DTEND;VALUE=DATE:20210719
DTSTAMP:20260423T115847
CREATED:20210716T144251Z
LAST-MODIFIED:20210716T151434Z
UID:6843-1626566400-1626652799@www.ville-yutz.fr
SUMMARY:Equitation : Concours de Sauts d'Obstacles
DESCRIPTION:
URL:https://www.ville-yutz.fr/event/equitation-concours-de-sauts-dobstacles/
LOCATION:Centre équestre\, rue de Poitiers\, YUTZ\, 57970\, France
CATEGORIES:Sports
ATTACH;FMTTYPE=image/jpeg:https://www.ville-yutz.fr/wp-content/uploads/2021/06/DSC1351.jpeg
END:VEVENT
BEGIN:VEVENT
DTSTART;VALUE=DATE:20210724
DTEND;VALUE=DATE:20210731
DTSTAMP:20260423T115847
CREATED:20210727T144812Z
LAST-MODIFIED:20210727T145113Z
UID:6963-1627084800-1627689599@www.ville-yutz.fr
SUMMARY:YUTZ PLAGE - programme du 24 au 30 juillet 2021
DESCRIPTION:
URL:https://www.ville-yutz.fr/event/yutz-plage-programme-du-24-au-30-juillet-2021/
CATEGORIES:Culture,Jeunesse,Sports
ATTACH;FMTTYPE=image/jpeg:https://www.ville-yutz.fr/wp-content/uploads/2021/07/programmation-Yutz-plage-semaine-2.jpg
END:VEVENT
BEGIN:VEVENT
DTSTART;VALUE=DATE:20210731
DTEND;VALUE=DATE:20210802
DTSTAMP:20260423T115847
CREATED:20210730T202330Z
LAST-MODIFIED:20210730T202330Z
UID:7032-1627689600-1627862399@www.ville-yutz.fr
SUMMARY:Yutz plage
DESCRIPTION:
URL:https://www.ville-yutz.fr/event/yutz-plage-2/
LOCATION:Berges de la Moselle Yutz
CATEGORIES:Culture,Jeunesse,Sports
ATTACH;FMTTYPE=image/jpeg:https://www.ville-yutz.fr/wp-content/uploads/2021/07/programme-weekend-yutz-plage-31.07-01.08.jpg
ORGANIZER;CN="Ville de Yutz":MAILTO:yutz@mairie-yutz.fr
END:VEVENT
END:VCALENDAR