BEGIN:VCALENDAR
VERSION:2.0
PRODID:-//Ville de Yutz - ECPv6.15.16//NONSGML v1.0//EN
CALSCALE:GREGORIAN
METHOD:PUBLISH
X-WR-CALNAME:Ville de Yutz
X-ORIGINAL-URL:https://www.ville-yutz.fr
X-WR-CALDESC:Évènements pour Ville de Yutz
REFRESH-INTERVAL;VALUE=DURATION:PT1H
X-Robots-Tag:noindex
X-PUBLISHED-TTL:PT1H
BEGIN:VTIMEZONE
TZID:Europe/Paris
BEGIN:DAYLIGHT
TZOFFSETFROM:+0100
TZOFFSETTO:+0200
TZNAME:CEST
DTSTART:20240331T010000
END:DAYLIGHT
BEGIN:STANDARD
TZOFFSETFROM:+0200
TZOFFSETTO:+0100
TZNAME:CET
DTSTART:20241027T010000
END:STANDARD
BEGIN:DAYLIGHT
TZOFFSETFROM:+0100
TZOFFSETTO:+0200
TZNAME:CEST
DTSTART:20250330T010000
END:DAYLIGHT
BEGIN:STANDARD
TZOFFSETFROM:+0200
TZOFFSETTO:+0100
TZNAME:CET
DTSTART:20251026T010000
END:STANDARD
BEGIN:DAYLIGHT
TZOFFSETFROM:+0100
TZOFFSETTO:+0200
TZNAME:CEST
DTSTART:20260329T010000
END:DAYLIGHT
BEGIN:STANDARD
TZOFFSETFROM:+0200
TZOFFSETTO:+0100
TZNAME:CET
DTSTART:20261025T010000
END:STANDARD
END:VTIMEZONE
BEGIN:VEVENT
DTSTART;VALUE=DATE:20251010
DTEND;VALUE=DATE:20251012
DTSTAMP:20260421T021833
CREATED:20251003T161756Z
LAST-MODIFIED:20251003T161756Z
UID:44490-1760054400-1760227199@www.ville-yutz.fr
SUMMARY:Opération Brioches de l'Amitié
DESCRIPTION:Supermarché Match : 10 et 11 octobre de 8h30 à 17h\n\nSupermarché CarrefourMarket : 10 et 11 octobre de 9h à 17h \nMarché hebdomadaire : le 10 octobre de 9h à 12h \nPorte-à-porte : le 11 octobre de 8h à 17h (avec les bénévoles des associations de Yutz) \n  \nL’Opération Brioches de l’Amitié est basée sur le principe d’un don\, dont le montant est libre. \n\nUne brioche est remise en échange d’un don minimum conseillé de 5 euros.\n\n\n\nLes fonds collectés permettront de participer au financement de la reconstruction de l’ESAT de Brack de Saint-Avold et du projet de rénovation de la MAS Les Marronniers de Guénange.
URL:https://www.ville-yutz.fr/event/operation-brioches-de-lamitie-2/
CATEGORIES:Solidarité
ATTACH;FMTTYPE=image/jpeg:https://www.ville-yutz.fr/wp-content/uploads/2025/10/brioches-de-lamitie.jpg
END:VEVENT
END:VCALENDAR