BEGIN:VCALENDAR
VERSION:2.0
PRODID:-//Ville de Yutz - ECPv6.15.16//NONSGML v1.0//EN
CALSCALE:GREGORIAN
METHOD:PUBLISH
X-WR-CALNAME:Ville de Yutz
X-ORIGINAL-URL:https://www.ville-yutz.fr
X-WR-CALDESC:Évènements pour Ville de Yutz
REFRESH-INTERVAL;VALUE=DURATION:PT1H
X-Robots-Tag:noindex
X-PUBLISHED-TTL:PT1H
BEGIN:VTIMEZONE
TZID:Europe/Paris
BEGIN:DAYLIGHT
TZOFFSETFROM:+0100
TZOFFSETTO:+0200
TZNAME:CEST
DTSTART:20240331T010000
END:DAYLIGHT
BEGIN:STANDARD
TZOFFSETFROM:+0200
TZOFFSETTO:+0100
TZNAME:CET
DTSTART:20241027T010000
END:STANDARD
BEGIN:DAYLIGHT
TZOFFSETFROM:+0100
TZOFFSETTO:+0200
TZNAME:CEST
DTSTART:20250330T010000
END:DAYLIGHT
BEGIN:STANDARD
TZOFFSETFROM:+0200
TZOFFSETTO:+0100
TZNAME:CET
DTSTART:20251026T010000
END:STANDARD
BEGIN:DAYLIGHT
TZOFFSETFROM:+0100
TZOFFSETTO:+0200
TZNAME:CEST
DTSTART:20260329T010000
END:DAYLIGHT
BEGIN:STANDARD
TZOFFSETFROM:+0200
TZOFFSETTO:+0100
TZNAME:CET
DTSTART:20261025T010000
END:STANDARD
END:VTIMEZONE
BEGIN:VEVENT
DTSTART;TZID=Europe/Paris:20250507T120000
DTEND;TZID=Europe/Paris:20250507T120000
DTSTAMP:20260421T104954
CREATED:20250409T101247Z
LAST-MODIFIED:20250409T101420Z
UID:38686-1746619200-1746619200@www.ville-yutz.fr
SUMMARY:Repas solidaire
DESCRIPTION:La Ville de Yutz\, en partenariat avec le Lycée d’Ottange\, organise un Repas Solidaire au Val Joyeux.Cette initiative vise à offrir un moment de convivialité et de partage aux personnes en situation de précarité\, en leur proposant un repas digne d’un restaurant.\n\nInscription pour les personnes bénéficiaires des associations caritatives et solidaires : Mairie de Yutz – Direction de la Solidarité – 93 rue du Président Roosevelt à Yutz
URL:https://www.ville-yutz.fr/event/repas-solidaire-3/
LOCATION:Val Joyeux
CATEGORIES:Solidarité
ATTACH;FMTTYPE=image/png:https://www.ville-yutz.fr/wp-content/uploads/2025/04/2025-05-07-Repas-solidaire-7-mai-2025.png
END:VEVENT
END:VCALENDAR