BEGIN:VCALENDAR
VERSION:2.0
PRODID:-//Ville de Yutz - ECPv6.15.16//NONSGML v1.0//EN
CALSCALE:GREGORIAN
METHOD:PUBLISH
X-ORIGINAL-URL:https://www.ville-yutz.fr
X-WR-CALDESC:Évènements pour Ville de Yutz
REFRESH-INTERVAL;VALUE=DURATION:PT1H
X-Robots-Tag:noindex
X-PUBLISHED-TTL:PT1H
BEGIN:VTIMEZONE
TZID:Europe/Paris
BEGIN:DAYLIGHT
TZOFFSETFROM:+0100
TZOFFSETTO:+0200
TZNAME:CEST
DTSTART:20240331T010000
END:DAYLIGHT
BEGIN:STANDARD
TZOFFSETFROM:+0200
TZOFFSETTO:+0100
TZNAME:CET
DTSTART:20241027T010000
END:STANDARD
BEGIN:DAYLIGHT
TZOFFSETFROM:+0100
TZOFFSETTO:+0200
TZNAME:CEST
DTSTART:20250330T010000
END:DAYLIGHT
BEGIN:STANDARD
TZOFFSETFROM:+0200
TZOFFSETTO:+0100
TZNAME:CET
DTSTART:20251026T010000
END:STANDARD
BEGIN:DAYLIGHT
TZOFFSETFROM:+0100
TZOFFSETTO:+0200
TZNAME:CEST
DTSTART:20260329T010000
END:DAYLIGHT
BEGIN:STANDARD
TZOFFSETFROM:+0200
TZOFFSETTO:+0100
TZNAME:CET
DTSTART:20261025T010000
END:STANDARD
END:VTIMEZONE
BEGIN:VEVENT
DTSTART;TZID=Europe/Paris:20250207T193000
DTEND;TZID=Europe/Paris:20250207T220000
DTSTAMP:20260421T171005
CREATED:20241107T153812Z
LAST-MODIFIED:20250207T173938Z
UID:33438-1738956600-1738965600@www.ville-yutz.fr
SUMMARY:Ô Couleurs du Monde : Pièce de théâtre "L'amour 2.0 par intérim"
DESCRIPTION:Création comique de La Maschera\, écrite par L.Cuttitta et mise en scène par Paolo Scarpato. (A partir de 10 ans). \nDans le cadre de l’événement « Nous pour Elles » organisé par Anne-Laure Saumard et en partenariat avec la Ville de Yutz et les centres sociaux de Yutz (Ô Couleurs du Monde)\, Thionville et Hayange \nConvaincue d’avoir enfin rencontré l’amour de sa vie en ligne\, Lilou organise cette soirée avec minutie. Justin\, égotique et narcissique\, tente d’emballer Lilou dans un jeu de séduction atypique. Steeve\, le meilleur ami de Justin\, va voler au secours de son ami….enfin presque. Un triangle amoureux\, porté sur l’espoir et l’illusion\, qui va vous transporter. \nOuverture des portes à 19h30 – Entrée libre\nBuvette sur place \n 
URL:https://www.ville-yutz.fr/event/o-couleurs-du-monde-piece-de-theatre-lamour-2-0-par-interim/
LOCATION:Salle Bestien
CATEGORIES:Culture,Solidarité
ATTACH;FMTTYPE=image/png:https://www.ville-yutz.fr/wp-content/uploads/2024/11/2024-02-07-theatre-lamour-2.0-par-interim.png
END:VEVENT
END:VCALENDAR