BEGIN:VCALENDAR
VERSION:2.0
PRODID:-//Ville de Yutz - ECPv6.15.16//NONSGML v1.0//EN
CALSCALE:GREGORIAN
METHOD:PUBLISH
X-WR-CALNAME:Ville de Yutz
X-ORIGINAL-URL:https://www.ville-yutz.fr
X-WR-CALDESC:Évènements pour Ville de Yutz
REFRESH-INTERVAL;VALUE=DURATION:PT1H
X-Robots-Tag:noindex
X-PUBLISHED-TTL:PT1H
BEGIN:VTIMEZONE
TZID:Europe/Paris
BEGIN:DAYLIGHT
TZOFFSETFROM:+0100
TZOFFSETTO:+0200
TZNAME:CEST
DTSTART:20230326T010000
END:DAYLIGHT
BEGIN:STANDARD
TZOFFSETFROM:+0200
TZOFFSETTO:+0100
TZNAME:CET
DTSTART:20231029T010000
END:STANDARD
BEGIN:DAYLIGHT
TZOFFSETFROM:+0100
TZOFFSETTO:+0200
TZNAME:CEST
DTSTART:20240331T010000
END:DAYLIGHT
BEGIN:STANDARD
TZOFFSETFROM:+0200
TZOFFSETTO:+0100
TZNAME:CET
DTSTART:20241027T010000
END:STANDARD
BEGIN:DAYLIGHT
TZOFFSETFROM:+0100
TZOFFSETTO:+0200
TZNAME:CEST
DTSTART:20250330T010000
END:DAYLIGHT
BEGIN:STANDARD
TZOFFSETFROM:+0200
TZOFFSETTO:+0100
TZNAME:CET
DTSTART:20251026T010000
END:STANDARD
END:VTIMEZONE
BEGIN:VEVENT
DTSTART;VALUE=DATE:20241129
DTEND;VALUE=DATE:20241201
DTSTAMP:20260421T193740
CREATED:20241125T112056Z
LAST-MODIFIED:20241125T112507Z
UID:34011-1732838400-1733011199@www.ville-yutz.fr
SUMMARY:TELETHON 2024 : Week-end chantant
DESCRIPTION:le 29/11 de 19h00 à minuit \nle 30/11 de 12h00 à minuit \nRestauration devant l’église
URL:https://www.ville-yutz.fr/event/telethon-2024-week-end-chantant/
LOCATION:Eglise Saint-Nicolas\, Yutz\, 57970
CATEGORIES:Solidarité
ATTACH;FMTTYPE=image/jpeg:https://www.ville-yutz.fr/wp-content/uploads/2024/11/2024-11-29-et-30-telethon-HARMONIE.jpg
END:VEVENT
BEGIN:VEVENT
DTSTART;TZID=Europe/Paris:20241129T173000
DTEND;TZID=Europe/Paris:20241129T173000
DTSTAMP:20260421T193740
CREATED:20241125T111607Z
LAST-MODIFIED:20241125T111607Z
UID:34009-1732901400-1732901400@www.ville-yutz.fr
SUMMARY:TELETHON 2024 : Marche éclairée réalisée par l'Ecole Emile Fritsch
DESCRIPTION:Départ devant l’école à 17h30
URL:https://www.ville-yutz.fr/event/telethon-2024-marche-eclairee-realisee-par-lecole-emile-fritsch/
LOCATION:Ecole Emile Fritsch\, Avenue François Dupont\, Yutz\, 57970
CATEGORIES:Solidarité
END:VEVENT
END:VCALENDAR