BEGIN:VCALENDAR
VERSION:2.0
PRODID:-//Ville de Yutz - ECPv6.15.16//NONSGML v1.0//EN
CALSCALE:GREGORIAN
METHOD:PUBLISH
X-WR-CALNAME:Ville de Yutz
X-ORIGINAL-URL:https://www.ville-yutz.fr
X-WR-CALDESC:Évènements pour Ville de Yutz
REFRESH-INTERVAL;VALUE=DURATION:PT1H
X-Robots-Tag:noindex
X-PUBLISHED-TTL:PT1H
BEGIN:VTIMEZONE
TZID:Europe/Paris
BEGIN:DAYLIGHT
TZOFFSETFROM:+0100
TZOFFSETTO:+0200
TZNAME:CEST
DTSTART:20230326T010000
END:DAYLIGHT
BEGIN:STANDARD
TZOFFSETFROM:+0200
TZOFFSETTO:+0100
TZNAME:CET
DTSTART:20231029T010000
END:STANDARD
BEGIN:DAYLIGHT
TZOFFSETFROM:+0100
TZOFFSETTO:+0200
TZNAME:CEST
DTSTART:20240331T010000
END:DAYLIGHT
BEGIN:STANDARD
TZOFFSETFROM:+0200
TZOFFSETTO:+0100
TZNAME:CET
DTSTART:20241027T010000
END:STANDARD
BEGIN:DAYLIGHT
TZOFFSETFROM:+0100
TZOFFSETTO:+0200
TZNAME:CEST
DTSTART:20250330T010000
END:DAYLIGHT
BEGIN:STANDARD
TZOFFSETFROM:+0200
TZOFFSETTO:+0100
TZNAME:CET
DTSTART:20251026T010000
END:STANDARD
END:VTIMEZONE
BEGIN:VEVENT
DTSTART;TZID=Europe/Paris:20241128T120000
DTEND;TZID=Europe/Paris:20241128T170000
DTSTAMP:20260421T193843
CREATED:20241125T110214Z
LAST-MODIFIED:20241125T110214Z
UID:34003-1732795200-1732813200@www.ville-yutz.fr
SUMMARY:TELETHON 2024 : Marche organisée par l'AFPA et la Mission Locale du Nord-Mosellan
DESCRIPTION:La Mission Locale et l’AFPA organisent une activité commune qui consiste à marcher ou courir une boucle d’1 km sur le site de Yutz\, route d’Illange. \nPour « encourager » les participants\, des stands de crêpes\, boissons chaudes et pâtisseries se trouveront sur le parcours. \nAussi bien pour la participation sportive que pour la dégustation\, le principe de la recette au chapeau s’appliquera (les participants donnent ce qu’ils souhaitent). Un système de tickets pour la restauration sera mis en place. \nToutes les recettes seront reversées au Téléthon. \n 
URL:https://www.ville-yutz.fr/event/telethon-2024-marche-organisee-par-lafpa-et-la-mission-locale-du-nord-mosellan/
LOCATION:route d’illange 57970 YUTZ
CATEGORIES:Solidarité,Sports
ATTACH;FMTTYPE=image/png:https://www.ville-yutz.fr/wp-content/uploads/2024/11/2024-11-28-Marche-TELETHON-AFPA-et-Mission-locale.png
END:VEVENT
END:VCALENDAR