BEGIN:VCALENDAR
VERSION:2.0
PRODID:-//Ville de Yutz - ECPv6.15.16//NONSGML v1.0//EN
CALSCALE:GREGORIAN
METHOD:PUBLISH
X-ORIGINAL-URL:https://www.ville-yutz.fr
X-WR-CALDESC:Évènements pour Ville de Yutz
REFRESH-INTERVAL;VALUE=DURATION:PT1H
X-Robots-Tag:noindex
X-PUBLISHED-TTL:PT1H
BEGIN:VTIMEZONE
TZID:Europe/Paris
BEGIN:DAYLIGHT
TZOFFSETFROM:+0100
TZOFFSETTO:+0200
TZNAME:CEST
DTSTART:20230326T010000
END:DAYLIGHT
BEGIN:STANDARD
TZOFFSETFROM:+0200
TZOFFSETTO:+0100
TZNAME:CET
DTSTART:20231029T010000
END:STANDARD
BEGIN:DAYLIGHT
TZOFFSETFROM:+0100
TZOFFSETTO:+0200
TZNAME:CEST
DTSTART:20240331T010000
END:DAYLIGHT
BEGIN:STANDARD
TZOFFSETFROM:+0200
TZOFFSETTO:+0100
TZNAME:CET
DTSTART:20241027T010000
END:STANDARD
BEGIN:DAYLIGHT
TZOFFSETFROM:+0100
TZOFFSETTO:+0200
TZNAME:CEST
DTSTART:20250330T010000
END:DAYLIGHT
BEGIN:STANDARD
TZOFFSETFROM:+0200
TZOFFSETTO:+0100
TZNAME:CET
DTSTART:20251026T010000
END:STANDARD
END:VTIMEZONE
BEGIN:VEVENT
DTSTART;TZID=Europe/Paris:20241112T140000
DTEND;TZID=Europe/Paris:20241112T170000
DTSTAMP:20260421T205110
CREATED:20241108T165336Z
LAST-MODIFIED:20241108T165336Z
UID:33477-1731420000-1731430800@www.ville-yutz.fr
SUMMARY:Espace Seniors : goûter mensuel
DESCRIPTION:Goûter mensuelle des aînés du foyer de haute yutz\, moment d’échange\, d’activité\, d’animation autour d’un café. \nOuvert à tous les Yussois de 60 ans et plus.
URL:https://www.ville-yutz.fr/event/espace-seniors-gouter-mensuel/
LOCATION:Foyer de Haute-Yutz\, rue de l'Ancienne Mairie\, Yutz\, 57970\, France
CATEGORIES:Seniors,Solidarité
END:VEVENT
END:VCALENDAR