BEGIN:VCALENDAR
VERSION:2.0
PRODID:-//Ville de Yutz - ECPv6.15.16//NONSGML v1.0//EN
CALSCALE:GREGORIAN
METHOD:PUBLISH
X-ORIGINAL-URL:https://www.ville-yutz.fr
X-WR-CALDESC:Évènements pour Ville de Yutz
REFRESH-INTERVAL;VALUE=DURATION:PT1H
X-Robots-Tag:noindex
X-PUBLISHED-TTL:PT1H
BEGIN:VTIMEZONE
TZID:Europe/Paris
BEGIN:DAYLIGHT
TZOFFSETFROM:+0100
TZOFFSETTO:+0200
TZNAME:CEST
DTSTART:20230326T010000
END:DAYLIGHT
BEGIN:STANDARD
TZOFFSETFROM:+0200
TZOFFSETTO:+0100
TZNAME:CET
DTSTART:20231029T010000
END:STANDARD
BEGIN:DAYLIGHT
TZOFFSETFROM:+0100
TZOFFSETTO:+0200
TZNAME:CEST
DTSTART:20240331T010000
END:DAYLIGHT
BEGIN:STANDARD
TZOFFSETFROM:+0200
TZOFFSETTO:+0100
TZNAME:CET
DTSTART:20241027T010000
END:STANDARD
BEGIN:DAYLIGHT
TZOFFSETFROM:+0100
TZOFFSETTO:+0200
TZNAME:CEST
DTSTART:20250330T010000
END:DAYLIGHT
BEGIN:STANDARD
TZOFFSETFROM:+0200
TZOFFSETTO:+0100
TZNAME:CET
DTSTART:20251026T010000
END:STANDARD
END:VTIMEZONE
BEGIN:VEVENT
DTSTART;VALUE=DATE:20240720
DTEND;VALUE=DATE:20240819
DTSTAMP:20260422T010303
CREATED:20240712T153151Z
LAST-MODIFIED:20240730T152453Z
UID:30967-1721433600-1724025599@www.ville-yutz.fr
SUMMARY:YUTZ PLAGE
DESCRIPTION:  \n 
URL:https://www.ville-yutz.fr/event/yutz-plage-6/
LOCATION:Berges de la Moselle Yutz
CATEGORIES:Culture,Jeunesse,Seniors,Solidarité,Sports,Yutz Plage
ATTACH;FMTTYPE=image/jpeg:https://www.ville-yutz.fr/wp-content/uploads/2024/07/affiche-yutz-plage-2024-a3-final-12-7-24.jpg
END:VEVENT
BEGIN:VEVENT
DTSTART;VALUE=DATE:20240817
DTEND;VALUE=DATE:20240819
DTSTAMP:20260422T010303
CREATED:20240809T094354Z
LAST-MODIFIED:20240809T094354Z
UID:31535-1723852800-1724025599@www.ville-yutz.fr
SUMMARY:Yutz Plage : Week-end de clôture
DESCRIPTION:
URL:https://www.ville-yutz.fr/event/yutz-plage-week-end-de-cloture-2/
LOCATION:Berges de la Moselle Yutz
CATEGORIES:Culture,Jeunesse,Seniors,Solidarité,Sports,Yutz Plage
ATTACH;FMTTYPE=image/jpeg:https://www.ville-yutz.fr/wp-content/uploads/2024/08/WEEK-END-CLOTURE-YUTZ-PLAGE-2024-scaled.jpg
END:VEVENT
END:VCALENDAR