BEGIN:VCALENDAR
VERSION:2.0
PRODID:-//Ville de Yutz - ECPv6.15.16//NONSGML v1.0//EN
CALSCALE:GREGORIAN
METHOD:PUBLISH
X-WR-CALNAME:Ville de Yutz
X-ORIGINAL-URL:https://www.ville-yutz.fr
X-WR-CALDESC:Évènements pour Ville de Yutz
REFRESH-INTERVAL;VALUE=DURATION:PT1H
X-Robots-Tag:noindex
X-PUBLISHED-TTL:PT1H
BEGIN:VTIMEZONE
TZID:Europe/Paris
BEGIN:DAYLIGHT
TZOFFSETFROM:+0100
TZOFFSETTO:+0200
TZNAME:CEST
DTSTART:20220327T010000
END:DAYLIGHT
BEGIN:STANDARD
TZOFFSETFROM:+0200
TZOFFSETTO:+0100
TZNAME:CET
DTSTART:20221030T010000
END:STANDARD
BEGIN:DAYLIGHT
TZOFFSETFROM:+0100
TZOFFSETTO:+0200
TZNAME:CEST
DTSTART:20230326T010000
END:DAYLIGHT
BEGIN:STANDARD
TZOFFSETFROM:+0200
TZOFFSETTO:+0100
TZNAME:CET
DTSTART:20231029T010000
END:STANDARD
BEGIN:DAYLIGHT
TZOFFSETFROM:+0100
TZOFFSETTO:+0200
TZNAME:CEST
DTSTART:20240331T010000
END:DAYLIGHT
BEGIN:STANDARD
TZOFFSETFROM:+0200
TZOFFSETTO:+0100
TZNAME:CET
DTSTART:20241027T010000
END:STANDARD
END:VTIMEZONE
BEGIN:VEVENT
DTSTART;TZID=Europe/Paris:20231125T203000
DTEND;TZID=Europe/Paris:20231125T203000
DTSTAMP:20260422T132019
CREATED:20231013T082924Z
LAST-MODIFIED:20231124T135145Z
UID:22618-1700944200-1700944200@www.ville-yutz.fr
SUMMARY:Téléthon : Concert Gospel - Rayons de Joie
DESCRIPTION:
URL:https://www.ville-yutz.fr/event/telethon-concert-gospel-rayons-de-joie/
LOCATION:Eglise Saint-Nicolas\, Yutz\, 57970
CATEGORIES:Culture,Solidarité
ATTACH;FMTTYPE=image/png:https://www.ville-yutz.fr/wp-content/uploads/2023/10/2023-11-25-Flyer-Gospel.png
END:VEVENT
END:VCALENDAR