BEGIN:VCALENDAR
VERSION:2.0
PRODID:-//Ville de Yutz - ECPv6.15.16//NONSGML v1.0//EN
CALSCALE:GREGORIAN
METHOD:PUBLISH
X-ORIGINAL-URL:https://www.ville-yutz.fr
X-WR-CALDESC:Évènements pour Ville de Yutz
REFRESH-INTERVAL;VALUE=DURATION:PT1H
X-Robots-Tag:noindex
X-PUBLISHED-TTL:PT1H
BEGIN:VTIMEZONE
TZID:Europe/Paris
BEGIN:DAYLIGHT
TZOFFSETFROM:+0100
TZOFFSETTO:+0200
TZNAME:CEST
DTSTART:20220327T010000
END:DAYLIGHT
BEGIN:STANDARD
TZOFFSETFROM:+0200
TZOFFSETTO:+0100
TZNAME:CET
DTSTART:20221030T010000
END:STANDARD
BEGIN:DAYLIGHT
TZOFFSETFROM:+0100
TZOFFSETTO:+0200
TZNAME:CEST
DTSTART:20230326T010000
END:DAYLIGHT
BEGIN:STANDARD
TZOFFSETFROM:+0200
TZOFFSETTO:+0100
TZNAME:CET
DTSTART:20231029T010000
END:STANDARD
BEGIN:DAYLIGHT
TZOFFSETFROM:+0100
TZOFFSETTO:+0200
TZNAME:CEST
DTSTART:20240331T010000
END:DAYLIGHT
BEGIN:STANDARD
TZOFFSETFROM:+0200
TZOFFSETTO:+0100
TZNAME:CET
DTSTART:20241027T010000
END:STANDARD
END:VTIMEZONE
BEGIN:VEVENT
DTSTART;TZID=Europe/Paris:20231111T140000
DTEND;TZID=Europe/Paris:20231111T170000
DTSTAMP:20260422T132313
CREATED:20231013T081033Z
LAST-MODIFIED:20231013T081033Z
UID:22610-1699711200-1699722000@www.ville-yutz.fr
SUMMARY:Téléthon : Tournoi de pétanque
DESCRIPTION:
URL:https://www.ville-yutz.fr/event/telethon-tournoi-de-petanque/
LOCATION:Gymnase Jean Mermoz\, Place de l'Arc-en-ciel\, Yutz\, 57970\, France
CATEGORIES:Solidarité,Sports
END:VEVENT
BEGIN:VEVENT
DTSTART;TZID=Europe/Paris:20231111T140000
DTEND;TZID=Europe/Paris:20231111T183000
DTSTAMP:20260422T132313
CREATED:20231013T082327Z
LAST-MODIFIED:20231013T082327Z
UID:22613-1699711200-1699727400@www.ville-yutz.fr
SUMMARY:Animations Téléthon
DESCRIPTION:Vélo Train SYMEC\, tournoi de foot adapté\, stands de restauration
URL:https://www.ville-yutz.fr/event/animations-telethon/
LOCATION:Gymnase Jean Mermoz\, Place de l'Arc-en-ciel\, Yutz\, 57970\, France
CATEGORIES:Solidarité
END:VEVENT
BEGIN:VEVENT
DTSTART;TZID=Europe/Paris:20231111T203000
DTEND;TZID=Europe/Paris:20231111T203000
DTSTAMP:20260422T132313
CREATED:20231013T082735Z
LAST-MODIFIED:20231013T082735Z
UID:22615-1699734600-1699734600@www.ville-yutz.fr
SUMMARY:Téléthon : Concert Pop Symphonique par Locksley Mus'
DESCRIPTION:
URL:https://www.ville-yutz.fr/event/telethon-concert-pop-symphonique-par-locksley-mus/
LOCATION:L’amphY\, 126 rue de la République\, YUTZ\, 57970\, France
CATEGORIES:Culture,Solidarité
ATTACH;FMTTYPE=image/jpeg:https://www.ville-yutz.fr/wp-content/uploads/2023/10/2023-11-11-Telethon-2023-Yutz-concert-pop-symphonique-scaled.jpg
END:VEVENT
END:VCALENDAR