BEGIN:VCALENDAR
VERSION:2.0
PRODID:-//Ville de Yutz - ECPv6.15.16//NONSGML v1.0//EN
CALSCALE:GREGORIAN
METHOD:PUBLISH
X-WR-CALNAME:Ville de Yutz
X-ORIGINAL-URL:https://www.ville-yutz.fr
X-WR-CALDESC:Évènements pour Ville de Yutz
REFRESH-INTERVAL;VALUE=DURATION:PT1H
X-Robots-Tag:noindex
X-PUBLISHED-TTL:PT1H
BEGIN:VTIMEZONE
TZID:Europe/Paris
BEGIN:DAYLIGHT
TZOFFSETFROM:+0100
TZOFFSETTO:+0200
TZNAME:CEST
DTSTART:20220327T010000
END:DAYLIGHT
BEGIN:STANDARD
TZOFFSETFROM:+0200
TZOFFSETTO:+0100
TZNAME:CET
DTSTART:20221030T010000
END:STANDARD
BEGIN:DAYLIGHT
TZOFFSETFROM:+0100
TZOFFSETTO:+0200
TZNAME:CEST
DTSTART:20230326T010000
END:DAYLIGHT
BEGIN:STANDARD
TZOFFSETFROM:+0200
TZOFFSETTO:+0100
TZNAME:CET
DTSTART:20231029T010000
END:STANDARD
BEGIN:DAYLIGHT
TZOFFSETFROM:+0100
TZOFFSETTO:+0200
TZNAME:CEST
DTSTART:20240331T010000
END:DAYLIGHT
BEGIN:STANDARD
TZOFFSETFROM:+0200
TZOFFSETTO:+0100
TZNAME:CET
DTSTART:20241027T010000
END:STANDARD
END:VTIMEZONE
BEGIN:VEVENT
DTSTART;TZID=Europe/Paris:20231025T180000
DTEND;TZID=Europe/Paris:20231025T180000
DTSTAMP:20260422T144941
CREATED:20231020T141042Z
LAST-MODIFIED:20231023T150559Z
UID:22940-1698256800-1698256800@www.ville-yutz.fr
SUMMARY:Réunion publique : présentation de l'Accorderie
DESCRIPTION:Une Accorderie vise à lutter contre la pauvreté et l’exclusion en renforçant les solidarités entre des personnes d’âges\, de classes sociales\, de nationalités et de sexes différents. \nElle propose un système non marchand d’échanges de services entre particuliers sur le principe : « une heure de service rendu = une heure de service reçu ».
URL:https://www.ville-yutz.fr/event/presentation-de-laccorderie/
LOCATION:Salle Bestien
CATEGORIES:Solidarité
ATTACH;FMTTYPE=image/jpeg:https://www.ville-yutz.fr/wp-content/uploads/2023/10/LAccorderie-flyer-reunion-publique-scaled.jpg
END:VEVENT
END:VCALENDAR