BEGIN:VCALENDAR
VERSION:2.0
PRODID:-//Ville de Yutz - ECPv6.15.16//NONSGML v1.0//EN
CALSCALE:GREGORIAN
METHOD:PUBLISH
X-ORIGINAL-URL:https://www.ville-yutz.fr
X-WR-CALDESC:Évènements pour Ville de Yutz
REFRESH-INTERVAL;VALUE=DURATION:PT1H
X-Robots-Tag:noindex
X-PUBLISHED-TTL:PT1H
BEGIN:VTIMEZONE
TZID:Europe/Paris
BEGIN:DAYLIGHT
TZOFFSETFROM:+0100
TZOFFSETTO:+0200
TZNAME:CEST
DTSTART:20220327T010000
END:DAYLIGHT
BEGIN:STANDARD
TZOFFSETFROM:+0200
TZOFFSETTO:+0100
TZNAME:CET
DTSTART:20221030T010000
END:STANDARD
BEGIN:DAYLIGHT
TZOFFSETFROM:+0100
TZOFFSETTO:+0200
TZNAME:CEST
DTSTART:20230326T010000
END:DAYLIGHT
BEGIN:STANDARD
TZOFFSETFROM:+0200
TZOFFSETTO:+0100
TZNAME:CET
DTSTART:20231029T010000
END:STANDARD
BEGIN:DAYLIGHT
TZOFFSETFROM:+0100
TZOFFSETTO:+0200
TZNAME:CEST
DTSTART:20240331T010000
END:DAYLIGHT
BEGIN:STANDARD
TZOFFSETFROM:+0200
TZOFFSETTO:+0100
TZNAME:CET
DTSTART:20241027T010000
END:STANDARD
END:VTIMEZONE
BEGIN:VEVENT
DTSTART;TZID=Europe/Paris:20230820T113000
DTEND;TZID=Europe/Paris:20230820T120000
DTSTAMP:20260422T174433
CREATED:20230818T125512Z
LAST-MODIFIED:20230818T161446Z
UID:21419-1692531000-1692532800@www.ville-yutz.fr
SUMMARY:Yutz Plage : Pique-nique citoyen
DESCRIPTION:La Ville vous invite dimanche 20 août à partager un moment de convivialité et de rencontre autour d’un « pique-nique citoyen ».\n\nLe principe est simple : chacun apporte de quoi se restaurer et profite d’un repas en plein air et de toutes les animations de la journée organisées dans le cadre de Yutz Plage et la Ville vous offre une boisson pour votre apéritif.\nPensez à ramener votre écoverre !\n\nChaises\, tables\, transats seront à disposition\, pour profiter de cet instant\, en musique\, avec le concert de MARILOU & P.\n\nUne belle manière de clore les 4 semaines de Yutz Plage.
URL:https://www.ville-yutz.fr/event/yutz-plage-pique-nique-citoyen/
LOCATION:Berges de la Moselle\, YUTZ\, 57970
CATEGORIES:Culture,Solidarité
ATTACH;FMTTYPE=image/jpeg:https://www.ville-yutz.fr/wp-content/uploads/2023/08/pique-nique-scaled.jpg
END:VEVENT
END:VCALENDAR