BEGIN:VCALENDAR
VERSION:2.0
PRODID:-//Ville de Yutz - ECPv6.15.16//NONSGML v1.0//EN
CALSCALE:GREGORIAN
METHOD:PUBLISH
X-ORIGINAL-URL:https://www.ville-yutz.fr
X-WR-CALDESC:Évènements pour Ville de Yutz
REFRESH-INTERVAL;VALUE=DURATION:PT1H
X-Robots-Tag:noindex
X-PUBLISHED-TTL:PT1H
BEGIN:VTIMEZONE
TZID:Europe/Paris
BEGIN:DAYLIGHT
TZOFFSETFROM:+0100
TZOFFSETTO:+0200
TZNAME:CEST
DTSTART:20220327T010000
END:DAYLIGHT
BEGIN:STANDARD
TZOFFSETFROM:+0200
TZOFFSETTO:+0100
TZNAME:CET
DTSTART:20221030T010000
END:STANDARD
BEGIN:DAYLIGHT
TZOFFSETFROM:+0100
TZOFFSETTO:+0200
TZNAME:CEST
DTSTART:20230326T010000
END:DAYLIGHT
BEGIN:STANDARD
TZOFFSETFROM:+0200
TZOFFSETTO:+0100
TZNAME:CET
DTSTART:20231029T010000
END:STANDARD
BEGIN:DAYLIGHT
TZOFFSETFROM:+0100
TZOFFSETTO:+0200
TZNAME:CEST
DTSTART:20240331T010000
END:DAYLIGHT
BEGIN:STANDARD
TZOFFSETFROM:+0200
TZOFFSETTO:+0100
TZNAME:CET
DTSTART:20241027T010000
END:STANDARD
END:VTIMEZONE
BEGIN:VEVENT
DTSTART;VALUE=DATE:20230502
DTEND;VALUE=DATE:20230601
DTSTAMP:20260422T215005
CREATED:20230328T145923Z
LAST-MODIFIED:20230328T153408Z
UID:17820-1682985600-1685577599@www.ville-yutz.fr
SUMMARY:Ateliers partagés parents-enfants
DESCRIPTION: 
URL:https://www.ville-yutz.fr/event/ateliers-partages-parents-enfants-2/
LOCATION:Centre social Ô Couleurs du Monde\, 39 Rue du Vieux Bourg\, YUTZ\, 57970
CATEGORIES:Culture,Jeunesse,Solidarité
ATTACH;FMTTYPE=image/jpeg:https://www.ville-yutz.fr/wp-content/uploads/2023/03/casc-une-avril-mai-juin-scaled.jpg
END:VEVENT
BEGIN:VEVENT
DTSTART;TZID=Europe/Paris:20230518T080000
DTEND;TZID=Europe/Paris:20230518T130000
DTSTAMP:20260422T215005
CREATED:20230418T144934Z
LAST-MODIFIED:20230425T101201Z
UID:18231-1684396800-1684414800@www.ville-yutz.fr
SUMMARY:Marche des Trois Clériaux
DESCRIPTION:
URL:https://www.ville-yutz.fr/event/marche-des-trois-cleriaux/
LOCATION:Yutz – Sentier des 3 Clériaux
CATEGORIES:Solidarité
ATTACH;FMTTYPE=image/jpeg:https://www.ville-yutz.fr/wp-content/uploads/2023/04/2023-05-18-3-cleriaux-scaled.jpg
END:VEVENT
END:VCALENDAR