BEGIN:VCALENDAR
VERSION:2.0
PRODID:-//Ville de Yutz - ECPv6.15.16//NONSGML v1.0//EN
CALSCALE:GREGORIAN
METHOD:PUBLISH
X-ORIGINAL-URL:https://www.ville-yutz.fr
X-WR-CALDESC:Évènements pour Ville de Yutz
REFRESH-INTERVAL;VALUE=DURATION:PT1H
X-Robots-Tag:noindex
X-PUBLISHED-TTL:PT1H
BEGIN:VTIMEZONE
TZID:Europe/Paris
BEGIN:DAYLIGHT
TZOFFSETFROM:+0100
TZOFFSETTO:+0200
TZNAME:CEST
DTSTART:20220327T010000
END:DAYLIGHT
BEGIN:STANDARD
TZOFFSETFROM:+0200
TZOFFSETTO:+0100
TZNAME:CET
DTSTART:20221030T010000
END:STANDARD
BEGIN:DAYLIGHT
TZOFFSETFROM:+0100
TZOFFSETTO:+0200
TZNAME:CEST
DTSTART:20230326T010000
END:DAYLIGHT
BEGIN:STANDARD
TZOFFSETFROM:+0200
TZOFFSETTO:+0100
TZNAME:CET
DTSTART:20231029T010000
END:STANDARD
BEGIN:DAYLIGHT
TZOFFSETFROM:+0100
TZOFFSETTO:+0200
TZNAME:CEST
DTSTART:20240331T010000
END:DAYLIGHT
BEGIN:STANDARD
TZOFFSETFROM:+0200
TZOFFSETTO:+0100
TZNAME:CET
DTSTART:20241027T010000
END:STANDARD
END:VTIMEZONE
BEGIN:VEVENT
DTSTART;TZID=Europe/Paris:20230305T120000
DTEND;TZID=Europe/Paris:20230305T170000
DTSTAMP:20260423T002825
CREATED:20230216T142809Z
LAST-MODIFIED:20230216T142809Z
UID:16666-1678017600-1678035600@www.ville-yutz.fr
SUMMARY:Repas solidaire
DESCRIPTION:MENU \n\nApéritif : Punch au gingembre et jus de tamarin\nAccras \, sauce africaine\n\nMafé de bœuf africain au riz\nSalade de fruits\nThé ou café\n\nVente de gâteaux \nTARIF \n\nAdulte : 22 €\nEnfant < 12 ans : 10 €\n\n\nRéservations auprès de Claudine TOUVERON  \nPar téléphone : 06 85 04 31 82 \nPar mail : claudine.touveron@orange.fr
URL:https://www.ville-yutz.fr/event/repas-solidaire-2/
LOCATION:Complexe Saint-Exupéry – Salle Petit Prince\, 34 avenue de Gaulle\, YUTZ\, 57970\, France
CATEGORIES:Solidarité
ATTACH;FMTTYPE=image/jpeg:https://www.ville-yutz.fr/wp-content/uploads/2023/02/2023-03-05-fadama-repas-africain-scaled.jpg
ORGANIZER;CN="FADAMA":MAILTO:fadama@free.fr
END:VEVENT
END:VCALENDAR