BEGIN:VCALENDAR
VERSION:2.0
PRODID:-//Ville de Yutz - ECPv6.15.16//NONSGML v1.0//EN
CALSCALE:GREGORIAN
METHOD:PUBLISH
X-WR-CALNAME:Ville de Yutz
X-ORIGINAL-URL:https://www.ville-yutz.fr
X-WR-CALDESC:Évènements pour Ville de Yutz
REFRESH-INTERVAL;VALUE=DURATION:PT1H
X-Robots-Tag:noindex
X-PUBLISHED-TTL:PT1H
BEGIN:VTIMEZONE
TZID:Europe/Paris
BEGIN:DAYLIGHT
TZOFFSETFROM:+0100
TZOFFSETTO:+0200
TZNAME:CEST
DTSTART:20250330T010000
END:DAYLIGHT
BEGIN:STANDARD
TZOFFSETFROM:+0200
TZOFFSETTO:+0100
TZNAME:CET
DTSTART:20251026T010000
END:STANDARD
BEGIN:DAYLIGHT
TZOFFSETFROM:+0100
TZOFFSETTO:+0200
TZNAME:CEST
DTSTART:20260329T010000
END:DAYLIGHT
BEGIN:STANDARD
TZOFFSETFROM:+0200
TZOFFSETTO:+0100
TZNAME:CET
DTSTART:20261025T010000
END:STANDARD
BEGIN:DAYLIGHT
TZOFFSETFROM:+0100
TZOFFSETTO:+0200
TZNAME:CEST
DTSTART:20270328T010000
END:DAYLIGHT
BEGIN:STANDARD
TZOFFSETFROM:+0200
TZOFFSETTO:+0100
TZNAME:CET
DTSTART:20271031T010000
END:STANDARD
END:VTIMEZONE
BEGIN:VEVENT
DTSTART;TZID=Europe/Paris:20260204T153000
DTEND;TZID=Europe/Paris:20260204T193000
DTSTAMP:20260420T184115
CREATED:20251208T083716Z
LAST-MODIFIED:20260113T125516Z
UID:45738-1770219000-1770233400@www.ville-yutz.fr
SUMMARY:Don du sang
DESCRIPTION:
URL:https://www.ville-yutz.fr/event/don-du-sang-19/
LOCATION:L’amphY\, 126 rue de la République\, YUTZ\, 57970\, France
CATEGORIES:Solidarité
ATTACH;FMTTYPE=image/jpeg:https://www.ville-yutz.fr/wp-content/uploads/2025/12/EFS_Post_perso.jpg
END:VEVENT
BEGIN:VEVENT
DTSTART;TZID=Europe/Paris:20260207T140000
DTEND;TZID=Europe/Paris:20260207T180000
DTSTAMP:20260420T184115
CREATED:20260203T163918Z
LAST-MODIFIED:20260203T163918Z
UID:46904-1770472800-1770487200@www.ville-yutz.fr
SUMMARY:Vide dressing de la MJC
DESCRIPTION:
URL:https://www.ville-yutz.fr/event/vide-dressing-de-la-mjc/
LOCATION:M.J.C. la Pépinière Yutz\, 30 Rue de la Pépinière\, Yutz\, 57970\, France
CATEGORIES:Culture,Solidarité
ATTACH;FMTTYPE=image/jpeg:https://www.ville-yutz.fr/wp-content/uploads/2022/01/M.J.C.-La-Pepiniere-scaled.jpg
ORGANIZER;CN="M.J.C. La P%C3%A9pini%C3%A8re":MAILTO:accueil@mjc-yutz.com
END:VEVENT
BEGIN:VEVENT
DTSTART;TZID=Europe/Paris:20260211T140000
DTEND;TZID=Europe/Paris:20260211T163000
DTSTAMP:20260420T184115
CREATED:20260203T164941Z
LAST-MODIFIED:20260203T164941Z
UID:46912-1770818400-1770827400@www.ville-yutz.fr
SUMMARY:Atelier de l'Accorderie : Origami et crochet
DESCRIPTION:
URL:https://www.ville-yutz.fr/event/atelier-de-laccorderie-origami-et-crochet/
LOCATION:L’Escale\, 1 rue de Bretagne\, YUTZ\, 57970
CATEGORIES:Culture,Solidarité
ATTACH;FMTTYPE=image/jpeg:https://www.ville-yutz.fr/wp-content/uploads/2026/02/ACCORDERIE-programme.jpg
ORGANIZER;CN="Accorderie Vall%C3%A9e de la fensch - Antenne de Yutz":MAILTO:fensch@accorderie.fr
END:VEVENT
BEGIN:VEVENT
DTSTART;TZID=Europe/Paris:20260217T140000
DTEND;TZID=Europe/Paris:20260217T163000
DTSTAMP:20260420T184115
CREATED:20260203T165215Z
LAST-MODIFIED:20260203T165215Z
UID:46917-1771336800-1771345800@www.ville-yutz.fr
SUMMARY:Atelier de l'Accorderie : Remue-Méninges
DESCRIPTION:
URL:https://www.ville-yutz.fr/event/atelier-de-laccorderie-remue-meninges/
LOCATION:Foyer de Haute-Yutz\, rue de l'Ancienne Mairie\, Yutz\, 57970\, France
CATEGORIES:Culture,Solidarité
ORGANIZER;CN="Accorderie Vall%C3%A9e de la fensch - Antenne de Yutz":MAILTO:fensch@accorderie.fr
END:VEVENT
BEGIN:VEVENT
DTSTART;TZID=Europe/Paris:20260225T140000
DTEND;TZID=Europe/Paris:20260225T163000
DTSTAMP:20260420T184115
CREATED:20260203T165110Z
LAST-MODIFIED:20260203T165110Z
UID:46915-1772028000-1772037000@www.ville-yutz.fr
SUMMARY:Atelier de l'Accorderie : Gym adaptée
DESCRIPTION:
URL:https://www.ville-yutz.fr/event/atelier-de-laccorderie-gym-adaptee/
LOCATION:L’Escale\, 1 rue de Bretagne\, Yutz\, 57970
CATEGORIES:Culture,Solidarité
ATTACH;FMTTYPE=image/jpeg:https://www.ville-yutz.fr/wp-content/uploads/2026/02/ACCORDERIE-programme.jpg
ORGANIZER;CN="Accorderie Vall%C3%A9e de la fensch - Antenne de Yutz":MAILTO:fensch@accorderie.fr
END:VEVENT
END:VCALENDAR