BEGIN:VCALENDAR
VERSION:2.0
PRODID:-//Ville de Yutz - ECPv6.15.16//NONSGML v1.0//EN
CALSCALE:GREGORIAN
METHOD:PUBLISH
X-ORIGINAL-URL:https://www.ville-yutz.fr
X-WR-CALDESC:Évènements pour Ville de Yutz
REFRESH-INTERVAL;VALUE=DURATION:PT1H
X-Robots-Tag:noindex
X-PUBLISHED-TTL:PT1H
BEGIN:VTIMEZONE
TZID:Europe/Paris
BEGIN:DAYLIGHT
TZOFFSETFROM:+0100
TZOFFSETTO:+0200
TZNAME:CEST
DTSTART:20240331T010000
END:DAYLIGHT
BEGIN:STANDARD
TZOFFSETFROM:+0200
TZOFFSETTO:+0100
TZNAME:CET
DTSTART:20241027T010000
END:STANDARD
BEGIN:DAYLIGHT
TZOFFSETFROM:+0100
TZOFFSETTO:+0200
TZNAME:CEST
DTSTART:20250330T010000
END:DAYLIGHT
BEGIN:STANDARD
TZOFFSETFROM:+0200
TZOFFSETTO:+0100
TZNAME:CET
DTSTART:20251026T010000
END:STANDARD
BEGIN:DAYLIGHT
TZOFFSETFROM:+0100
TZOFFSETTO:+0200
TZNAME:CEST
DTSTART:20260329T010000
END:DAYLIGHT
BEGIN:STANDARD
TZOFFSETFROM:+0200
TZOFFSETTO:+0100
TZNAME:CET
DTSTART:20261025T010000
END:STANDARD
END:VTIMEZONE
BEGIN:VEVENT
DTSTART;TZID=Europe/Paris:20251008T100000
DTEND;TZID=Europe/Paris:20251008T160000
DTSTAMP:20260421T004912
CREATED:20251003T155744Z
LAST-MODIFIED:20251007T152847Z
UID:44487-1759917600-1759939200@www.ville-yutz.fr
SUMMARY:Yutz Village "Accès aux Droits et à la Santé"
DESCRIPTION:
URL:https://www.ville-yutz.fr/event/village-acces-aux-droits-et-a-la-sante/
LOCATION:Esplanade de la Brasserie\, Yutz\, 57970
CATEGORIES:Solidarité
ATTACH;FMTTYPE=image/jpeg:https://www.ville-yutz.fr/wp-content/uploads/2025/10/2025-10-08-village-sante-esplanade.jpg
END:VEVENT
BEGIN:VEVENT
DTSTART;VALUE=DATE:20251010
DTEND;VALUE=DATE:20251012
DTSTAMP:20260421T004912
CREATED:20251003T161756Z
LAST-MODIFIED:20251003T161756Z
UID:44490-1760054400-1760227199@www.ville-yutz.fr
SUMMARY:Opération Brioches de l'Amitié
DESCRIPTION:Supermarché Match : 10 et 11 octobre de 8h30 à 17h\n\nSupermarché CarrefourMarket : 10 et 11 octobre de 9h à 17h \nMarché hebdomadaire : le 10 octobre de 9h à 12h \nPorte-à-porte : le 11 octobre de 8h à 17h (avec les bénévoles des associations de Yutz) \n  \nL’Opération Brioches de l’Amitié est basée sur le principe d’un don\, dont le montant est libre. \n\nUne brioche est remise en échange d’un don minimum conseillé de 5 euros.\n\n\n\nLes fonds collectés permettront de participer au financement de la reconstruction de l’ESAT de Brack de Saint-Avold et du projet de rénovation de la MAS Les Marronniers de Guénange.
URL:https://www.ville-yutz.fr/event/operation-brioches-de-lamitie-2/
CATEGORIES:Solidarité
ATTACH;FMTTYPE=image/jpeg:https://www.ville-yutz.fr/wp-content/uploads/2025/10/brioches-de-lamitie.jpg
END:VEVENT
BEGIN:VEVENT
DTSTART;TZID=Europe/Paris:20251019T160000
DTEND;TZID=Europe/Paris:20251019T160000
DTSTAMP:20260421T004912
CREATED:20251016T150654Z
LAST-MODIFIED:20251016T150654Z
UID:44855-1760889600-1760889600@www.ville-yutz.fr
SUMMARY:ASVB : Match NM3 / Chaumont
DESCRIPTION:Match solidaire au profit de l’association « Les Dames de Coeur »
URL:https://www.ville-yutz.fr/event/asvb-match-nm3-chaumont-2/
LOCATION:Gymnase Mermoz\, Place de l'Arc-en-Ciel\, YUTZ\, 57970
CATEGORIES:Solidarité,Sports
ATTACH;FMTTYPE=image/jpeg:https://www.ville-yutz.fr/wp-content/uploads/2025/10/2025-10-19-ASVB-octobre-rose.jpg
END:VEVENT
BEGIN:VEVENT
DTSTART;TZID=Europe/Paris:20251023T140000
DTEND;TZID=Europe/Paris:20251023T140000
DTSTAMP:20260421T004912
CREATED:20251016T142738Z
LAST-MODIFIED:20251016T142738Z
UID:44851-1761228000-1761228000@www.ville-yutz.fr
SUMMARY:Réunion publique de présentation de la MUTUELLE FAMILIALE
DESCRIPTION:Le 28 août 2025\, la Ville a signé une convention avec la Mutuelle Familiale afin de proposer un nouveau service de mutuelle communale aux habitants.\n\n\nL’objectif est de réduire les inégalités d’accès aux soins en apportant un service de proximité de qualité à ses citoyens.\n\n\nPour en savoir plus\, ne manquez pas cette réunion
URL:https://www.ville-yutz.fr/event/reunion-publique-de-presentation-de-la-mutuelle-familiale/
LOCATION:Gymnase Mermoz – Salle de réunion\, Place de l'Arc-en-ciel\, Yutz\, 57970\, France
CATEGORIES:Général,Solidarité
ATTACH;FMTTYPE=image/jpeg:https://www.ville-yutz.fr/wp-content/uploads/2025/10/2025-10-23-La_Mutuelle_Familiale-yutz-reunion-publique-scaled.jpg
END:VEVENT
BEGIN:VEVENT
DTSTART;TZID=Europe/Paris:20251029T130000
DTEND;TZID=Europe/Paris:20251029T180000
DTSTAMP:20260421T004912
CREATED:20250926T150835Z
LAST-MODIFIED:20250926T152126Z
UID:44267-1761742800-1761760800@www.ville-yutz.fr
SUMMARY:Journée portes ouvertes des Mamies tricoteuses
DESCRIPTION:Venez découvrir les magnifiques ouvrages soigneusement réalisés par les dames de l’association et repartez avec de belles réalisations pour soi ou pour offrir !
URL:https://www.ville-yutz.fr/event/journee-portes-ouvertes-des-mamies-tricoteuses/
LOCATION:Résidence Les Bleuets\, 7 Rue Mgr Schmitt\, Yutz\, 57970
CATEGORIES:Culture,Solidarité
ATTACH;FMTTYPE=image/jpeg:https://www.ville-yutz.fr/wp-content/uploads/2025/09/2025-10-29-mamies-tricoteuses-bleuets-scaled.jpg
END:VEVENT
END:VCALENDAR