BEGIN:VCALENDAR
VERSION:2.0
PRODID:-//Ville de Yutz - ECPv6.15.16//NONSGML v1.0//EN
CALSCALE:GREGORIAN
METHOD:PUBLISH
X-WR-CALNAME:Ville de Yutz
X-ORIGINAL-URL:https://www.ville-yutz.fr
X-WR-CALDESC:Évènements pour Ville de Yutz
REFRESH-INTERVAL;VALUE=DURATION:PT1H
X-Robots-Tag:noindex
X-PUBLISHED-TTL:PT1H
BEGIN:VTIMEZONE
TZID:Europe/Paris
BEGIN:DAYLIGHT
TZOFFSETFROM:+0100
TZOFFSETTO:+0200
TZNAME:CEST
DTSTART:20240331T010000
END:DAYLIGHT
BEGIN:STANDARD
TZOFFSETFROM:+0200
TZOFFSETTO:+0100
TZNAME:CET
DTSTART:20241027T010000
END:STANDARD
BEGIN:DAYLIGHT
TZOFFSETFROM:+0100
TZOFFSETTO:+0200
TZNAME:CEST
DTSTART:20250330T010000
END:DAYLIGHT
BEGIN:STANDARD
TZOFFSETFROM:+0200
TZOFFSETTO:+0100
TZNAME:CET
DTSTART:20251026T010000
END:STANDARD
BEGIN:DAYLIGHT
TZOFFSETFROM:+0100
TZOFFSETTO:+0200
TZNAME:CEST
DTSTART:20260329T010000
END:DAYLIGHT
BEGIN:STANDARD
TZOFFSETFROM:+0200
TZOFFSETTO:+0100
TZNAME:CET
DTSTART:20261025T010000
END:STANDARD
END:VTIMEZONE
BEGIN:VEVENT
DTSTART;TZID=Europe/Paris:20250815T140000
DTEND;TZID=Europe/Paris:20250815T220000
DTSTAMP:20260421T034047
CREATED:20250814T163033Z
LAST-MODIFIED:20250814T163033Z
UID:31141-1755266400-1755295200@www.ville-yutz.fr
SUMMARY:Blue Run Décathlon
DESCRIPTION:6e édition du trail relais de Décathlon\, engagé au profit de  l’association Help4Mada
URL:https://www.ville-yutz.fr/event/blue-run-decathlon/
LOCATION:Décathlon Village\, Zac Meilbourg\, Route d'Illange\, Yutz\, 57970
CATEGORIES:Solidarité,Sports
ATTACH;FMTTYPE=image/jpeg:https://www.ville-yutz.fr/wp-content/uploads/2024/07/inscription-blue-run-474x324-1.jpg
END:VEVENT
BEGIN:VEVENT
DTSTART;TZID=Europe/Paris:20250820T153000
DTEND;TZID=Europe/Paris:20250820T193000
DTSTAMP:20260421T034047
CREATED:20250730T093207Z
LAST-MODIFIED:20250730T093207Z
UID:42804-1755703800-1755718200@www.ville-yutz.fr
SUMMARY:Don du sang
DESCRIPTION:
URL:https://www.ville-yutz.fr/event/don-du-sang-16/
LOCATION:L’amphY\, 126 rue de la République\, YUTZ\, 57970\, France
CATEGORIES:Solidarité
ATTACH;FMTTYPE=image/jpeg:https://www.ville-yutz.fr/wp-content/uploads/2025/07/2025-08-20-don-du-sang.jpg
END:VEVENT
END:VCALENDAR