BEGIN:VCALENDAR
VERSION:2.0
PRODID:-//Ville de Yutz - ECPv6.15.16//NONSGML v1.0//EN
CALSCALE:GREGORIAN
METHOD:PUBLISH
X-ORIGINAL-URL:https://www.ville-yutz.fr
X-WR-CALDESC:Évènements pour Ville de Yutz
REFRESH-INTERVAL;VALUE=DURATION:PT1H
X-Robots-Tag:noindex
X-PUBLISHED-TTL:PT1H
BEGIN:VTIMEZONE
TZID:Europe/Paris
BEGIN:DAYLIGHT
TZOFFSETFROM:+0100
TZOFFSETTO:+0200
TZNAME:CEST
DTSTART:20240331T010000
END:DAYLIGHT
BEGIN:STANDARD
TZOFFSETFROM:+0200
TZOFFSETTO:+0100
TZNAME:CET
DTSTART:20241027T010000
END:STANDARD
BEGIN:DAYLIGHT
TZOFFSETFROM:+0100
TZOFFSETTO:+0200
TZNAME:CEST
DTSTART:20250330T010000
END:DAYLIGHT
BEGIN:STANDARD
TZOFFSETFROM:+0200
TZOFFSETTO:+0100
TZNAME:CET
DTSTART:20251026T010000
END:STANDARD
BEGIN:DAYLIGHT
TZOFFSETFROM:+0100
TZOFFSETTO:+0200
TZNAME:CEST
DTSTART:20260329T010000
END:DAYLIGHT
BEGIN:STANDARD
TZOFFSETFROM:+0200
TZOFFSETTO:+0100
TZNAME:CET
DTSTART:20261025T010000
END:STANDARD
END:VTIMEZONE
BEGIN:VEVENT
DTSTART;TZID=Europe/Paris:20250603T140000
DTEND;TZID=Europe/Paris:20250603T163000
DTSTAMP:20260421T075847
CREATED:20250513T152723Z
LAST-MODIFIED:20250513T152723Z
UID:40280-1748959200-1748968200@www.ville-yutz.fr
SUMMARY:Permanence de l’Accorderie Val de Fensch
DESCRIPTION:
URL:https://www.ville-yutz.fr/event/permanence-de-laccorderie-val-de-fensch-9/
LOCATION:Ancienne Mairie\, Rue de l'Ancienne Mairie\, Yutz\, 57970
CATEGORIES:Solidarité
ORGANIZER;CN="Accorderie Vall%C3%A9e de la fensch - Antenne de Yutz":MAILTO:fensch@accorderie.fr
END:VEVENT
BEGIN:VEVENT
DTSTART;TZID=Europe/Paris:20250604T100000
DTEND;TZID=Europe/Paris:20250604T160000
DTSTAMP:20260421T075847
CREATED:20250602T132133Z
LAST-MODIFIED:20250602T132133Z
UID:40768-1749031200-1749052800@www.ville-yutz.fr
SUMMARY:Village accès aux droits & à la santé
DESCRIPTION:
URL:https://www.ville-yutz.fr/event/village-acces-aux-droits-a-la-sante/
LOCATION:Cour de l’école élémentaire Pasteur
CATEGORIES:Solidarité
ATTACH;FMTTYPE=image/jpeg:https://www.ville-yutz.fr/wp-content/uploads/2025/06/2025-06-04-village-sante.jpg
END:VEVENT
BEGIN:VEVENT
DTSTART;TZID=Europe/Paris:20250608T100000
DTEND;TZID=Europe/Paris:20250608T220000
DTSTAMP:20260421T075847
CREATED:20250513T153756Z
LAST-MODIFIED:20250513T153756Z
UID:40294-1749376800-1749420000@www.ville-yutz.fr
SUMMARY:BADRA : Kids'party
DESCRIPTION:
URL:https://www.ville-yutz.fr/event/badra-kidsparty/
LOCATION:Quartier Terrasses des Provinces
CATEGORIES:Culture,Jeunesse,Solidarité
END:VEVENT
BEGIN:VEVENT
DTSTART;TZID=Europe/Paris:20250608T103000
DTEND;TZID=Europe/Paris:20250608T120000
DTSTAMP:20260421T075847
CREATED:20250604T101353Z
LAST-MODIFIED:20250604T101353Z
UID:40917-1749378600-1749384000@www.ville-yutz.fr
SUMMARY:Cours de pilate au profit de l'Association Poussières d'Etoiles
DESCRIPTION:
URL:https://www.ville-yutz.fr/event/cours-de-pilate-au-profit-de-lassociation-poussieres-detoiles/
LOCATION:Aéroparc
CATEGORIES:Solidarité,Sports
ORGANIZER;CN="Poussi%C3%A8res d'%C3%A9toiles":MAILTO:associationpoussieresdetoiles@gmail.com
END:VEVENT
BEGIN:VEVENT
DTSTART;TZID=Europe/Paris:20250614T090000
DTEND;TZID=Europe/Paris:20250614T170000
DTSTAMP:20260421T075847
CREATED:20250613T160920Z
LAST-MODIFIED:20250613T160920Z
UID:41071-1749891600-1749920400@www.ville-yutz.fr
SUMMARY:80e Anniversaire du "Secours Populaire"
DESCRIPTION:
URL:https://www.ville-yutz.fr/event/80e-anniversaire-du-secours-populaire/
LOCATION:Maison de l’Arc-en-Ciel\, Place de l'Arc-en-Ciel\, YUTZ
CATEGORIES:Solidarité
END:VEVENT
BEGIN:VEVENT
DTSTART;TZID=Europe/Paris:20250614T150000
DTEND;TZID=Europe/Paris:20250615T000000
DTSTAMP:20260421T075847
CREATED:20250612T065225Z
LAST-MODIFIED:20250612T065335Z
UID:41017-1749913200-1749945600@www.ville-yutz.fr
SUMMARY:LES VIEILLES TIGES : Journée des étoiles
DESCRIPTION:Journée caritative au profit de l’association Poussières d’étoiles \n17h30 : Match de gala  – Vieilles Tiges vs Generation 2000/2020 FC Yutz \nNombreuses animations à partir de 15h00 \n\nDémonstration des J.S.P.\nLine Dance avec Rémi Vingert (M.J.C.)\nBuvette et petite restauration\nAssiette barbecue le soir à 10 € – réservation sur place
URL:https://www.ville-yutz.fr/event/les-vieilles-tiges-journee-des-etoiles/
LOCATION:Stade Mermoz
CATEGORIES:Solidarité,Sports
ATTACH;FMTTYPE=image/jpeg:https://www.ville-yutz.fr/wp-content/uploads/2025/06/2025-06-14-journee-des-etoiles-Vieilles-Tiges-scaled.jpg
END:VEVENT
BEGIN:VEVENT
DTSTART;TZID=Europe/Paris:20250625T153000
DTEND;TZID=Europe/Paris:20250625T193000
DTSTAMP:20260421T075847
CREATED:20250611T083602Z
LAST-MODIFIED:20250611T085214Z
UID:41000-1750865400-1750879800@www.ville-yutz.fr
SUMMARY:Don du sang
DESCRIPTION:Vous avez la possibilité de programmer votre don dès maintenant sur : https://efs.link/rn9fU \nPour donner votre sang\, vous devez :\n• Être âgé(e) de 18 à 70 ans\n• Peser au moins 50 kg\n• Être reconnu(e) apte au don lors de l’entretien préalable au don\n• Être muni(e) d’une pièce d’identité avec photo\n• Manger avant et bien vous hydrater tout au long du parcours. \nLes étapes du don de sang :\n• Accueil et inscription\n• Questionnaire et entretien préalable au don\n• Le don (10 min)\n• Pause A+ (20 min – collation)\nDe l’accueil à la pause A+\, prévoyez entre 45 min et 1h. Prenez 1h pour sauver 3 vies !
URL:https://www.ville-yutz.fr/event/collecte-de-sang-9/
LOCATION:L’amphY\, 126 rue de la République\, YUTZ\, 57970\, France
CATEGORIES:Solidarité
ATTACH;FMTTYPE=image/jpeg:https://www.ville-yutz.fr/wp-content/uploads/2025/06/2025-06-25-don-du-sang-Yut.jpg
END:VEVENT
END:VCALENDAR