BEGIN:VCALENDAR
VERSION:2.0
PRODID:-//Ville de Yutz - ECPv6.15.16//NONSGML v1.0//EN
CALSCALE:GREGORIAN
METHOD:PUBLISH
X-ORIGINAL-URL:https://www.ville-yutz.fr
X-WR-CALDESC:Évènements pour Ville de Yutz
REFRESH-INTERVAL;VALUE=DURATION:PT1H
X-Robots-Tag:noindex
X-PUBLISHED-TTL:PT1H
BEGIN:VTIMEZONE
TZID:Europe/Paris
BEGIN:DAYLIGHT
TZOFFSETFROM:+0100
TZOFFSETTO:+0200
TZNAME:CEST
DTSTART:20240331T010000
END:DAYLIGHT
BEGIN:STANDARD
TZOFFSETFROM:+0200
TZOFFSETTO:+0100
TZNAME:CET
DTSTART:20241027T010000
END:STANDARD
BEGIN:DAYLIGHT
TZOFFSETFROM:+0100
TZOFFSETTO:+0200
TZNAME:CEST
DTSTART:20250330T010000
END:DAYLIGHT
BEGIN:STANDARD
TZOFFSETFROM:+0200
TZOFFSETTO:+0100
TZNAME:CET
DTSTART:20251026T010000
END:STANDARD
BEGIN:DAYLIGHT
TZOFFSETFROM:+0100
TZOFFSETTO:+0200
TZNAME:CEST
DTSTART:20260329T010000
END:DAYLIGHT
BEGIN:STANDARD
TZOFFSETFROM:+0200
TZOFFSETTO:+0100
TZNAME:CET
DTSTART:20261025T010000
END:STANDARD
END:VTIMEZONE
BEGIN:VEVENT
DTSTART;TZID=Europe/Paris:20250507T120000
DTEND;TZID=Europe/Paris:20250507T120000
DTSTAMP:20260421T092208
CREATED:20250409T101247Z
LAST-MODIFIED:20250409T101420Z
UID:38686-1746619200-1746619200@www.ville-yutz.fr
SUMMARY:Repas solidaire
DESCRIPTION:La Ville de Yutz\, en partenariat avec le Lycée d’Ottange\, organise un Repas Solidaire au Val Joyeux.Cette initiative vise à offrir un moment de convivialité et de partage aux personnes en situation de précarité\, en leur proposant un repas digne d’un restaurant.\n\nInscription pour les personnes bénéficiaires des associations caritatives et solidaires : Mairie de Yutz – Direction de la Solidarité – 93 rue du Président Roosevelt à Yutz
URL:https://www.ville-yutz.fr/event/repas-solidaire-3/
LOCATION:Val Joyeux
CATEGORIES:Solidarité
ATTACH;FMTTYPE=image/png:https://www.ville-yutz.fr/wp-content/uploads/2025/04/2025-05-07-Repas-solidaire-7-mai-2025.png
END:VEVENT
BEGIN:VEVENT
DTSTART;TZID=Europe/Paris:20250517T140000
DTEND;TZID=Europe/Paris:20250517T170000
DTSTAMP:20260421T092208
CREATED:20250513T130809Z
LAST-MODIFIED:20250513T130809Z
UID:40209-1747490400-1747501200@www.ville-yutz.fr
SUMMARY:Allée du Rêve : Ateliers créatifs fêtes des Mères et Pères
DESCRIPTION:
URL:https://www.ville-yutz.fr/event/allee-du-reve-ateliers-creatifs-fetes-des-meres-et-peres/
LOCATION:Complexe Saint-Exupéry – Salle Petit Prince\, 34 avenue de Gaulle\, YUTZ\, 57970\, France
CATEGORIES:Jeunesse,Solidarité
ORGANIZER;CN="All%C3%A9e du R%C3%AAve":MAILTO:alleedureve@gmail.com
END:VEVENT
BEGIN:VEVENT
DTSTART;TZID=Europe/Paris:20250520T140000
DTEND;TZID=Europe/Paris:20250520T163000
DTSTAMP:20260421T092208
CREATED:20250513T133456Z
LAST-MODIFIED:20250513T133456Z
UID:40226-1747749600-1747758600@www.ville-yutz.fr
SUMMARY:Permanence de l’Accorderie Val de Fensch
DESCRIPTION:
URL:https://www.ville-yutz.fr/event/permanence-de-laccorderie-val-de-fensch-8/
LOCATION:Ancienne Mairie\, Rue de l'Ancienne Mairie\, Yutz\, 57970
CATEGORIES:Solidarité
ORGANIZER;CN="Accorderie Vall%C3%A9e de la fensch - Antenne de Yutz":MAILTO:fensch@accorderie.fr
END:VEVENT
END:VCALENDAR