BEGIN:VCALENDAR
VERSION:2.0
PRODID:-//Ville de Yutz - ECPv6.15.16//NONSGML v1.0//EN
CALSCALE:GREGORIAN
METHOD:PUBLISH
X-ORIGINAL-URL:https://www.ville-yutz.fr
X-WR-CALDESC:Évènements pour Ville de Yutz
REFRESH-INTERVAL;VALUE=DURATION:PT1H
X-Robots-Tag:noindex
X-PUBLISHED-TTL:PT1H
BEGIN:VTIMEZONE
TZID:Europe/Paris
BEGIN:DAYLIGHT
TZOFFSETFROM:+0100
TZOFFSETTO:+0200
TZNAME:CEST
DTSTART:20240331T010000
END:DAYLIGHT
BEGIN:STANDARD
TZOFFSETFROM:+0200
TZOFFSETTO:+0100
TZNAME:CET
DTSTART:20241027T010000
END:STANDARD
BEGIN:DAYLIGHT
TZOFFSETFROM:+0100
TZOFFSETTO:+0200
TZNAME:CEST
DTSTART:20250330T010000
END:DAYLIGHT
BEGIN:STANDARD
TZOFFSETFROM:+0200
TZOFFSETTO:+0100
TZNAME:CET
DTSTART:20251026T010000
END:STANDARD
BEGIN:DAYLIGHT
TZOFFSETFROM:+0100
TZOFFSETTO:+0200
TZNAME:CEST
DTSTART:20260329T010000
END:DAYLIGHT
BEGIN:STANDARD
TZOFFSETFROM:+0200
TZOFFSETTO:+0100
TZNAME:CET
DTSTART:20261025T010000
END:STANDARD
END:VTIMEZONE
BEGIN:VEVENT
DTSTART;TZID=Europe/Paris:20250406T140000
DTEND;TZID=Europe/Paris:20250406T180000
DTSTAMP:20260421T131620
CREATED:20250328T111053Z
LAST-MODIFIED:20250328T111053Z
UID:38173-1743948000-1743962400@www.ville-yutz.fr
SUMMARY:Portes ouvertes d'Energie Shiatsu
DESCRIPTION:
URL:https://www.ville-yutz.fr/event/portes-ouvertes-denergie-shiatsu/
LOCATION:Dojo Schuman\, impasse Selver\, Yutz\, 57970
CATEGORIES:Culture,Solidarité,Sports
ATTACH;FMTTYPE=image/jpeg:https://www.ville-yutz.fr/wp-content/uploads/2025/03/2025-04-06-shiatsu-portes-ouvertes-print-scaled.jpg
ORGANIZER;CN="Energie Shiatsu":MAILTO:energieshiatsu@hotmail.fr
END:VEVENT
BEGIN:VEVENT
DTSTART;TZID=Europe/Paris:20250409T153000
DTEND;TZID=Europe/Paris:20250409T193000
DTSTAMP:20260421T131620
CREATED:20250318T093905Z
LAST-MODIFIED:20250318T093905Z
UID:37598-1744212600-1744227000@www.ville-yutz.fr
SUMMARY:Collecte de sang
DESCRIPTION:
URL:https://www.ville-yutz.fr/event/collecte-de-sang-8/
LOCATION:L’amphY\, 126 rue de la République\, YUTZ\, 57970\, France
CATEGORIES:Solidarité
ATTACH;FMTTYPE=image/jpeg:https://www.ville-yutz.fr/wp-content/uploads/2025/03/Visuel-personnalise-Yutz-09-04-2025.jpg
END:VEVENT
BEGIN:VEVENT
DTSTART;TZID=Europe/Paris:20250415T140000
DTEND;TZID=Europe/Paris:20250415T163000
DTSTAMP:20260421T131620
CREATED:20250409T095532Z
LAST-MODIFIED:20250409T095532Z
UID:38677-1744725600-1744734600@www.ville-yutz.fr
SUMMARY:Permanence de l’Accorderie Val de Fensch
DESCRIPTION:
URL:https://www.ville-yutz.fr/event/permanence-de-laccorderie-val-de-fensch-7/
LOCATION:Foyer de Haute-Yutz\, rue de l'Ancienne Mairie\, Yutz\, 57970\, France
CATEGORIES:Solidarité
ORGANIZER;CN="Accorderie Vall%C3%A9e de la fensch - Antenne de Yutz":MAILTO:fensch@accorderie.fr
END:VEVENT
BEGIN:VEVENT
DTSTART;VALUE=DATE:20250425
DTEND;VALUE=DATE:20250428
DTSTAMP:20260421T131620
CREATED:20250423T095942Z
LAST-MODIFIED:20250423T095942Z
UID:39099-1745539200-1745798399@www.ville-yutz.fr
SUMMARY:Opération "une rose\, un espoir"
DESCRIPTION:Ils seront en porte-à-porte le samedi 26 et le dimanche 27 avril pour vous proposer une rose contre un don. Un petit geste qui fait une grande différence !\n\n\n\nDes points fixes seront aussi installés :\n\n\n\n Vendredi 25 avril dès 14h\n• Décathlon\, route d’Illange ;\n• IUT Yutz-Thionville – Imp. Alfred Kastler.\n\n\n Samedi 26 avril\n• Décathlon\, route d’Illange ;\n• Carrefour Market\, 173 avenue des Nations ;\n• Boulangerie Boulot\, 59 avenue des Nations ;\n• Boulangerie Le Petit Four\, 33 esplanade de la Brasserie.\n\n\n Dimanche 27 avril\n• Boulangerie Boulot\, 59 avenue des Nations ;\n• Boulangerie Paul\, 32 avenue des Nations.
URL:https://www.ville-yutz.fr/event/operation-une-rose-un-espoir/
LOCATION:YUTZ
CATEGORIES:Solidarité
ATTACH;FMTTYPE=image/jpeg:https://www.ville-yutz.fr/wp-content/uploads/2025/04/Reunion-une-rose-un-espoir-13-mars-2025-6.jpg
ORGANIZER;CN="Une Rose%2C Un Espoir":MAILTO:uneroseunespoir.algrange@gmail.com
END:VEVENT
END:VCALENDAR