BEGIN:VCALENDAR
VERSION:2.0
PRODID:-//Ville de Yutz - ECPv6.15.16//NONSGML v1.0//EN
CALSCALE:GREGORIAN
METHOD:PUBLISH
X-ORIGINAL-URL:https://www.ville-yutz.fr
X-WR-CALDESC:Évènements pour Ville de Yutz
REFRESH-INTERVAL;VALUE=DURATION:PT1H
X-Robots-Tag:noindex
X-PUBLISHED-TTL:PT1H
BEGIN:VTIMEZONE
TZID:Europe/Paris
BEGIN:DAYLIGHT
TZOFFSETFROM:+0100
TZOFFSETTO:+0200
TZNAME:CEST
DTSTART:20240331T010000
END:DAYLIGHT
BEGIN:STANDARD
TZOFFSETFROM:+0200
TZOFFSETTO:+0100
TZNAME:CET
DTSTART:20241027T010000
END:STANDARD
BEGIN:DAYLIGHT
TZOFFSETFROM:+0100
TZOFFSETTO:+0200
TZNAME:CEST
DTSTART:20250330T010000
END:DAYLIGHT
BEGIN:STANDARD
TZOFFSETFROM:+0200
TZOFFSETTO:+0100
TZNAME:CET
DTSTART:20251026T010000
END:STANDARD
BEGIN:DAYLIGHT
TZOFFSETFROM:+0100
TZOFFSETTO:+0200
TZNAME:CEST
DTSTART:20260329T010000
END:DAYLIGHT
BEGIN:STANDARD
TZOFFSETFROM:+0200
TZOFFSETTO:+0100
TZNAME:CET
DTSTART:20261025T010000
END:STANDARD
END:VTIMEZONE
BEGIN:VEVENT
DTSTART;TZID=Europe/Paris:20250121T140000
DTEND;TZID=Europe/Paris:20250121T163000
DTSTAMP:20260421T165847
CREATED:20250109T161858Z
LAST-MODIFIED:20250109T161858Z
UID:35476-1737468000-1737477000@www.ville-yutz.fr
SUMMARY:Permanence de l’Accorderie Vallée de la Fensch – Antenne de Yutz
DESCRIPTION:
URL:https://www.ville-yutz.fr/event/permanence-de-laccorderie-vallee-de-la-fensch-antenne-de-yutz-3/
LOCATION:Ancienne Mairie\, Rue de l'Ancienne Mairie\, Yutz\, 57970
CATEGORIES:Solidarité
ORGANIZER;CN="Accorderie Vall%C3%A9e de la fensch - Antenne de Yutz":MAILTO:fensch@accorderie.fr
END:VEVENT
BEGIN:VEVENT
DTSTART;TZID=Europe/Paris:20250122T140000
DTEND;TZID=Europe/Paris:20250122T160000
DTSTAMP:20260421T165847
CREATED:20241107T151449Z
LAST-MODIFIED:20241107T171108Z
UID:33416-1737554400-1737561600@www.ville-yutz.fr
SUMMARY:Centre social Ô couleurs du monde - Animation "Tous et toutes égaux"
DESCRIPTION:Animation « Tous et toutes égaux ». Réservée aux enfants inscrits au Centre social. \nLecture de livres et jeux de société pour les 6-12 ans sur l’égalité filles – garçons. \n 
URL:https://www.ville-yutz.fr/event/nous-pour-elles-violences-faites-aux-femmes-ecoutons-parlons-2/
LOCATION:Centre social Ô Couleurs du Monde\, 39 Rue du Vieux Bourg\, YUTZ\, 57970
CATEGORIES:Culture,Jeunesse,Solidarité
ATTACH;FMTTYPE=image/jpeg:https://www.ville-yutz.fr/wp-content/uploads/2024/11/2024-11-22-au-08-mars-2024-NousPourElles.jpg
END:VEVENT
BEGIN:VEVENT
DTSTART;TZID=Europe/Paris:20250123T193000
DTEND;TZID=Europe/Paris:20250123T220000
DTSTAMP:20260421T165847
CREATED:20250109T163418Z
LAST-MODIFIED:20250109T163418Z
UID:35489-1737660600-1737669600@www.ville-yutz.fr
SUMMARY:Repair café
DESCRIPTION:
URL:https://www.ville-yutz.fr/event/repair-cafe/
LOCATION:Salle Bestien
CATEGORIES:Solidarité
ATTACH;FMTTYPE=image/png:https://www.ville-yutz.fr/wp-content/uploads/2025/01/2025-01-23-repair-cafe.png
ORGANIZER;CN="Accorderie Vall%C3%A9e de la fensch - Antenne de Yutz":MAILTO:fensch@accorderie.fr
END:VEVENT
BEGIN:VEVENT
DTSTART;TZID=Europe/Paris:20250124T200000
DTEND;TZID=Europe/Paris:20250124T223000
DTSTAMP:20260421T165847
CREATED:20241107T151924Z
LAST-MODIFIED:20250124T173333Z
UID:33418-1737748800-1737757800@www.ville-yutz.fr
SUMMARY:Pièce de théâtre "Le Pacte des Femmes zébrées"
DESCRIPTION: Événement dans le cadre de la Lutte contre les violences faites aux femmes\nPièce de théâtre « Le Pacte des Femmes zébrées » suivie d’une séance d’échanges avec le public (à partir de 15 ans) \nAutrice : Djami MANDIMORI
URL:https://www.ville-yutz.fr/event/nous-pour-elles-piece-de-theatre-le-pacte-des-femmes-zebrees/
LOCATION:Salle Bestien
CATEGORIES:Culture,Solidarité
ATTACH;FMTTYPE=image/jpeg:https://www.ville-yutz.fr/wp-content/uploads/2024/11/2025-01-24-theatre-le-pacte-des-femmes-zebrees.jpg
END:VEVENT
END:VCALENDAR