BEGIN:VCALENDAR
VERSION:2.0
PRODID:-//Ville de Yutz - ECPv6.15.16//NONSGML v1.0//EN
CALSCALE:GREGORIAN
METHOD:PUBLISH
X-WR-CALNAME:Ville de Yutz
X-ORIGINAL-URL:https://www.ville-yutz.fr
X-WR-CALDESC:Évènements pour Ville de Yutz
REFRESH-INTERVAL;VALUE=DURATION:PT1H
X-Robots-Tag:noindex
X-PUBLISHED-TTL:PT1H
BEGIN:VTIMEZONE
TZID:Europe/Paris
BEGIN:DAYLIGHT
TZOFFSETFROM:+0100
TZOFFSETTO:+0200
TZNAME:CEST
DTSTART:20230326T010000
END:DAYLIGHT
BEGIN:STANDARD
TZOFFSETFROM:+0200
TZOFFSETTO:+0100
TZNAME:CET
DTSTART:20231029T010000
END:STANDARD
BEGIN:DAYLIGHT
TZOFFSETFROM:+0100
TZOFFSETTO:+0200
TZNAME:CEST
DTSTART:20240331T010000
END:DAYLIGHT
BEGIN:STANDARD
TZOFFSETFROM:+0200
TZOFFSETTO:+0100
TZNAME:CET
DTSTART:20241027T010000
END:STANDARD
BEGIN:DAYLIGHT
TZOFFSETFROM:+0100
TZOFFSETTO:+0200
TZNAME:CEST
DTSTART:20250330T010000
END:DAYLIGHT
BEGIN:STANDARD
TZOFFSETFROM:+0200
TZOFFSETTO:+0100
TZNAME:CET
DTSTART:20251026T010000
END:STANDARD
END:VTIMEZONE
BEGIN:VEVENT
DTSTART;TZID=Europe/Paris:20241112T140000
DTEND;TZID=Europe/Paris:20241112T170000
DTSTAMP:20260421T192826
CREATED:20241108T165336Z
LAST-MODIFIED:20241108T165336Z
UID:33477-1731420000-1731430800@www.ville-yutz.fr
SUMMARY:Espace Seniors : goûter mensuel
DESCRIPTION:Goûter mensuelle des aînés du foyer de haute yutz\, moment d’échange\, d’activité\, d’animation autour d’un café. \nOuvert à tous les Yussois de 60 ans et plus.
URL:https://www.ville-yutz.fr/event/espace-seniors-gouter-mensuel/
LOCATION:Foyer de Haute-Yutz\, rue de l'Ancienne Mairie\, Yutz\, 57970\, France
CATEGORIES:Seniors,Solidarité
END:VEVENT
BEGIN:VEVENT
DTSTART;TZID=Europe/Paris:20241116T173000
DTEND;TZID=Europe/Paris:20241116T220000
DTSTAMP:20260421T192826
CREATED:20241115T163225Z
LAST-MODIFIED:20241115T163225Z
UID:33742-1731778200-1731794400@www.ville-yutz.fr
SUMMARY:Yutz Handball : tournoi loisir pour le téléthon
DESCRIPTION:
URL:https://www.ville-yutz.fr/event/yutz-handball-tournoi-loisir-pour-le-telethon/
LOCATION:Gymnase Saint-Exupéry\, 1 rue du Gymnase\, YUTZ\, 57970\, France
CATEGORIES:Solidarité,Sports
ORGANIZER;CN="Yutz Handball":MAILTO:5657005@ffhandball.net
END:VEVENT
BEGIN:VEVENT
DTSTART;TZID=Europe/Paris:20241119T140000
DTEND;TZID=Europe/Paris:20241119T163000
DTSTAMP:20260421T192826
CREATED:20241115T165237Z
LAST-MODIFIED:20241115T165237Z
UID:33754-1732024800-1732033800@www.ville-yutz.fr
SUMMARY:Permanence de l'Accorderie Vallée de la Fensch - Antenne de Yutz
DESCRIPTION:
URL:https://www.ville-yutz.fr/event/permanence-de-laccorderie-vallee-de-la-fensch-antenne-de-yutz/
LOCATION:Ancienne Mairie\, Rue de l'Ancienne Mairie\, Yutz\, 57970
CATEGORIES:Solidarité
ORGANIZER;CN="Accorderie Vall%C3%A9e de la fensch - Antenne de Yutz":MAILTO:fensch@accorderie.fr
END:VEVENT
BEGIN:VEVENT
DTSTART;TZID=Europe/Paris:20241121T133000
DTEND;TZID=Europe/Paris:20241122T180000
DTSTAMP:20260421T192826
CREATED:20241120T113308Z
LAST-MODIFIED:20241120T113308Z
UID:33898-1732195800-1732298400@www.ville-yutz.fr
SUMMARY:Projection-Débat Clap'Seniors
DESCRIPTION:Un rendez-vous dédié à la sensibilisation autour du vieillissement et de la perte d’autonomie.\nDurant ces deux journées\, deux films du scénariste et réalisateur Edouard CARRION seront projetés en libre accès à partir de 14h30. \n\n21 novembre : « Un jour\, tu vieilliras… »\n22 novembre : « La promesse de l’aidant »\n\nÀ la suite des projections\, un débat permettra à chacun de témoigner sur ces questions. \nOrganisée dans une démarche collective\, cette action vise à briser l’isolement des personnes agées\, des personnes handicapées\, mais aussi de leur aidants non-professionnels. \nCet événement\, soutenu par la Conférence des financeurs du Département de la Moselle et Malakoff Humanis\, réunira une quinzaine de partenaires présents pour répondre aux questions du public \n  \n 
URL:https://www.ville-yutz.fr/event/projection-debat-clapseniors/
LOCATION:L’amphY\, 126 rue de la République\, YUTZ\, 57970\, France
CATEGORIES:Seniors,Solidarité
ATTACH;FMTTYPE=image/jpeg:https://www.ville-yutz.fr/wp-content/uploads/2024/11/clap-seniors.jpg
END:VEVENT
BEGIN:VEVENT
DTSTART;TZID=Europe/Paris:20241122T090000
DTEND;TZID=Europe/Paris:20241122T120000
DTSTAMP:20260421T192826
CREATED:20241107T150909Z
LAST-MODIFIED:20241107T150909Z
UID:33412-1732266000-1732276800@www.ville-yutz.fr
SUMMARY:Nous pour elles - Violences faites aux femmes : écoutons\, parlons
DESCRIPTION:Stand d’information et de sensibilisation mis en place par Le Centre Social « Ô couleurs du monde » de Yutz et l’association Athènes \nLieu : Marché de Yutz à partir de 9h00
URL:https://www.ville-yutz.fr/event/nous-pour-elles-violences-faites-aux-femmes-ecoutons-parlons/
LOCATION:Esplanade de la Brasserie\, Yutz\, 57970
CATEGORIES:Culture,Solidarité
ATTACH;FMTTYPE=image/jpeg:https://www.ville-yutz.fr/wp-content/uploads/2024/11/2024-11-22-au-08-mars-2024-NousPourElles.jpg
END:VEVENT
BEGIN:VEVENT
DTSTART;TZID=Europe/Paris:20241122T193000
DTEND;TZID=Europe/Paris:20241122T220000
DTSTAMP:20260421T192826
CREATED:20241120T111121Z
LAST-MODIFIED:20241125T111359Z
UID:34007-1732303800-1732312800@www.ville-yutz.fr
SUMMARY:Soirée Beaujolais
DESCRIPTION:
URL:https://www.ville-yutz.fr/event/soiree-beaujolais/
LOCATION:Complexe Saint-Exupéry – Salle Petit Prince\, 34 avenue de Gaulle\, YUTZ\, 57970\, France
CATEGORIES:Culture,Solidarité
END:VEVENT
BEGIN:VEVENT
DTSTART;TZID=Europe/Paris:20241124T090000
DTEND;TZID=Europe/Paris:20241124T160000
DTSTAMP:20260421T192826
CREATED:20241022T165402Z
LAST-MODIFIED:20241030T113655Z
UID:32943-1732438800-1732464000@www.ville-yutz.fr
SUMMARY:TYGRE : Moustaches Games - Challenge des gentlemen 2024
DESCRIPTION:
URL:https://www.ville-yutz.fr/event/tygre-moustaches-games-challenge-des-gentlemen-2024/
LOCATION:Stade Bernard Vasquez\, Rue de la Moselle\, YUTZ\, 57970\, France
CATEGORIES:Solidarité,Sports
ATTACH;FMTTYPE=image/jpeg:https://www.ville-yutz.fr/wp-content/uploads/2024/10/Affiche-principale-Challenge-Gentlemen-241124.jpg
END:VEVENT
BEGIN:VEVENT
DTSTART;TZID=Europe/Paris:20241125T140000
DTEND;TZID=Europe/Paris:20241125T200000
DTSTAMP:20260421T192826
CREATED:20241107T170920Z
LAST-MODIFIED:20241120T113615Z
UID:33450-1732543200-1732564800@www.ville-yutz.fr
SUMMARY:Forum - Journée internationale de lutte contre les violences faites aux femmes
DESCRIPTION:Le 25 novembre\, la Ville de YUTZ souhaite concrétiser son engagement dans la lutte contre les violences faites aux femmes à travers un forum dédié\, dans une salle BESTIEN entièrement décorée pour l’occasion par l’association 17/91.\nUne approche axée autour des ressources locales à disposition des personnes\, susceptibles de les orienter\, de les informer et de les accompagner en levant les obstacles dans la reprise en main de leur vie.
URL:https://www.ville-yutz.fr/event/journee-de-lutte-contre-les-violences-faites-aux-femmes/
LOCATION:Salle Bestien
CATEGORIES:Solidarité
ATTACH;FMTTYPE=image/jpeg:https://www.ville-yutz.fr/wp-content/uploads/2024/11/2024-11-25-lutte-contre-les-violences-faites-aux-femmes.jpg
END:VEVENT
BEGIN:VEVENT
DTSTART;TZID=Europe/Paris:20241126T133000
DTEND;TZID=Europe/Paris:20241126T133000
DTSTAMP:20260421T192826
CREATED:20241118T103258Z
LAST-MODIFIED:20241126T103756Z
UID:34092-1732627800-1732627800@www.ville-yutz.fr
SUMMARY:Réunion d'information : Comment assurer sa sécurité au quotidien ?
DESCRIPTION:Pour assurer sa sécurité\, une personne âgée doit adopter de bons réflexes.\n\n\n\n La Police Municipale de la ville de Yutz vous propose une réunion d’information et de prévention pour aider au quotidien :\n\n\n\n\n\nVenez découvrir des conseils pratiques pour :\n se protéger des cambriolages\,\n se prémunir des risques au distributeur de billets\,\n naviguer en toute sécurité sur internet\,\n repérer et répondre au démarchage abusif…
URL:https://www.ville-yutz.fr/event/reunion-dinformation-comment-assurer-sa-securite-au-quotidien/
LOCATION:Salle Bestien
CATEGORIES:Seniors,Solidarité
ATTACH;FMTTYPE=image/jpeg:https://www.ville-yutz.fr/wp-content/uploads/2024/11/Reunion-dinformation-et-de-prevention-seniors-scaled.jpg
END:VEVENT
BEGIN:VEVENT
DTSTART;TZID=Europe/Paris:20241128T120000
DTEND;TZID=Europe/Paris:20241128T170000
DTSTAMP:20260421T192826
CREATED:20241125T110214Z
LAST-MODIFIED:20241125T110214Z
UID:34003-1732795200-1732813200@www.ville-yutz.fr
SUMMARY:TELETHON 2024 : Marche organisée par l'AFPA et la Mission Locale du Nord-Mosellan
DESCRIPTION:La Mission Locale et l’AFPA organisent une activité commune qui consiste à marcher ou courir une boucle d’1 km sur le site de Yutz\, route d’Illange. \nPour « encourager » les participants\, des stands de crêpes\, boissons chaudes et pâtisseries se trouveront sur le parcours. \nAussi bien pour la participation sportive que pour la dégustation\, le principe de la recette au chapeau s’appliquera (les participants donnent ce qu’ils souhaitent). Un système de tickets pour la restauration sera mis en place. \nToutes les recettes seront reversées au Téléthon. \n 
URL:https://www.ville-yutz.fr/event/telethon-2024-marche-organisee-par-lafpa-et-la-mission-locale-du-nord-mosellan/
LOCATION:route d’illange 57970 YUTZ
CATEGORIES:Solidarité,Sports
ATTACH;FMTTYPE=image/png:https://www.ville-yutz.fr/wp-content/uploads/2024/11/2024-11-28-Marche-TELETHON-AFPA-et-Mission-locale.png
END:VEVENT
BEGIN:VEVENT
DTSTART;VALUE=DATE:20241129
DTEND;VALUE=DATE:20241201
DTSTAMP:20260421T192826
CREATED:20241125T112056Z
LAST-MODIFIED:20241125T112507Z
UID:34011-1732838400-1733011199@www.ville-yutz.fr
SUMMARY:TELETHON 2024 : Week-end chantant
DESCRIPTION:le 29/11 de 19h00 à minuit \nle 30/11 de 12h00 à minuit \nRestauration devant l’église
URL:https://www.ville-yutz.fr/event/telethon-2024-week-end-chantant/
LOCATION:Eglise Saint-Nicolas\, Yutz\, 57970
CATEGORIES:Solidarité
ATTACH;FMTTYPE=image/jpeg:https://www.ville-yutz.fr/wp-content/uploads/2024/11/2024-11-29-et-30-telethon-HARMONIE.jpg
END:VEVENT
BEGIN:VEVENT
DTSTART;TZID=Europe/Paris:20241129T173000
DTEND;TZID=Europe/Paris:20241129T173000
DTSTAMP:20260421T192826
CREATED:20241125T111607Z
LAST-MODIFIED:20241125T111607Z
UID:34009-1732901400-1732901400@www.ville-yutz.fr
SUMMARY:TELETHON 2024 : Marche éclairée réalisée par l'Ecole Emile Fritsch
DESCRIPTION:Départ devant l’école à 17h30
URL:https://www.ville-yutz.fr/event/telethon-2024-marche-eclairee-realisee-par-lecole-emile-fritsch/
LOCATION:Ecole Emile Fritsch\, Avenue François Dupont\, Yutz\, 57970
CATEGORIES:Solidarité
END:VEVENT
END:VCALENDAR