BEGIN:VCALENDAR
VERSION:2.0
PRODID:-//Ville de Yutz - ECPv6.15.16//NONSGML v1.0//EN
CALSCALE:GREGORIAN
METHOD:PUBLISH
X-WR-CALNAME:Ville de Yutz
X-ORIGINAL-URL:https://www.ville-yutz.fr
X-WR-CALDESC:Évènements pour Ville de Yutz
REFRESH-INTERVAL;VALUE=DURATION:PT1H
X-Robots-Tag:noindex
X-PUBLISHED-TTL:PT1H
BEGIN:VTIMEZONE
TZID:Europe/Paris
BEGIN:DAYLIGHT
TZOFFSETFROM:+0100
TZOFFSETTO:+0200
TZNAME:CEST
DTSTART:20230326T010000
END:DAYLIGHT
BEGIN:STANDARD
TZOFFSETFROM:+0200
TZOFFSETTO:+0100
TZNAME:CET
DTSTART:20231029T010000
END:STANDARD
BEGIN:DAYLIGHT
TZOFFSETFROM:+0100
TZOFFSETTO:+0200
TZNAME:CEST
DTSTART:20240331T010000
END:DAYLIGHT
BEGIN:STANDARD
TZOFFSETFROM:+0200
TZOFFSETTO:+0100
TZNAME:CET
DTSTART:20241027T010000
END:STANDARD
BEGIN:DAYLIGHT
TZOFFSETFROM:+0100
TZOFFSETTO:+0200
TZNAME:CEST
DTSTART:20250330T010000
END:DAYLIGHT
BEGIN:STANDARD
TZOFFSETFROM:+0200
TZOFFSETTO:+0100
TZNAME:CET
DTSTART:20251026T010000
END:STANDARD
END:VTIMEZONE
BEGIN:VEVENT
DTSTART;TZID=Europe/Paris:20241006T090000
DTEND;TZID=Europe/Paris:20241006T160000
DTSTAMP:20260421T204606
CREATED:20240827T160540Z
LAST-MODIFIED:20240930T155059Z
UID:31779-1728205200-1728230400@www.ville-yutz.fr
SUMMARY:La Yussoise
DESCRIPTION:Pour s’inscrire : https://gotiming.fr/evenement/course-sportive-la-yussoise/ \n 
URL:https://www.ville-yutz.fr/event/la-yussoise-3/
LOCATION:Aéroparc
CATEGORIES:Solidarité,Sports
ATTACH;FMTTYPE=image/webp:https://www.ville-yutz.fr/wp-content/uploads/2024/08/2024-10-06-LA-YUSSOISE-INSCRIPTION.webp
ORGANIZER;CN="Poussi%C3%A8res d'%C3%A9toiles":MAILTO:associationpoussieresdetoiles@gmail.com
END:VEVENT
BEGIN:VEVENT
DTSTART;TZID=Europe/Paris:20241012T080000
DTEND;TZID=Europe/Paris:20241012T120000
DTSTAMP:20260421T204606
CREATED:20240827T160821Z
LAST-MODIFIED:20240827T160821Z
UID:31784-1728720000-1728734400@www.ville-yutz.fr
SUMMARY:Foire à la coloquinte
DESCRIPTION:
URL:https://www.ville-yutz.fr/event/foire-a-la-coloquinte-4/
LOCATION:Esplanade de la Brasserie\, Yutz\, 57970
CATEGORIES:Solidarité
ORGANIZER;CN="FADAMA":MAILTO:fadama@free.fr
END:VEVENT
BEGIN:VEVENT
DTSTART;TZID=Europe/Paris:20241015T130000
DTEND;TZID=Europe/Paris:20241015T180000
DTSTAMP:20260421T204606
CREATED:20241001T071251Z
LAST-MODIFIED:20241001T071251Z
UID:32414-1728997200-1729015200@www.ville-yutz.fr
SUMMARY:Exposition et vente des Mamies tricoteuses
DESCRIPTION:
URL:https://www.ville-yutz.fr/event/exposition-et-vente-des-mamies-tricoteuses-2/
LOCATION:Résidence Les Bleuets\, 7 Rue Mgr Schmitt\, Yutz\, 57970
CATEGORIES:Culture,Solidarité
ATTACH;FMTTYPE=image/jpeg:https://www.ville-yutz.fr/wp-content/uploads/2024/10/2024-10-15-les-mamies-tricoteuses.jpg
END:VEVENT
BEGIN:VEVENT
DTSTART;TZID=Europe/Paris:20241016T153000
DTEND;TZID=Europe/Paris:20241016T193000
DTSTAMP:20260421T204606
CREATED:20240925T103228Z
LAST-MODIFIED:20240925T103228Z
UID:32344-1729092600-1729107000@www.ville-yutz.fr
SUMMARY:Don du sang
DESCRIPTION:
URL:https://www.ville-yutz.fr/event/don-du-sang-12/
LOCATION:L’amphY\, 126 rue de la République\, YUTZ\, 57970\, France
CATEGORIES:Solidarité
ATTACH;FMTTYPE=image/jpeg:https://www.ville-yutz.fr/wp-content/uploads/2021/07/Bras-don-covid-19-©-EFS-Frederic-Maigrot.jpg
END:VEVENT
BEGIN:VEVENT
DTSTART;TZID=Europe/Paris:20241018T090000
DTEND;TZID=Europe/Paris:20241018T120000
DTSTAMP:20260421T204606
CREATED:20241017T112013Z
LAST-MODIFIED:20241017T112013Z
UID:32898-1729242000-1729252800@www.ville-yutz.fr
SUMMARY:Opération brioches de l'amitié 2024
DESCRIPTION:
URL:https://www.ville-yutz.fr/event/operation-brioches-de-lamitie-2024/
LOCATION:Esplanade de la Brasserie\, Yutz\, 57970
CATEGORIES:Solidarité
ATTACH;FMTTYPE=image/png:https://www.ville-yutz.fr/wp-content/uploads/2024/10/1920_1080_1_design-sans-titre-6.png
ORGANIZER;CN="Ville de Yutz":MAILTO:email@email.com
END:VEVENT
BEGIN:VEVENT
DTSTART;TZID=Europe/Paris:20241018T090000
DTEND;TZID=Europe/Paris:20241018T170000
DTSTAMP:20260421T204606
CREATED:20241017T112305Z
LAST-MODIFIED:20241017T112305Z
UID:32901-1729242000-1729270800@www.ville-yutz.fr
SUMMARY:Opération brioches de l'amitié 2024
DESCRIPTION:
URL:https://www.ville-yutz.fr/event/operation-brioches-de-lamitie-2024-2/
LOCATION:Supermarchés Match et Carrefourmarket\, Yutz\, 57970\, France
CATEGORIES:Solidarité
ATTACH;FMTTYPE=image/png:https://www.ville-yutz.fr/wp-content/uploads/2024/10/1920_1080_1_design-sans-titre-6.png
END:VEVENT
BEGIN:VEVENT
DTSTART;TZID=Europe/Paris:20241019T090000
DTEND;TZID=Europe/Paris:20241019T170000
DTSTAMP:20260421T204606
CREATED:20241017T112617Z
LAST-MODIFIED:20241017T112617Z
UID:32904-1729328400-1729357200@www.ville-yutz.fr
SUMMARY:Opération brioches de l'amitié 2024
DESCRIPTION:
URL:https://www.ville-yutz.fr/event/operation-brioches-de-lamitie-2024-3/
LOCATION:Supermarchés Match et Carrefourmarket\, Yutz\, 57970\, France
CATEGORIES:Solidarité
ATTACH;FMTTYPE=image/png:https://www.ville-yutz.fr/wp-content/uploads/2024/10/1920_1080_1_design-sans-titre-6.png
ORGANIZER;CN="Ville de Yutz":MAILTO:email@email.com
END:VEVENT
END:VCALENDAR