BEGIN:VCALENDAR
VERSION:2.0
PRODID:-//Ville de Yutz - ECPv6.15.16//NONSGML v1.0//EN
CALSCALE:GREGORIAN
METHOD:PUBLISH
X-ORIGINAL-URL:https://www.ville-yutz.fr
X-WR-CALDESC:Évènements pour Ville de Yutz
REFRESH-INTERVAL;VALUE=DURATION:PT1H
X-Robots-Tag:noindex
X-PUBLISHED-TTL:PT1H
BEGIN:VTIMEZONE
TZID:Europe/Paris
BEGIN:DAYLIGHT
TZOFFSETFROM:+0100
TZOFFSETTO:+0200
TZNAME:CEST
DTSTART:20230326T010000
END:DAYLIGHT
BEGIN:STANDARD
TZOFFSETFROM:+0200
TZOFFSETTO:+0100
TZNAME:CET
DTSTART:20231029T010000
END:STANDARD
BEGIN:DAYLIGHT
TZOFFSETFROM:+0100
TZOFFSETTO:+0200
TZNAME:CEST
DTSTART:20240331T010000
END:DAYLIGHT
BEGIN:STANDARD
TZOFFSETFROM:+0200
TZOFFSETTO:+0100
TZNAME:CET
DTSTART:20241027T010000
END:STANDARD
BEGIN:DAYLIGHT
TZOFFSETFROM:+0100
TZOFFSETTO:+0200
TZNAME:CEST
DTSTART:20250330T010000
END:DAYLIGHT
BEGIN:STANDARD
TZOFFSETFROM:+0200
TZOFFSETTO:+0100
TZNAME:CET
DTSTART:20251026T010000
END:STANDARD
END:VTIMEZONE
BEGIN:VEVENT
DTSTART;VALUE=DATE:20240720
DTEND;VALUE=DATE:20240819
DTSTAMP:20260421T233628
CREATED:20240712T153151Z
LAST-MODIFIED:20240730T152453Z
UID:30967-1721433600-1724025599@www.ville-yutz.fr
SUMMARY:YUTZ PLAGE
DESCRIPTION:  \n 
URL:https://www.ville-yutz.fr/event/yutz-plage-6/
LOCATION:Berges de la Moselle Yutz
CATEGORIES:Culture,Jeunesse,Seniors,Solidarité,Sports,Yutz Plage
ATTACH;FMTTYPE=image/jpeg:https://www.ville-yutz.fr/wp-content/uploads/2024/07/affiche-yutz-plage-2024-a3-final-12-7-24.jpg
END:VEVENT
BEGIN:VEVENT
DTSTART;VALUE=DATE:20240803
DTEND;VALUE=DATE:20240810
DTSTAMP:20260421T233628
CREATED:20240802T154858Z
LAST-MODIFIED:20240802T154858Z
UID:31430-1722643200-1723247999@www.ville-yutz.fr
SUMMARY:Yutz Plage : Semaine 3
DESCRIPTION:
URL:https://www.ville-yutz.fr/event/yutz-plage-semaine-3/
LOCATION:Berges de la Moselle Yutz
CATEGORIES:Culture,Jeunesse,Seniors,Solidarité,Sports,Yutz Plage
ATTACH;FMTTYPE=image/jpeg:https://www.ville-yutz.fr/wp-content/uploads/2024/08/yutz-plage-2024-programme-semaine-3.jpg
END:VEVENT
BEGIN:VEVENT
DTSTART;VALUE=DATE:20240815
DTEND;VALUE=DATE:20240816
DTSTAMP:20260421T233628
CREATED:20240725T102323Z
LAST-MODIFIED:20240725T102816Z
UID:31144-1723680000-1723766399@www.ville-yutz.fr
SUMMARY:5e édition de la BlueRun Décathlon
DESCRIPTION:La BlueRun est une course relais engagée. Cette année les bénéfices seront reversés aux association caritatives « Vis l’instant présent » et « Le Hameau d’Olivier ». \nCourse ou marche\, en solo ou en duo\, sur 5 ou 10 km.
URL:https://www.ville-yutz.fr/event/5e-edition-de-la-bluerun-decathlon/
LOCATION:Décathlon Village\, Zac Meilbourg\, Route d'Illange\, Yutz\, 57970
CATEGORIES:Solidarité,Sports
ATTACH;FMTTYPE=image/jpeg:https://www.ville-yutz.fr/wp-content/uploads/2024/07/2024-08-15-blue-run.jpg
END:VEVENT
BEGIN:VEVENT
DTSTART;TZID=Europe/Paris:20240815T150000
DTEND;TZID=Europe/Paris:20240815T180000
DTSTAMP:20260421T233628
CREATED:20240809T094002Z
LAST-MODIFIED:20240809T094002Z
UID:31531-1723734000-1723744800@www.ville-yutz.fr
SUMMARY:Yutz Plage : Après-midi dansant avec Mathieu Cailotto
DESCRIPTION:
URL:https://www.ville-yutz.fr/event/yutz-plage-apres-midi-dansant-avec-mathieu-cailotto/
LOCATION:Berges de la Moselle\, YUTZ\, 57970
CATEGORIES:Culture,Jeunesse,Seniors,Solidarité,Yutz Plage
ATTACH;FMTTYPE=image/jpeg:https://www.ville-yutz.fr/wp-content/uploads/2024/08/the-dansant-du-15-aout.jpg
END:VEVENT
BEGIN:VEVENT
DTSTART;VALUE=DATE:20240817
DTEND;VALUE=DATE:20240819
DTSTAMP:20260421T233628
CREATED:20240809T094354Z
LAST-MODIFIED:20240809T094354Z
UID:31535-1723852800-1724025599@www.ville-yutz.fr
SUMMARY:Yutz Plage : Week-end de clôture
DESCRIPTION:
URL:https://www.ville-yutz.fr/event/yutz-plage-week-end-de-cloture-2/
LOCATION:Berges de la Moselle Yutz
CATEGORIES:Culture,Jeunesse,Seniors,Solidarité,Sports,Yutz Plage
ATTACH;FMTTYPE=image/jpeg:https://www.ville-yutz.fr/wp-content/uploads/2024/08/WEEK-END-CLOTURE-YUTZ-PLAGE-2024-scaled.jpg
END:VEVENT
BEGIN:VEVENT
DTSTART;TZID=Europe/Paris:20240818T120000
DTEND;TZID=Europe/Paris:20240818T120000
DTSTAMP:20260421T233628
CREATED:20240712T155241Z
LAST-MODIFIED:20240730T152339Z
UID:30975-1723982400-1723982400@www.ville-yutz.fr
SUMMARY:Yutz Plage : Pique-nique citoyen
DESCRIPTION:Apportez de quoi vous restaurer et profitez d’un repas en plein air\, d’animations et d’un apéritif offert par la Ville
URL:https://www.ville-yutz.fr/event/yutz-plage-pique-nique-citoyen-2/
LOCATION:Berges de la Moselle Yutz
CATEGORIES:Culture,Solidarité,Yutz Plage
END:VEVENT
BEGIN:VEVENT
DTSTART;TZID=Europe/Paris:20240830T100000
DTEND;TZID=Europe/Paris:20240830T180000
DTSTAMP:20260421T233628
CREATED:20240823T152434Z
LAST-MODIFIED:20240823T152434Z
UID:31722-1725012000-1725040800@www.ville-yutz.fr
SUMMARY:Donnerie éphémère d'affaires scolaires
DESCRIPTION:
URL:https://www.ville-yutz.fr/event/donnerie-ephemere-daffaires-scolaires/
LOCATION:L’Escale\, 1 rue de Bretagne\, YUTZ\, 57970
CATEGORIES:Solidarité
ATTACH;FMTTYPE=image/png:https://www.ville-yutz.fr/wp-content/uploads/2024/08/2024-08-30-donnerie-Oinoleboso.png
ORGANIZER;CN="OINOLEBOSO":MAILTO:oinoleboso@gmail.com
END:VEVENT
END:VCALENDAR