BEGIN:VCALENDAR
VERSION:2.0
PRODID:-//Ville de Yutz - ECPv6.15.16//NONSGML v1.0//EN
CALSCALE:GREGORIAN
METHOD:PUBLISH
X-WR-CALNAME:Ville de Yutz
X-ORIGINAL-URL:https://www.ville-yutz.fr
X-WR-CALDESC:Évènements pour Ville de Yutz
REFRESH-INTERVAL;VALUE=DURATION:PT1H
X-Robots-Tag:noindex
X-PUBLISHED-TTL:PT1H
BEGIN:VTIMEZONE
TZID:Europe/Paris
BEGIN:DAYLIGHT
TZOFFSETFROM:+0100
TZOFFSETTO:+0200
TZNAME:CEST
DTSTART:20230326T010000
END:DAYLIGHT
BEGIN:STANDARD
TZOFFSETFROM:+0200
TZOFFSETTO:+0100
TZNAME:CET
DTSTART:20231029T010000
END:STANDARD
BEGIN:DAYLIGHT
TZOFFSETFROM:+0100
TZOFFSETTO:+0200
TZNAME:CEST
DTSTART:20240331T010000
END:DAYLIGHT
BEGIN:STANDARD
TZOFFSETFROM:+0200
TZOFFSETTO:+0100
TZNAME:CET
DTSTART:20241027T010000
END:STANDARD
BEGIN:DAYLIGHT
TZOFFSETFROM:+0100
TZOFFSETTO:+0200
TZNAME:CEST
DTSTART:20250330T010000
END:DAYLIGHT
BEGIN:STANDARD
TZOFFSETFROM:+0200
TZOFFSETTO:+0100
TZNAME:CET
DTSTART:20251026T010000
END:STANDARD
END:VTIMEZONE
BEGIN:VEVENT
DTSTART;TZID=Europe/Paris:20240503T143000
DTEND;TZID=Europe/Paris:20240503T170000
DTSTAMP:20260422T032758
CREATED:20240425T111947Z
LAST-MODIFIED:20240425T111947Z
UID:28014-1714746600-1714755600@www.ville-yutz.fr
SUMMARY:Inauguration du local "Familles - Adolescents - Rassemblements"
DESCRIPTION:
URL:https://www.ville-yutz.fr/event/inauguration-du-local-familles-adolescents-rassemblements/
LOCATION:F.A.R\, 1A rue de Provence\, Yutz\, 57970\, France
CATEGORIES:Général,Solidarité
ATTACH;FMTTYPE=image/png:https://www.ville-yutz.fr/wp-content/uploads/2024/04/Capture-decran-2024-04-25-a-13.13.10.png
END:VEVENT
BEGIN:VEVENT
DTSTART;TZID=Europe/Paris:20240507T140000
DTEND;TZID=Europe/Paris:20240507T163000
DTSTAMP:20260422T032758
CREATED:20240503T151815Z
LAST-MODIFIED:20240503T151815Z
UID:28545-1715090400-1715099400@www.ville-yutz.fr
SUMMARY:Permanence de l’Accorderie Val de Fensch
DESCRIPTION:
URL:https://www.ville-yutz.fr/event/permanence-de-laccorderie-val-de-fensch-3/
LOCATION:Ancienne Mairie\, Rue de l'Ancienne Mairie\, Yutz\, 57970
CATEGORIES:Solidarité
ATTACH;FMTTYPE=image/jpeg:https://www.ville-yutz.fr/wp-content/uploads/2024/03/accorderie-permanences.jpg
ORGANIZER;CN="Accorderie Vall%C3%A9e de la fensch - Antenne de Yutz":MAILTO:fensch@accorderie.fr
END:VEVENT
BEGIN:VEVENT
DTSTART;TZID=Europe/Paris:20240521T140000
DTEND;TZID=Europe/Paris:20240521T163000
DTSTAMP:20260422T032758
CREATED:20240503T151955Z
LAST-MODIFIED:20240503T151955Z
UID:28547-1716300000-1716309000@www.ville-yutz.fr
SUMMARY:Permanence de l’Accorderie Val de Fensch
DESCRIPTION:
URL:https://www.ville-yutz.fr/event/permanence-de-laccorderie-val-de-fensch-4/
LOCATION:Ancienne Mairie\, Rue de l'Ancienne Mairie\, Yutz\, 57970
CATEGORIES:Solidarité
ATTACH;FMTTYPE=image/jpeg:https://www.ville-yutz.fr/wp-content/uploads/2024/03/accorderie-permanences.jpg
ORGANIZER;CN="Accorderie Vall%C3%A9e de la fensch - Antenne de Yutz":MAILTO:fensch@accorderie.fr
END:VEVENT
END:VCALENDAR