BEGIN:VCALENDAR
VERSION:2.0
PRODID:-//Ville de Yutz - ECPv6.15.16//NONSGML v1.0//EN
CALSCALE:GREGORIAN
METHOD:PUBLISH
X-WR-CALNAME:Ville de Yutz
X-ORIGINAL-URL:https://www.ville-yutz.fr
X-WR-CALDESC:Évènements pour Ville de Yutz
REFRESH-INTERVAL;VALUE=DURATION:PT1H
X-Robots-Tag:noindex
X-PUBLISHED-TTL:PT1H
BEGIN:VTIMEZONE
TZID:Europe/Paris
BEGIN:DAYLIGHT
TZOFFSETFROM:+0100
TZOFFSETTO:+0200
TZNAME:CEST
DTSTART:20230326T010000
END:DAYLIGHT
BEGIN:STANDARD
TZOFFSETFROM:+0200
TZOFFSETTO:+0100
TZNAME:CET
DTSTART:20231029T010000
END:STANDARD
BEGIN:DAYLIGHT
TZOFFSETFROM:+0100
TZOFFSETTO:+0200
TZNAME:CEST
DTSTART:20240331T010000
END:DAYLIGHT
BEGIN:STANDARD
TZOFFSETFROM:+0200
TZOFFSETTO:+0100
TZNAME:CET
DTSTART:20241027T010000
END:STANDARD
BEGIN:DAYLIGHT
TZOFFSETFROM:+0100
TZOFFSETTO:+0200
TZNAME:CEST
DTSTART:20250330T010000
END:DAYLIGHT
BEGIN:STANDARD
TZOFFSETFROM:+0200
TZOFFSETTO:+0100
TZNAME:CET
DTSTART:20251026T010000
END:STANDARD
END:VTIMEZONE
BEGIN:VEVENT
DTSTART;TZID=Europe/Paris:20240402T140000
DTEND;TZID=Europe/Paris:20240402T163000
DTSTAMP:20260422T044954
CREATED:20240327T111656Z
LAST-MODIFIED:20240327T111656Z
UID:26588-1712066400-1712075400@www.ville-yutz.fr
SUMMARY:Permanence de l'Accorderie Val de Fensch
DESCRIPTION:
URL:https://www.ville-yutz.fr/event/permanence-de-laccorderie-val-de-fensch/
LOCATION:Ancienne Mairie\, Rue de l'Ancienne Mairie\, Yutz\, 57970
CATEGORIES:Solidarité
ATTACH;FMTTYPE=image/jpeg:https://www.ville-yutz.fr/wp-content/uploads/2024/03/accorderie-permanences.jpg
ORGANIZER;CN="Accorderie Vall%C3%A9e de la fensch - Antenne de Yutz":MAILTO:fensch@accorderie.fr
END:VEVENT
BEGIN:VEVENT
DTSTART;VALUE=DATE:20240413
DTEND;VALUE=DATE:20240414
DTSTAMP:20260422T044954
CREATED:20240408T115327Z
LAST-MODIFIED:20240408T115327Z
UID:26905-1712966400-1713052799@www.ville-yutz.fr
SUMMARY:Journée Oinoleboso : Fête - Ateliers
DESCRIPTION:De 10h30 à 12h30 et de 14h à 18h \nAction organisée par des femmes et des enfants du quartier Terrasses des Provinces avec les OINOLEBOSO.
URL:https://www.ville-yutz.fr/event/journee-oinoleboso-fete-ateliers/
LOCATION:L’Escale\, 1 rue de Bretagne\, YUTZ\, 57970
CATEGORIES:Culture,Solidarité
ATTACH;FMTTYPE=image/jpeg:https://www.ville-yutz.fr/wp-content/uploads/2024/04/2024-04-13-fete-atelier-oinoleboso.jpg
ORGANIZER;CN="OINOLEBOSO":MAILTO:oinoleboso@gmail.com
END:VEVENT
BEGIN:VEVENT
DTSTART;TZID=Europe/Paris:20240416T140000
DTEND;TZID=Europe/Paris:20240416T163000
DTSTAMP:20260422T044954
CREATED:20240327T111817Z
LAST-MODIFIED:20240327T111817Z
UID:26592-1713276000-1713285000@www.ville-yutz.fr
SUMMARY:Permanence de l'Accorderie Val de Fensch
DESCRIPTION:
URL:https://www.ville-yutz.fr/event/permanence-de-laccorderie-val-de-fensch-2/
LOCATION:Ancienne Mairie\, Rue de l'Ancienne Mairie\, Yutz\, 57970
CATEGORIES:Solidarité
ATTACH;FMTTYPE=image/jpeg:https://www.ville-yutz.fr/wp-content/uploads/2024/03/accorderie-permanences.jpg
ORGANIZER;CN="Accorderie Vall%C3%A9e de la fensch - Antenne de Yutz":MAILTO:fensch@accorderie.fr
END:VEVENT
BEGIN:VEVENT
DTSTART;TZID=Europe/Paris:20240417T153000
DTEND;TZID=Europe/Paris:20240417T193000
DTSTAMP:20260422T044954
CREATED:20240404T092841Z
LAST-MODIFIED:20240404T092841Z
UID:26797-1713367800-1713382200@www.ville-yutz.fr
SUMMARY:Don du sang
DESCRIPTION:
URL:https://www.ville-yutz.fr/event/don-du-sang-9/
LOCATION:L’amphY\, 126 rue de la République\, YUTZ\, 57970\, France
CATEGORIES:Solidarité
ATTACH;FMTTYPE=image/jpeg:https://www.ville-yutz.fr/wp-content/uploads/2024/04/2024-04-17-don-du-sang.jpg
END:VEVENT
BEGIN:VEVENT
DTSTART;TZID=Europe/Paris:20240427T093000
DTEND;TZID=Europe/Paris:20240428T180000
DTSTAMP:20260422T044954
CREATED:20240419T142243Z
LAST-MODIFIED:20240419T142243Z
UID:27809-1714210200-1714327200@www.ville-yutz.fr
SUMMARY:Une Rose\, un Espoir
DESCRIPTION:Les motards vous proposent une rose en échange minimum d’un don de 2€ au profit de la Ligue contre le cancer. \nCes fonds sont destinés à la recherche\, à l’achat de matériel médical\, à la détection de la maladie et au soutien psychologique des malades et de leur entourage.
URL:https://www.ville-yutz.fr/event/une-rose-un-espoir/
LOCATION:YUTZ
CATEGORIES:Solidarité
ATTACH;FMTTYPE=image/jpeg:https://www.ville-yutz.fr/wp-content/uploads/2024/04/2024-04-27-et-28-une-rose-un-espoir.jpg
END:VEVENT
END:VCALENDAR