BEGIN:VCALENDAR
VERSION:2.0
PRODID:-//Ville de Yutz - ECPv6.15.16//NONSGML v1.0//EN
CALSCALE:GREGORIAN
METHOD:PUBLISH
X-ORIGINAL-URL:https://www.ville-yutz.fr
X-WR-CALDESC:Évènements pour Ville de Yutz
REFRESH-INTERVAL;VALUE=DURATION:PT1H
X-Robots-Tag:noindex
X-PUBLISHED-TTL:PT1H
BEGIN:VTIMEZONE
TZID:Europe/Paris
BEGIN:DAYLIGHT
TZOFFSETFROM:+0100
TZOFFSETTO:+0200
TZNAME:CEST
DTSTART:20230326T010000
END:DAYLIGHT
BEGIN:STANDARD
TZOFFSETFROM:+0200
TZOFFSETTO:+0100
TZNAME:CET
DTSTART:20231029T010000
END:STANDARD
BEGIN:DAYLIGHT
TZOFFSETFROM:+0100
TZOFFSETTO:+0200
TZNAME:CEST
DTSTART:20240331T010000
END:DAYLIGHT
BEGIN:STANDARD
TZOFFSETFROM:+0200
TZOFFSETTO:+0100
TZNAME:CET
DTSTART:20241027T010000
END:STANDARD
BEGIN:DAYLIGHT
TZOFFSETFROM:+0100
TZOFFSETTO:+0200
TZNAME:CEST
DTSTART:20250330T010000
END:DAYLIGHT
BEGIN:STANDARD
TZOFFSETFROM:+0200
TZOFFSETTO:+0100
TZNAME:CET
DTSTART:20251026T010000
END:STANDARD
END:VTIMEZONE
BEGIN:VEVENT
DTSTART;TZID=Europe/Paris:20240203T150000
DTEND;TZID=Europe/Paris:20240203T173000
DTSTAMP:20260422T073209
CREATED:20240118T164334Z
LAST-MODIFIED:20240118T164542Z
UID:25019-1706972400-1706981400@www.ville-yutz.fr
SUMMARY:Thé dansant
DESCRIPTION:Thé dansant sur le thème du carnaval\, organisé par la Direction de la Solidarité avec le soutien des Conseils des Jeunes (C.M.J.) et des Enfants (C.M.E.)\nRéservé aux Yussois de 70 ans et plus.\nInscriptions avant le 27 janvier 2024 auprès de la Direction de la Solidarité\, 93 rue Roosevelt à Yutz – solidarite@mairie-yutz.fr – Tél. : 03.82.82.26.15\n\n  \n 
URL:https://www.ville-yutz.fr/event/the-dansant/
LOCATION:L’amphY\, 126 rue de la République\, YUTZ\, 57970\, France
CATEGORIES:Culture,Seniors,Solidarité
ATTACH;FMTTYPE=image/jpeg:https://www.ville-yutz.fr/wp-content/uploads/2024/01/2024-02-03-the-dansant-2024-scaled.jpg
END:VEVENT
BEGIN:VEVENT
DTSTART;TZID=Europe/Paris:20240206T090000
DTEND;TZID=Europe/Paris:20240206T140000
DTSTAMP:20260422T073209
CREATED:20240126T090821Z
LAST-MODIFIED:20240126T090821Z
UID:25154-1707210000-1707228000@www.ville-yutz.fr
SUMMARY:Salon de l'intérim du luxembourg
DESCRIPTION:
URL:https://www.ville-yutz.fr/event/salon-de-linterim-du-luxembourg-3/
LOCATION:L’amphY\, 126 rue de la République\, YUTZ\, 57970\, France
CATEGORIES:Solidarité
END:VEVENT
BEGIN:VEVENT
DTSTART;TZID=Europe/Paris:20240210T143000
DTEND;TZID=Europe/Paris:20240210T153000
DTSTAMP:20260422T073209
CREATED:20240207T111939Z
LAST-MODIFIED:20240207T111939Z
UID:25441-1707575400-1707579000@www.ville-yutz.fr
SUMMARY:Chandeleur aux Bleuets
DESCRIPTION:
URL:https://www.ville-yutz.fr/event/chandeleur-aux-bleuets/
LOCATION:Résidence Les Bleuets\, 7 Rue Mgr Schmitt\, Yutz\, 57970
CATEGORIES:Seniors,Solidarité
ORGANIZER;CN="All%C3%A9e du R%C3%AAve":MAILTO:alleedureve@gmail.com
END:VEVENT
BEGIN:VEVENT
DTSTART;TZID=Europe/Paris:20240214T153000
DTEND;TZID=Europe/Paris:20240214T193000
DTSTAMP:20260422T073209
CREATED:20240126T092620Z
LAST-MODIFIED:20240126T093515Z
UID:25167-1707924600-1707939000@www.ville-yutz.fr
SUMMARY:Don du sang
DESCRIPTION:
URL:https://www.ville-yutz.fr/event/don-du-sang-8/
LOCATION:L’amphY\, 126 rue de la République\, YUTZ\, 57970\, France
CATEGORIES:Solidarité
ATTACH;FMTTYPE=image/jpeg:https://www.ville-yutz.fr/wp-content/uploads/2021/03/Don-du-sang-24-mars-2021-4-scaled.jpg
END:VEVENT
END:VCALENDAR