BEGIN:VCALENDAR
VERSION:2.0
PRODID:-//Ville de Yutz - ECPv6.15.16//NONSGML v1.0//EN
CALSCALE:GREGORIAN
METHOD:PUBLISH
X-WR-CALNAME:Ville de Yutz
X-ORIGINAL-URL:https://www.ville-yutz.fr
X-WR-CALDESC:Évènements pour Ville de Yutz
REFRESH-INTERVAL;VALUE=DURATION:PT1H
X-Robots-Tag:noindex
X-PUBLISHED-TTL:PT1H
BEGIN:VTIMEZONE
TZID:Europe/Paris
BEGIN:DAYLIGHT
TZOFFSETFROM:+0100
TZOFFSETTO:+0200
TZNAME:CEST
DTSTART:20220327T010000
END:DAYLIGHT
BEGIN:STANDARD
TZOFFSETFROM:+0200
TZOFFSETTO:+0100
TZNAME:CET
DTSTART:20221030T010000
END:STANDARD
BEGIN:DAYLIGHT
TZOFFSETFROM:+0100
TZOFFSETTO:+0200
TZNAME:CEST
DTSTART:20230326T010000
END:DAYLIGHT
BEGIN:STANDARD
TZOFFSETFROM:+0200
TZOFFSETTO:+0100
TZNAME:CET
DTSTART:20231029T010000
END:STANDARD
BEGIN:DAYLIGHT
TZOFFSETFROM:+0100
TZOFFSETTO:+0200
TZNAME:CEST
DTSTART:20240331T010000
END:DAYLIGHT
BEGIN:STANDARD
TZOFFSETFROM:+0200
TZOFFSETTO:+0100
TZNAME:CET
DTSTART:20241027T010000
END:STANDARD
END:VTIMEZONE
BEGIN:VEVENT
DTSTART;TZID=Europe/Paris:20231003T130000
DTEND;TZID=Europe/Paris:20231003T180000
DTSTAMP:20260422T131554
CREATED:20230926T125736Z
LAST-MODIFIED:20230926T130042Z
UID:22195-1696338000-1696356000@www.ville-yutz.fr
SUMMARY:Portes ouvertes des Mamies tricoteuses
DESCRIPTION:Exposition et vente de tricots pour enfants et adultes
URL:https://www.ville-yutz.fr/event/exposition-et-vente-des-mamies-tricoteuses/
LOCATION:Résidence Les Bleuets\, 7 Rue Mgr Schmitt\, Yutz\, 57970
CATEGORIES:Culture,Solidarité
ATTACH;FMTTYPE=image/jpeg:https://www.ville-yutz.fr/wp-content/uploads/2023/09/Exposition-Mamies-tricoteuse-de-YUTZ-le-3-octobre-2023.jpg
END:VEVENT
BEGIN:VEVENT
DTSTART;TZID=Europe/Paris:20231007T130000
DTEND;TZID=Europe/Paris:20231007T170000
DTSTAMP:20260422T131554
CREATED:20231003T134106Z
LAST-MODIFIED:20231003T134858Z
UID:22328-1696683600-1696698000@www.ville-yutz.fr
SUMMARY:Forum séniors "Bien vieillir à Yutz"
DESCRIPTION:DE NOMBREUX PARTENAIRES PRÉSENTS :\n\nUne vingtaine de partenaires seront présents pour promouvoir leurs missions et informer le public des activités\, des services\, prestations… dont il pourrait bénéficier :\n\n\n\n 	C.C.A.S. – Ville de Yutz\n\n \n\n 	Seniors Connect – groupe SOS seniors\n\n \n\n 	Fédération ADMR de la Moselle – Monalisa\n\n \n\n 	Fédération Seniors Moselle (F.S.M.)\n\n \n\n 	E.H.P.A.D. les Érables – groupe SOS seniors\n\n \n\n 	Résidence Autonomie « Les Bleuets »\n\n \n\n 	ACTIVE – dispositif d’information sur les mesures de protection juridique et de soutien aux tuteurs familiaux\n\n \n\n 	AGIRC ARCCO – agence conseil retraite\n\n \n\n 	A.D.I.L. 57 – agence départementale d’information sur le logement\n\n \n\n 	CALM-SOLIHA Moselle – amélioration de l’habitat\n\n \n\n 	Association Un Toit 2 Générations – groupe SOS seniors\, dispositif de cohabitation solidaire intergénérationnelle\n\n \n\n 	VIVEST – bailleur public/logement seniors\n\n \n\n 	Batigère Grand Est – bailleur public/programme de logement seniors\n\n \n\n 	France Alzheimer et maladies apparentées Moselle\n\n \n\n 	Association les Alizés – animation seniors\n\n \n\n 	Comité départemental d’Athlétisme 57 – ateliers santé et loisirs dans la Région Grand Est\n\n \n\n 	C.L.C.V.\n\n \n\n 	Centre Social Ô Couleurs du Monde – action sociale et animation seniors
URL:https://www.ville-yutz.fr/event/forum-seniors-bien-vieillir-a-yutz/
LOCATION:Salle Bestien
CATEGORIES:Solidarité
ATTACH;FMTTYPE=image/jpeg:https://www.ville-yutz.fr/wp-content/uploads/2023/10/2023-10-07-forum-seniors-scaled.jpg
END:VEVENT
BEGIN:VEVENT
DTSTART;VALUE=DATE:20231011
DTEND;VALUE=DATE:20231013
DTSTAMP:20260422T131554
CREATED:20231006T151135Z
LAST-MODIFIED:20231006T151135Z
UID:22493-1696982400-1697155199@www.ville-yutz.fr
SUMMARY:Banquet des Aînés
DESCRIPTION:
URL:https://www.ville-yutz.fr/event/banquet-des-aines/
LOCATION:L’amphY\, 126 rue de la République\, YUTZ\, 57970\, France
CATEGORIES:Solidarité
END:VEVENT
BEGIN:VEVENT
DTSTART;VALUE=DATE:20231013
DTEND;VALUE=DATE:20231015
DTSTAMP:20260422T131554
CREATED:20231003T163319Z
LAST-MODIFIED:20231003T163319Z
UID:22355-1697155200-1697327999@www.ville-yutz.fr
SUMMARY:Opération "Brioches de l'amitié" 2023
DESCRIPTION:La Ville de Yutz participe à l’opération « Brioches de l’amitié » organisée par l’Association de Parents et Amis de Personnes Inadaptées Mentales (A.P.E.I.).\n\n\n\nLa vente des brioches se fera sur plusieurs sites.\n\n\n\n– Vendredi 13 octobre 2023 : Esplanade de la Brasserie sur le marché hebdomadaire et sur les 9 sites du périscolaire.\n\n\n\n– Vendredi 13 et samedi 14 octobre : Supermarchés Match et Carrefour Market\n\n\n\n– Samedi 14 octobre de 8h à 16h : Porte-à-porte en partenariat avec les associations.\n\n\n\nNous vous remercions par avance du bon accueil que vous réserverez aux bénévoles et pour votre générosité qui contribuera à la création d’un foyer d’accueil pour personnes handicapées adultes sur le site de Volkrange.
URL:https://www.ville-yutz.fr/event/operation-brioches-de-lamitie-2023/
LOCATION:YUTZ
CATEGORIES:Solidarité
ATTACH;FMTTYPE=image/jpeg:https://www.ville-yutz.fr/wp-content/uploads/2023/10/2023-10-13-et-14-Brioches-de-lamitie-2023-scaled.jpg
END:VEVENT
BEGIN:VEVENT
DTSTART;TZID=Europe/Paris:20231014T080000
DTEND;TZID=Europe/Paris:20231014T130000
DTSTAMP:20260422T131554
CREATED:20231003T135410Z
LAST-MODIFIED:20231003T135410Z
UID:22333-1697270400-1697288400@www.ville-yutz.fr
SUMMARY:Foire à la coloquinte
DESCRIPTION:La recette de la vente permettra de financer des aides alimentaires pour des réfugiés.
URL:https://www.ville-yutz.fr/event/foire-a-la-coloquinte-3/
LOCATION:Esplanade de la Brasserie\, Yutz\, 57970
CATEGORIES:Solidarité
ATTACH;FMTTYPE=image/jpeg:https://www.ville-yutz.fr/wp-content/uploads/2023/10/2023-10-14-foire-coloquinte-scaled.jpg
ORGANIZER;CN="FADAMA":MAILTO:fadama@free.fr
END:VEVENT
BEGIN:VEVENT
DTSTART;TZID=Europe/Paris:20231017T153000
DTEND;TZID=Europe/Paris:20231017T193000
DTSTAMP:20260422T131554
CREATED:20230414T101538Z
LAST-MODIFIED:20230414T101538Z
UID:18192-1697556600-1697571000@www.ville-yutz.fr
SUMMARY:Collecte de sang
DESCRIPTION:Pour donner votre sang\, vous devez : \n\nÊtre âgé(e) de 18 à 70 ans\nPeser au moins 50kg\nÊtre reconnu(e) apte au don lors de l’entretien préalable au don\nÊtre muni(e) d’une pièce d’identité avec photo\nManger avant et bien vous hydrater tout au long du parcours\nAvant de vous déplacer\, faites le test en ligne « Puis-je donner mon sang ? » : eftests.link/\n\n  \n Les étapes du don de sang :\n\n\nAccueil et inscription\nQuestionnaire et entretien préalable au don\nPrélèvement (10 min)\nPause A+ (collation)\nDe l’inscription à la pause A+\, prévoyez entre 45 min et 1h.\n\n\nPrenez 1h pour sauver 3 vies !
URL:https://www.ville-yutz.fr/event/collecte-de-sang-6/
LOCATION:L’amphY\, 126 rue de la République\, YUTZ\, 57970\, France
CATEGORIES:Solidarité
ATTACH;FMTTYPE=image/jpeg:https://www.ville-yutz.fr/wp-content/uploads/2022/07/Collecte-de-sang-amphY.jpg
END:VEVENT
BEGIN:VEVENT
DTSTART;TZID=Europe/Paris:20231025T180000
DTEND;TZID=Europe/Paris:20231025T180000
DTSTAMP:20260422T131554
CREATED:20231020T141042Z
LAST-MODIFIED:20231023T150559Z
UID:22940-1698256800-1698256800@www.ville-yutz.fr
SUMMARY:Réunion publique : présentation de l'Accorderie
DESCRIPTION:Une Accorderie vise à lutter contre la pauvreté et l’exclusion en renforçant les solidarités entre des personnes d’âges\, de classes sociales\, de nationalités et de sexes différents. \nElle propose un système non marchand d’échanges de services entre particuliers sur le principe : « une heure de service rendu = une heure de service reçu ».
URL:https://www.ville-yutz.fr/event/presentation-de-laccorderie/
LOCATION:Salle Bestien
CATEGORIES:Solidarité
ATTACH;FMTTYPE=image/jpeg:https://www.ville-yutz.fr/wp-content/uploads/2023/10/LAccorderie-flyer-reunion-publique-scaled.jpg
END:VEVENT
END:VCALENDAR