BEGIN:VCALENDAR
VERSION:2.0
PRODID:-//Ville de Yutz - ECPv6.15.16//NONSGML v1.0//EN
CALSCALE:GREGORIAN
METHOD:PUBLISH
X-ORIGINAL-URL:https://www.ville-yutz.fr
X-WR-CALDESC:Évènements pour Ville de Yutz
REFRESH-INTERVAL;VALUE=DURATION:PT1H
X-Robots-Tag:noindex
X-PUBLISHED-TTL:PT1H
BEGIN:VTIMEZONE
TZID:Europe/Paris
BEGIN:DAYLIGHT
TZOFFSETFROM:+0100
TZOFFSETTO:+0200
TZNAME:CEST
DTSTART:20220327T010000
END:DAYLIGHT
BEGIN:STANDARD
TZOFFSETFROM:+0200
TZOFFSETTO:+0100
TZNAME:CET
DTSTART:20221030T010000
END:STANDARD
BEGIN:DAYLIGHT
TZOFFSETFROM:+0100
TZOFFSETTO:+0200
TZNAME:CEST
DTSTART:20230326T010000
END:DAYLIGHT
BEGIN:STANDARD
TZOFFSETFROM:+0200
TZOFFSETTO:+0100
TZNAME:CET
DTSTART:20231029T010000
END:STANDARD
BEGIN:DAYLIGHT
TZOFFSETFROM:+0100
TZOFFSETTO:+0200
TZNAME:CEST
DTSTART:20240331T010000
END:DAYLIGHT
BEGIN:STANDARD
TZOFFSETFROM:+0200
TZOFFSETTO:+0100
TZNAME:CET
DTSTART:20241027T010000
END:STANDARD
END:VTIMEZONE
BEGIN:VEVENT
DTSTART;TZID=Europe/Paris:20230701T170000
DTEND;TZID=Europe/Paris:20230701T170000
DTSTAMP:20260422T174131
CREATED:20230616T144007Z
LAST-MODIFIED:20230616T144007Z
UID:19861-1688230800-1688230800@www.ville-yutz.fr
SUMMARY:Blue Run
DESCRIPTION:Il  s’agit d’une course relais ou en solitaire de 5 ou 10KM. La course est ouverte aux marcheurs !\n\n\nLes nouveautés dès 17h : goodies\, marché des artisans\, animations\, …\n\nCette année\, cette course est organisée en faveur de deux associations caritatives : l’Association Grégory Lemarchal & Les P’tits Potos.
URL:https://www.ville-yutz.fr/event/blue-run/
LOCATION:Décathlon Village\, Zac Meilbourg\, Route d'Illange\, Yutz\, 57970
CATEGORIES:Solidarité,Sports
ATTACH;FMTTYPE=image/jpeg:https://www.ville-yutz.fr/wp-content/uploads/2023/06/2023-07-01-blue-run.jpg
END:VEVENT
BEGIN:VEVENT
DTSTART;TZID=Europe/Paris:20230705T160000
DTEND;TZID=Europe/Paris:20230705T183000
DTSTAMP:20260422T174131
CREATED:20230623T154436Z
LAST-MODIFIED:20230623T154436Z
UID:19931-1688572800-1688581800@www.ville-yutz.fr
SUMMARY:Après-midi Guinguette
DESCRIPTION:
URL:https://www.ville-yutz.fr/event/apres-midi-guinguette/
LOCATION:Aéroparc
CATEGORIES:Culture,Solidarité
ATTACH;FMTTYPE=image/jpeg:https://www.ville-yutz.fr/wp-content/uploads/2023/06/2023-07-05-apres-midi-guinguette.jpg
END:VEVENT
BEGIN:VEVENT
DTSTART;TZID=Europe/Paris:20230712T153000
DTEND;TZID=Europe/Paris:20230712T193000
DTSTAMP:20260422T174131
CREATED:20230414T101243Z
LAST-MODIFIED:20230414T101243Z
UID:18188-1689175800-1689190200@www.ville-yutz.fr
SUMMARY:Collecte de sang
DESCRIPTION:Pour donner votre sang\, vous devez : \n\nÊtre âgé(e) de 18 à 70 ans\nPeser au moins 50kg\nÊtre reconnu(e) apte au don lors de l’entretien préalable au don\nÊtre muni(e) d’une pièce d’identité avec photo\nManger avant et bien vous hydrater tout au long du parcours\nAvant de vous déplacer\, faites le test en ligne « Puis-je donner mon sang ? » : eftests.link/\n\n  \n Les étapes du don de sang :\n\n\nAccueil et inscription\nQuestionnaire et entretien préalable au don\nPrélèvement (10 min)\nPause A+ (collation)\nDe l’inscription à la pause A+\, prévoyez entre 45 min et 1h.\n\n\nPrenez 1h pour sauver 3 vies !
URL:https://www.ville-yutz.fr/event/collecte-de-sang-4/
LOCATION:l’amphY\, 126 rue de la république\, yutz\, 57970\, France
CATEGORIES:Solidarité
ATTACH;FMTTYPE=image/jpeg:https://www.ville-yutz.fr/wp-content/uploads/2022/07/Collecte-de-sang-amphY.jpg
END:VEVENT
END:VCALENDAR