BEGIN:VCALENDAR
VERSION:2.0
PRODID:-//Ville de Yutz - ECPv6.15.16//NONSGML v1.0//EN
CALSCALE:GREGORIAN
METHOD:PUBLISH
X-WR-CALNAME:Ville de Yutz
X-ORIGINAL-URL:https://www.ville-yutz.fr
X-WR-CALDESC:Évènements pour Ville de Yutz
REFRESH-INTERVAL;VALUE=DURATION:PT1H
X-Robots-Tag:noindex
X-PUBLISHED-TTL:PT1H
BEGIN:VTIMEZONE
TZID:Europe/Paris
BEGIN:DAYLIGHT
TZOFFSETFROM:+0100
TZOFFSETTO:+0200
TZNAME:CEST
DTSTART:20240331T010000
END:DAYLIGHT
BEGIN:STANDARD
TZOFFSETFROM:+0200
TZOFFSETTO:+0100
TZNAME:CET
DTSTART:20241027T010000
END:STANDARD
BEGIN:DAYLIGHT
TZOFFSETFROM:+0100
TZOFFSETTO:+0200
TZNAME:CEST
DTSTART:20250330T010000
END:DAYLIGHT
BEGIN:STANDARD
TZOFFSETFROM:+0200
TZOFFSETTO:+0100
TZNAME:CET
DTSTART:20251026T010000
END:STANDARD
BEGIN:DAYLIGHT
TZOFFSETFROM:+0100
TZOFFSETTO:+0200
TZNAME:CEST
DTSTART:20260329T010000
END:DAYLIGHT
BEGIN:STANDARD
TZOFFSETFROM:+0200
TZOFFSETTO:+0100
TZNAME:CET
DTSTART:20261025T010000
END:STANDARD
END:VTIMEZONE
BEGIN:VEVENT
DTSTART;VALUE=DATE:20250605
DTEND;VALUE=DATE:20250606
DTSTAMP:20260421T194912
CREATED:20250602T144743Z
LAST-MODIFIED:20250602T144743Z
UID:40785-1749081600-1749167999@www.ville-yutz.fr
SUMMARY:Journée portes ouvertes de l'AFPA
DESCRIPTION:Vous avez des projets professionnels en tête ou êtes à la recherche d’inspiration pour votre carrière ?\n\nCette journée portes ouvertes va vous permettre de :\n\nVous informer sur les métiers et les formations adaptés à votre profil\,\nFaire le point sur les solutions d’accompagnement personnalisées qui répondront à vos besoins\,\nÉchanger avec des conseillers expérimentés pour découvrir les différentes prises en charge de votre projet\,\nVisiter les ateliers de formation de l’AFPA pour vous immerger dans son environnement pédagogique\,\nRencontrer les formateurs et échanger avec des stagiaires en formation\,\nAssister à des ateliers et des conférences pratiques.\n\nUne occasion de découvrir les 250 métiers que l’AFPA vous propose en formation et particulièrement ceux accessibles à Yutz.\nInscrivez-vous dès maintenant : https://evenement.afpa.fr/registration/67f3a301749ce127a3f2c756?force_new_registration=false\n\nHeures d’ouverture : de 9h00 à 12h30  et de 13h30 à 16h00
URL:https://www.ville-yutz.fr/event/journee-portes-ouvertes-de-lafpa-2/
LOCATION:AFPA de Thionville-Yutz\, Route d'Illange\, YUTZ\, -\, 57970\, France
CATEGORIES:emploi,Scolaire / Formation
ATTACH;FMTTYPE=image/jpeg:https://www.ville-yutz.fr/wp-content/uploads/2025/06/2025-06-05-portes-ouvertes-afpa-scaled.jpg
END:VEVENT
END:VCALENDAR